Workbook

Sheet Автоподбор (стандарт)
B2: Высота | C2: Ширина | D2: Глубина | E2: Высота цоколя | G2: Код | H2: ВП1 | I2: ← Наименование панели
B3: 2000 | C3: 600 | D3: 600 | E3: 100 | F3: ← Выберите габариты шкафа из выплывающих списков | G3: =CONCATENATE(B3,C3,D3) -> 2000600600
B5: Комментарий | F5: Позиция | G5: Наименование | H5: Количество | I5: Артикул | J5: Комментарий по подбору
B6: Стандартный вариант с монтажной панелью
B7: Элементы каркаса | F7: =CONCATENATE("Панель ",H2,". Шкаф ",B3,"х",C3,"х",D3,"мм с цоколем ",E3,"мм") -> Панель ВП1. Шкаф 2000х600х600мм с цоколем 100мм | G7: =VLOOKUP(I7,Артикулы!$A$4:$C$975,3,FALSE()) -> Крыша и основание Ш600хГ600 мм IP55 OptiBox M | H7: 1 | I7: =VLOOKUP($G$3,'Таблица подбора'!$A$2:$Y$116,5,FALSE()) -> 419598 | J7: Стандартный минимальный набор комплектующих для размещения оборудования на монтажной плате. Позволяет реализовать степень секционирования до 2a (при условии размещения шинной сборки за монтажной платой)
G8: =VLOOKUP(I8,Артикулы!$A$4:$C$975,3,FALSE()) -> Стойки вертикальные В=2000 мм рамы OptiBox M (4 шт) | H8: 1 | I8: =VLOOKUP($G$3,'Таблица подбора'!$A$2:$Y$116,6,FALSE()) -> 419607
B9: Дверь | G9: =VLOOKUP(I9,Артикулы!$A$4:$C$975,3,FALSE()) -> Дверь одностворчатая глухая 2000х600 мм IP55 OptiBox M | H9: 1 | I9: =VLOOKUP($G$3,'Таблица подбора'!$A$2:$Y$116,7,FALSE()) -> 419634
B10: Задняя панель | G10: =VLOOKUP(I10,Артикулы!$A$4:$C$975,3,FALSE()) -> Панель задняя 2000х600 мм IP55 OptiBox M | H10: 1 | I10: =VLOOKUP($G$3,'Таблица подбора'!$A$2:$Y$116,8,FALSE()) -> 419681
B11: Комплект боковых панелей (один на сборку) | G11: =VLOOKUP(I11,Артикулы!$A$4:$C$975,3,FALSE()) -> Панель боковая 2000х600 мм IP55 OptiBox M (2 шт) | H11: 1 | I11: =VLOOKUP($G$3,'Таблица подбора'!$A$2:$Y$116,9,FALSE()) -> 419658
B12: Элементы цоколя | G12: =VLOOKUP(I12,Артикулы!$A$4:$C$975,3,FALSE()) -> Опоры цоколя угловые В=100 мм RAL7022 OptiBox M (4 шт) | H12: 1 | I12: =IF($E$3=100,VLOOKUP($G$3,'Таблица подбора'!$A$2:$Y$116,10,FALSE()),VLOOKUP($G$3,'Таблица подбора'!$A$2:$Y$116,11,FALSE())) -> 419688
G13: =VLOOKUP(I13,Артикулы!$A$4:$C$975,3,FALSE()) -> Панель цоколя В=100 Ш=600 мм RAL7022 OptiBox M (2 шт) | H13: 1 | I13: =IF($E$3=100,VLOOKUP($G$3,'Таблица подбора'!$A$2:$Y$116,12,FALSE()),VLOOKUP($G$3,'Таблица подбора'!$A$2:$Y$116,14,FALSE())) -> 419692
B14: Панели боковые цоколя (один комплект на сборку) | G14: =VLOOKUP(I14,Артикулы!$A$4:$C$975,3,FALSE()) -> Панель цоколя В=100 Ш=600 мм RAL7022 OptiBox M (2 шт) | H14: 1 | I14: =IF($E$3=100,VLOOKUP($G$3,'Таблица подбора'!$A$2:$Y$116,13,FALSE()),VLOOKUP($G$3,'Таблица подбора'!$A$2:$Y$116,15,FALSE())) -> 419692
B15: Универсальная монтажная панель | G15: =VLOOKUP(I15,Артикулы!$A$4:$C$975,3,FALSE()) -> Панель монтажная В2000хШ600 мм OptiBox M | H15: 1 | I15: =VLOOKUP($G$3,'Таблица подбора'!$A$2:$Y$116,16,FALSE()) -> 419716
B16: Монтажная траверса | G16: =VLOOKUP(I16,Артикулы!$A$4:$C$975,3,FALSE()) -> Траверса монтажная 600 мм OptiBox M (2 шт) | H16: 1 | I16: =VLOOKUP($G$3,'Таблица подбора'!$A$2:$Z$116,26,FALSE()) -> 419866
B17: Кронштейны крепления монтажной панели | G17: Кронштейны крепления монтажной панели OptiBox M (6 шт) | H17: 1 | I17: 419752
B18: Рым-болты | G18: Рым-болт М12 OptiBox M (4 шт) | H18: 1 | I18: 419726
B19: Комплект соединительный (на 1 шт. меньше кол-ва панелей) | G19: =VLOOKUP(I19,Артикулы!$A$4:$C$975,3,FALSE()) -> Комплект соединительный OptiBox M | H19: 1 | I19: 419725
B20: Стандартный вариант с рейками
B21: Элементы каркаса | F21: =CONCATENATE("Панель ",H2,". Шкаф ",B3,"х",C3,"х",D3,"мм с цоколем ",E3,"мм") -> Панель ВП1. Шкаф 2000х600х600мм с цоколем 100мм | G21: =VLOOKUP(I21,Артикулы!$A$4:$C$975,3,FALSE()) -> Крыша и основание Ш600хГ600 мм IP55 OptiBox M | H21: 1 | I21: =VLOOKUP($G$3,'Таблица подбора'!$A$2:$Y$116,5,FALSE()) -> 419598 | J21: Стандартный минимальный набор комплектующих для размещения оборудования на рейках. Позволяет реализовать степень секционирования до 1 (без внутреннего разделения)
G22: =VLOOKUP(I22,Артикулы!$A$4:$C$975,3,FALSE()) -> Стойки вертикальные В=2000 мм рамы OptiBox M (4 шт) | H22: 1 | I22: =VLOOKUP($G$3,'Таблица подбора'!$A$2:$Y$116,6,FALSE()) -> 419607
B23: Дверь | G23: =VLOOKUP(I23,Артикулы!$A$4:$C$975,3,FALSE()) -> Дверь одностворчатая глухая 2000х600 мм IP55 OptiBox M | H23: 1 | I23: =VLOOKUP($G$3,'Таблица подбора'!$A$2:$Y$116,7,FALSE()) -> 419634
B24: Задняя панель | G24: =VLOOKUP(I24,Артикулы!$A$4:$C$975,3,FALSE()) -> Панель задняя 2000х600 мм IP55 OptiBox M | H24: 1 | I24: =VLOOKUP($G$3,'Таблица подбора'!$A$2:$Y$116,8,FALSE()) -> 419681
B25: Комплект боковых панелей (один на сборку) | G25: =VLOOKUP(I25,Артикулы!$A$4:$C$975,3,FALSE()) -> Панель боковая 2000х600 мм IP55 OptiBox M (2 шт) | H25: 1 | I25: =VLOOKUP($G$3,'Таблица подбора'!$A$2:$Y$116,9,FALSE()) -> 419658
B26: Элементы цоколя | G26: =VLOOKUP(I26,Артикулы!$A$4:$C$975,3,FALSE()) -> Опоры цоколя угловые В=100 мм RAL7022 OptiBox M (4 шт) | H26: 1 | I26: =IF($E$3=100,VLOOKUP($G$3,'Таблица подбора'!$A$2:$Y$116,10,FALSE()),VLOOKUP($G$3,'Таблица подбора'!$A$2:$Y$116,11,FALSE())) -> 419688
G27: =VLOOKUP(I27,Артикулы!$A$4:$C$975,3,FALSE()) -> Панель цоколя В=100 Ш=600 мм RAL7022 OptiBox M (2 шт) | H27: 1 | I27: =IF($E$3=100,VLOOKUP($G$3,'Таблица подбора'!$A$2:$Y$116,12,FALSE()),VLOOKUP($G$3,'Таблица подбора'!$A$2:$Y$116,14,FALSE())) -> 419692
B28: Панели боковые цоколя (один комплект на сборку) | G28: =VLOOKUP(I28,Артикулы!$A$4:$C$975,3,FALSE()) -> Панель цоколя В=100 Ш=600 мм RAL7022 OptiBox M (2 шт) | H28: 1 | I28: =IF($E$3=100,VLOOKUP($G$3,'Таблица подбора'!$A$2:$Y$116,13,FALSE()),VLOOKUP($G$3,'Таблица подбора'!$A$2:$Y$116,15,FALSE())) -> 419692
B29: Рейки монтажные | G29: =VLOOKUP(I29,Артикулы!$A$4:$C$975,3,FALSE()) -> Рейка боковая 600х49 мм OptiBox M (2 шт) | H29: 4 | I29: =VLOOKUP($G$3,'Таблица подбора'!$A$2:$Y$116,24,FALSE()) -> 419730
G30: =VLOOKUP(I30,Артикулы!$A$4:$C$975,3,FALSE()) -> Рейка поперечная 600х49 мм OptiBox M (2 шт) | H30: 2 | I30: =VLOOKUP($G$3,'Таблица подбора'!$A$2:$Y$116,25,FALSE()) -> 419740
B31: Рым-болты | G31: Рым-болт М12 OptiBox M (4 шт) | H31: 1 | I31: 419726
B32: Комплект соединительный (на 1 шт. меньше кол-ва панелей) | G32: =VLOOKUP(I32,Артикулы!$A$4:$C$975,3,FALSE()) -> Комплект соединительный OptiBox M | H32: 1 | I32: 419725
B33: Дополнительные элементы
B34: Для установки OptiMat A без функциональных блоков | G34: =VLOOKUP(I34,Артикулы!$A$4:$C$975,3,FALSE()) -> Полка воздушного автоматического выключателя Ш600 мм OptiBox M | H34: 1 | I34: =VLOOKUP($G$3,'Таблица подбора'!$A$2:$Y$116,17,FALSE()) -> 419159 | J34: Комплектующие для установки воздушных выключателей (не устанавливается совместно с монтажной платой)
G35: =VLOOKUP(I35,Артикулы!$A$4:$C$975,3,FALSE()) -> Рейка поперечная 600х49 мм OptiBox M (2 шт) | H35: 1 | I35: =VLOOKUP($G$3,'Таблица подбора'!$A$2:$Y$116,18,FALSE()) -> 419740
B36: Универсальные монтажные рейки (на 1 поперечную 2 боковые) | G36: =VLOOKUP(I36,Артикулы!$A$4:$C$975,3,FALSE()) -> Рейка поперечная 600х49 мм OptiBox M (2 шт) | H36: 1 | I36: =VLOOKUP($G$3,'Таблица подбора'!$A$2:$Y$116,20,FALSE()) -> 419740 | J36: 2-х рядные рейки (все поперечные)
G37: =VLOOKUP(I37,Артикулы!$A$4:$C$975,3,FALSE()) -> Рейка поперечная 650х49 мм OptiBox M (2 шт) | H37: 1 | I37: =VLOOKUP($G$3,'Таблица подбора'!$A$2:$Y$116,22,FALSE()) -> 419979
G38: =VLOOKUP(I38,Артикулы!$A$4:$C$975,3,FALSE()) -> Рейка поперечная 600х74 мм OptiBox M (2 шт) | H38: 1 | I38: =VLOOKUP($G$3,'Таблица подбора'!$A$2:$Y$116,19,FALSE()) -> 419745 | J38: Широкие (3-х рядные) рейки
G39: =VLOOKUP(I39,Артикулы!$A$4:$C$975,3,FALSE()) -> Рейка поперечная 650х74 мм OptiBox M (2 шт) | H39: 1 | I39: =VLOOKUP($G$3,'Таблица подбора'!$A$2:$Y$116,21,FALSE()) -> 419985
G40: =VLOOKUP(I40,Артикулы!$A$4:$C$975,3,FALSE()) -> Рейка боковая 600х49 мм OptiBox M (2 шт) | H40: 1 | I40: =VLOOKUP($G$3,'Таблица подбора'!$A$2:$Y$116,24,FALSE()) -> 419730 | J40: Вариант с боковой и поперечной рейками
G41: =VLOOKUP(I41,Артикулы!$A$4:$C$975,3,FALSE()) -> Рейка поперечная 600х49 мм OptiBox M (2 шт) | H41: 1 | I41: =VLOOKUP($G$3,'Таблица подбора'!$A$2:$Y$116,25,FALSE()) -> 419740
B42: Варианты для последующих панелей в сборке
B43: Вариант для последующих панелей | F43: =F7 -> Панель ВП1. Шкаф 2000х600х600мм с цоколем 100мм | G43: =G7 -> Крыша и основание Ш600хГ600 мм IP55 OptiBox M | H43: =H7 -> 1 | I43: =I7 -> 419598 | J43: Стандартный минимальный набор комплектующих для размещения оборудования на монтажной плате для последующих после первой панелей в сборке (удалены боковые панели и комплект боковых панелей цоколя)
G44: =G8 -> Стойки вертикальные В=2000 мм рамы OptiBox M (4 шт) | H44: =H8 -> 1 | I44: =I8 -> 419607
G45: =G9 -> Дверь одностворчатая глухая 2000х600 мм IP55 OptiBox M | H45: =H9 -> 1 | I45: =I9 -> 419634
G46: =G10 -> Панель задняя 2000х600 мм IP55 OptiBox M | H46: =H10 -> 1 | I46: =I10 -> 419681
G47: =G12 -> Опоры цоколя угловые В=100 мм RAL7022 OptiBox M (4 шт) | H47: =H12 -> 1 | I47: =I12 -> 419688
G48: =G13 -> Панель цоколя В=100 Ш=600 мм RAL7022 OptiBox M (2 шт) | H48: =H13 -> 1 | I48: =I13 -> 419692
G49: =G15 -> Панель монтажная В2000хШ600 мм OptiBox M | H49: =H15 -> 1 | I49: =I15 -> 419716
G50: =G16 -> Траверса монтажная 600 мм OptiBox M (2 шт) | H50: =H16 -> 1 | I50: =I16 -> 419866
G51: =G17 -> Кронштейны крепления монтажной панели OptiBox M (6 шт) | H51: =H17 -> 1 | I51: =I17 -> 419752
G52: Рым-болт М12 OptiBox M (4 шт) | H52: 1 | I52: 419726
G53: Комплект соединительный OptiBox M | H53: 1 | I53: 419725
B54: Вариант для последующих панелей | F54: =F21 -> Панель ВП1. Шкаф 2000х600х600мм с цоколем 100мм | G54: =G21 -> Крыша и основание Ш600хГ600 мм IP55 OptiBox M | H54: =H21 -> 1 | I54: =I21 -> 419598 | J54: Стандартный минимальный набор комплектующих для размещения оборудования на рейках для последующих после первой панелей в сборке (удалены боковые панели и комплект боковых панелей цоколя)
G55: =G22 -> Стойки вертикальные В=2000 мм рамы OptiBox M (4 шт) | H55: =H22 -> 1 | I55: =I22 -> 419607
G56: =G23 -> Дверь одностворчатая глухая 2000х600 мм IP55 OptiBox M | H56: =H23 -> 1 | I56: =I23 -> 419634
G57: =G24 -> Панель задняя 2000х600 мм IP55 OptiBox M | H57: =H24 -> 1 | I57: =I24 -> 419681
G58: =G26 -> Опоры цоколя угловые В=100 мм RAL7022 OptiBox M (4 шт) | H58: =H26 -> 1 | I58: =I26 -> 419688
G59: =G27 -> Панель цоколя В=100 Ш=600 мм RAL7022 OptiBox M (2 шт) | H59: =H27 -> 1 | I59: =I27 -> 419692
G60: =G29 -> Рейка боковая 600х49 мм OptiBox M (2 шт) | H60: =H29 -> 4 | I60: =I29 -> 419730
G61: =G30 -> Рейка поперечная 600х49 мм OptiBox M (2 шт) | H61: =H30 -> 2 | I61: =I30 -> 419740
G62: =G31 -> Рым-болт М12 OptiBox M (4 шт) | H62: =H31 -> 1 | I62: =I31 -> 419726
G63: =G32 -> Комплект соединительный OptiBox M | H63: =H32 -> 1 | I63: =I32 -> 419725

Sheet Автоподбор (секционирование)
B2: Высота | C2: Ширина | D2: Глубина | E2: Высота цоколя | G2: Код | H2: ВП1 | I2: ← Наименование панели
B3: 2000 | C3: 600 | D3: 600 | E3: 100 | F3: ← Выберите габариты шкафа из выплывающих списков | G3: =CONCATENATE(B3,C3,D3) -> 2000600600
B4: Высота функц. Блока (до 400) | C4: Высота функц. Блока (от 400 до 600) | D4: Глубина функц. Блока | E4: Кабельный отсек | F4: Глубина функционального блока не должна быть больше глубины каркаса
B5: 300 | C5: 600 | D5: 400 | E5: Нет | F5: ← Выберите габариты функциональных блоков из выплывающих списков
B6: Подбор названия элемента OptiBox M по артикулу → | F6: 419765 | G6: =VLOOKUP(F6,Артикулы!A:B,2,FALSE()) -> Ввод кабельный 3 сальника (25 шт) | H6: 1 | I6: =F6 -> 419765
B7: Подбор артикула элемента OptiBox M по наименованию → | F7: Пластрон глухой 400х800 мм OptiBox M | G7: =F7 -> Пластрон глухой 400х800 мм OptiBox M | H7: 1 | I7: =VLOOKUP(F7,Артикулы!C:D,2,FALSE()) -> 419410
B9: Комментарий | F9: Позиция | G9: Наименование | H9: Количество | I9: Артикул | J9: Комментарий по подбору
B10: Внутренняя модульная система (пластроны)
B11: Элементы каркаса | F11: =CONCATENATE("Панель ",H2,". Шкаф ",B3,"х",C3,"х",D3,"мм с цоколем ",E3,"мм") -> Панель ВП1. Шкаф 2000х600х600мм с цоколем 100мм | G11: =VLOOKUP(I11,Артикулы!$A$4:$C$975,3,FALSE()) -> Крыша и основание Ш600хГ600 мм IP55 OptiBox M | H11: 1 | I11: =VLOOKUP($G$3,'Таблица подбора'!$A$2:$Y$116,5,FALSE()) -> 419598 | J11: Стандартный набор комплектующих для размещения оборудования в функциональных блоках, закрытых пластронами за общей дверью. Позволяет реализовать степень секционирования до 4a при одностороннем обслуживании. Для реализации 4b и двухстороннего обслуживания требуются дополнительные элементы.
G12: =VLOOKUP(I12,Артикулы!$A$4:$C$975,3,FALSE()) -> Стойки вертикальные В=2000 мм рамы OptiBox M (4 шт) | H12: 1 | I12: =VLOOKUP($G$3,'Таблица подбора'!$A$2:$Y$116,6,FALSE()) -> 419607
B13: Дверь | G13: =IF(E5="Нет",VLOOKUP(I13,Артикулы!$A$4:$C$975,3,FALSE()),"Не требуется") -> Дверь одностворчатая глухая 2000х600 мм IP55 OptiBox M | H13: 1 | I13: =VLOOKUP($G$3,'Таблица подбора'!$A$2:$Y$116,7,FALSE()) -> 419634
B14: Задняя панель | G14: =VLOOKUP(I14,Артикулы!$A$4:$C$975,3,FALSE()) -> Панель задняя 2000х600 мм IP55 OptiBox M | H14: 1 | I14: =VLOOKUP($G$3,'Таблица подбора'!$A$2:$Y$116,8,FALSE()) -> 419681
B15: Комплект боковых панелей (один на сборку) | G15: =VLOOKUP(I15,Артикулы!$A$4:$C$975,3,FALSE()) -> Панель боковая 2000х600 мм IP55 OptiBox M (2 шт) | H15: 1 | I15: =VLOOKUP($G$3,'Таблица подбора'!$A$2:$Y$116,9,FALSE()) -> 419658
B16: Элементы цоколя | G16: =VLOOKUP(I16,Артикулы!$A$4:$C$975,3,FALSE()) -> Опоры цоколя угловые В=100 мм RAL7022 OptiBox M (4 шт) | H16: 1 | I16: =IF($E$3=100,VLOOKUP($G$3,'Таблица подбора'!$A$2:$Y$116,10,FALSE()),VLOOKUP($G$3,'Таблица подбора'!$A$2:$Y$116,11,FALSE())) -> 419688
G17: =VLOOKUP(I17,Артикулы!$A$4:$C$975,3,FALSE()) -> Панель цоколя В=100 Ш=600 мм RAL7022 OptiBox M (2 шт) | H17: 1 | I17: =IF($E$3=100,VLOOKUP($G$3,'Таблица подбора'!$A$2:$Y$116,12,FALSE()),VLOOKUP($G$3,'Таблица подбора'!$A$2:$Y$116,14,FALSE())) -> 419692
B18: Панели боковые цоколя (один комплект на сборку) | G18: =VLOOKUP(I18,Артикулы!$A$4:$C$975,3,FALSE()) -> Панель цоколя В=100 Ш=600 мм RAL7022 OptiBox M (2 шт) | H18: 1 | I18: =IF($E$3=100,VLOOKUP($G$3,'Таблица подбора'!$A$2:$Y$116,13,FALSE()),VLOOKUP($G$3,'Таблица подбора'!$A$2:$Y$116,15,FALSE())) -> 419692
B19: Обязательные элементы пластронной системы | G19: =VLOOKUP(I19,Артикулы!$A$4:$C$975,3,FALSE()) -> Стойка пластронной системы 2000 мм OptiBox M (2 шт) | H19: 1 | I19: =VLOOKUP($G$3,'Таблица подбора'!$A$2:$AP$116,28,FALSE()) -> 419245
G20: =VLOOKUP(I20,Артикулы!$A$4:$C$975,3,FALSE()) -> Пластроны компенсационные перфорированные 65х600 мм OptiBox M (2 шт) | H20: 1 | I20: =VLOOKUP(IF($E$5="Нет",'Лист 2'!$A$28,'Лист 2'!$A$32),'Таблица подбора функц. блок.'!A:AG,5,FALSE()) -> 419564
G21: =VLOOKUP(I21,Артикулы!$A$4:$C$975,3,FALSE()) -> Доборы пластронной системы 85х600 мм OptiBox M (2 шт) | H21: 1 | I21: =VLOOKUP(IF($E$5="Нет",'Лист 2'!$A$28,'Лист 2'!$A$32),'Таблица подбора функц. блок.'!A:AG,6,FALSE()) -> 419569
G22: =VLOOKUP(I22,Артикулы!$A$4:$C$975,3,FALSE()) -> Пластрон глухой 200х600 мм OptiBox M | H22: 1 | I22: =VLOOKUP(IF($E$5="Нет",'Лист 2'!$A$28,'Лист 2'!$A$32),'Таблица подбора функц. блок.'!A:AG,23,FALSE()) -> 419393
B23: Пластрон функционального блока высотой до 400 мм. | G23: =VLOOKUP(I23,Артикулы!$A$4:$C$975,3,FALSE()) -> Пластрон глухой 300х600 мм OptiBox M | H23: 1 | I23: =VLOOKUP(IF($E$5="Нет",'Лист 2'!$A$28,'Лист 2'!$A$32),'Таблица подбора функц. блок.'!A:AG,7,FALSE()) -> 419401
B24: Пластрон функционального блока высотой от 400 до 600 мм. | G24: =VLOOKUP(I24,Артикулы!$A$4:$C$975,3,FALSE()) -> Пластрон глухой 600х600 мм OptiBox M | H24: 1 | I24: =VLOOKUP(IF($E$5="Нет",'Лист 2'!$A$29,'Лист 2'!$A$33),'Таблица подбора функц. блок.'!A:AG,7,FALSE()) -> 419425
B25: Рейка для установки стойки функционального блока | G25: =IF($D$3>$D$5,VLOOKUP(I25,Артикулы!$A$4:$C$975,3,FALSE()),"Не требуется") -> Рейка поперечная 600х49 мм OptiBox M (2 шт) | H25: 1 | I25: =VLOOKUP($G$3,'Таблица подбора'!$A$2:$AP$116,20,FALSE()) -> 419740
B26: Обязательна для установки функциональных блоков (250 мм.) | G26: =IF($D$3>$D$5,VLOOKUP(I26,Артикулы!$A$4:$C$975,3,FALSE()),"Не требуется") -> Стойка функционального блока вертикальная 1717х63 мм OptiBox M (2 шт) | H26: 1 | I26: =VLOOKUP($G$3,'Таблица подбора'!$A$2:$AP$116,30,FALSE()) -> 419231
B27: Боковая панель функционального блока высотой до 400 мм. | G27: =VLOOKUP(I27,Артикулы!$A$4:$C$975,3,FALSE()) -> Панель боковая функционального блока В300хГ400 мм OptiBox M (2 шт) | H27: 1 | I27: =VLOOKUP('Лист 2'!$A$28,'Таблица подбора функц. блок.'!A:AG,8,FALSE()) -> 419069
B28: Боковая панель функционального блока высотой от 400 до 600 мм. | G28: =VLOOKUP(I28,Артикулы!$A$4:$C$975,3,FALSE()) -> Панель боковая релейного отсека В600хГ400 мм OptiBox M (2 шт) | H28: 1 | I28: =VLOOKUP('Лист 2'!$A$29,'Таблица подбора функц. блок.'!A:AG,9,FALSE()) -> 419083
B29: Панель монтажная функционального блока высотой до 400 мм. | G29: =VLOOKUP(I29,Артикулы!$A$4:$C$975,3,FALSE()) -> Панель монтажная глухая В300хШ600 мм OptiBox M | H29: 1 | I29: =VLOOKUP(IF($E$5="Нет",'Лист 2'!$A$28,'Лист 2'!$A$32),'Таблица подбора функц. блок.'!A:AG,11,FALSE()) -> 419109
B30: Панель монт. функционального блока высотой от 400 до 600 мм. | G30: =VLOOKUP(I30,Артикулы!$A$4:$C$975,3,FALSE()) -> Панель монтажная глухая В600хШ600 мм OptiBox M | H30: 1 | I30: =VLOOKUP(IF($E$5="Нет",'Лист 2'!$A$29,'Лист 2'!$A$33),'Таблица подбора функц. блок.'!A:AG,11,FALSE()) -> 419139
B31: Отделение шинной сборки от функциональных блоков | G31: =VLOOKUP(I31,Артикулы!$A$4:$C$975,3,FALSE()) -> Ограждение верхнее ФБ Ш600хГ400 мм OptiBox M | H31: 1 | I31: =VLOOKUP(IF($E$5="Нет",'Лист 2'!$A$28,'Лист 2'!$A$32),'Таблица подбора функц. блок.'!A:AG,13,FALSE()) -> 419183
B32: Разделение функц. блоков между собой (по количеству блоков) | G32: =VLOOKUP(I32,Артикулы!$A$4:$C$975,3,FALSE()) -> Ограждение нижнее ФБ 600хГ400 мм OptiBox M | H32: 1 | I32: =VLOOKUP(IF($E$5="Нет",'Лист 2'!$A$28,'Лист 2'!$A$32),'Таблица подбора функц. блок.'!A:AG,14,FALSE()) -> 419208
B33: Для установки модульного оборудования (стойки функц. блока не требуются, так же есть высотой 150) | G33: =VLOOKUP(I33,Артикулы!$A$4:$C$975,3,FALSE()) -> Комплект установки модульных автоматов В200хШ600 мм OptiBox M | H33: 1 | I33: =VLOOKUP(IF($E$5="Нет",'Лист 2'!$A$28,'Лист 2'!$A$32),'Таблица подбора функц. блок.'!A:AG,12,FALSE()) -> 419156
B34: Рейка для комплекта установки модульных АВ (из наличия) | G34: DIN-рейка оцинкованная-(1000 мм)х1,0мм-КЭАЗ | H34: 1 | I34: 234389
B35: Для закрытия функционального блока с модульным оборудованием | G35: =VLOOKUP(I35,Артикулы!$A$4:$C$975,3,FALSE()) -> Панель боковая функционального блока В200хГ400 мм OptiBox M (2 шт) | H35: 1 | I35: =VLOOKUP('Лист 2'!$A$30,'Таблица подбора функц. блок.'!A:AG,8,FALSE()) -> 419065
G36: =VLOOKUP(I36,Артикулы!$A$4:$C$975,3,FALSE()) -> Панель монтажная глухая В200хШ600 мм OptiBox M | H36: 1 | I36: =VLOOKUP(IF($E$5="Нет",'Лист 2'!$A$30,'Лист 2'!$A$34),'Таблица подбора функц. блок.'!A:AG,11,FALSE()) -> 419099
B37: Рым-болты | G37: Рым-болт М12 OptiBox M (4 шт) | H37: 1 | I37: 419726
B38: Комплект соединительный (на 1 шт. меньше кол-ва панелей) | G38: =VLOOKUP(I38,Артикулы!$A$4:$C$975,3,FALSE()) -> Комплект соединительный OptiBox M | H38: 1 | I38: 419725
B39: Кабельный отсек для внутренней модульной системы
B40: Установка кабельного отсека/шинного опуска внутри шкафа (используются только двери секционные полноразмерные) | G40: =IF($E$5="Нет","Не требуется",VLOOKUP(I40,Артикулы!$A$4:$C$975,3,FALSE())) -> Не требуется | H40: 1 | I40: =VLOOKUP($G$3,'Таблица подбора'!$A$2:$AP$116,31,FALSE()) -> 420046
G41: =IF($E$5="Нет","Не требуется",VLOOKUP(I41,Артикулы!$A$4:$C$975,3,FALSE())) -> Не требуется | H41: 1 | I41: =VLOOKUP($G$3,'Таблица подбора'!$A$2:$AP$116,IF(E5=200,32,33),FALSE()) -> 420057
G42: =IF($E$5="Нет","Не требуется",VLOOKUP(I42,Артикулы!$A$4:$C$975,3,FALSE())) -> Не требуется | H42: 1 | I42: =VLOOKUP($G$3,'Таблица подбора'!$A$2:$AP$116,IF(E5=200,34,35),FALSE()) -> 420056
B43: Внешняя модульная система (панели/двери)
B44: Элементы каркаса | F44: =CONCATENATE("Панель ",H2,". Шкаф ",B3,"х",C3,"х",D3,"мм с цоколем ",E3,"мм") -> Панель ВП1. Шкаф 2000х600х600мм с цоколем 100мм | G44: =VLOOKUP(I44,Артикулы!$A$4:$C$975,3,FALSE()) -> Крыша и основание Ш600хГ600 мм IP55 OptiBox M | H44: 1 | I44: =VLOOKUP($G$3,'Таблица подбора'!$A$2:$Y$116,5,FALSE()) -> 419598 | J44: Стандартный набор комплектующих для размещения оборудования в функциональных блоках, внешними частичными дверями или панелями. Позволяет реализовать степень секционирования до 4a при одностороннем обслуживании. Для реализации 4b и двухстороннего обслуживания требуются дополнительные элементы.
G45: =VLOOKUP(I45,Артикулы!$A$4:$C$975,3,FALSE()) -> Стойки вертикальные В=2000 мм рамы OptiBox M (4 шт) | H45: 1 | I45: =VLOOKUP($G$3,'Таблица подбора'!$A$2:$Y$116,6,FALSE()) -> 419607
B46: Задняя панель | G46: =VLOOKUP(I46,Артикулы!$A$4:$C$975,3,FALSE()) -> Панель задняя 2000х600 мм IP55 OptiBox M | H46: 1 | I46: =VLOOKUP($G$3,'Таблица подбора'!$A$2:$Y$116,8,FALSE()) -> 419681
B47: Комплект боковых панелей (один на сборку) | G47: =VLOOKUP(I47,Артикулы!$A$4:$C$975,3,FALSE()) -> Панель боковая 2000х600 мм IP55 OptiBox M (2 шт) | H47: 1 | I47: =VLOOKUP($G$3,'Таблица подбора'!$A$2:$Y$116,9,FALSE()) -> 419658
B48: Элементы цоколя | G48: =VLOOKUP(I48,Артикулы!$A$4:$C$975,3,FALSE()) -> Опоры цоколя угловые В=100 мм RAL7022 OptiBox M (4 шт) | H48: 1 | I48: =IF($E$3=100,VLOOKUP($G$3,'Таблица подбора'!$A$2:$Y$116,10,FALSE()),VLOOKUP($G$3,'Таблица подбора'!$A$2:$Y$116,11,FALSE())) -> 419688
G49: =VLOOKUP(I49,Артикулы!$A$4:$C$975,3,FALSE()) -> Панель цоколя В=100 Ш=600 мм RAL7022 OptiBox M (2 шт) | H49: 1 | I49: =IF($E$3=100,VLOOKUP($G$3,'Таблица подбора'!$A$2:$Y$116,12,FALSE()),VLOOKUP($G$3,'Таблица подбора'!$A$2:$Y$116,14,FALSE())) -> 419692
B50: Панели боковые цоколя (один комплект на сборку) | G50: =VLOOKUP(I50,Артикулы!$A$4:$C$975,3,FALSE()) -> Панель цоколя В=100 Ш=600 мм RAL7022 OptiBox M (2 шт) | H50: 1 | I50: =IF($E$3=100,VLOOKUP($G$3,'Таблица подбора'!$A$2:$Y$116,13,FALSE()),VLOOKUP($G$3,'Таблица подбора'!$A$2:$Y$116,15,FALSE())) -> 419692
B51: Обязательные элементы для установки внешних панелей/дверей | G51: =VLOOKUP(I51,Артикулы!$A$4:$C$975,3,FALSE()) -> Панели компенсационные лицевые перфорированные В91хШ600 мм OptiBox M (2 шт) | H51: 1 | I51: =VLOOKUP('Лист 2'!$A$28,'Таблица подбора функц. блок.'!A:AG,15,FALSE()) -> 419554
G52: =VLOOKUP(I52,Артикулы!$A$4:$C$975,3,FALSE()) -> Панель лицевая перфорированная 200х600 мм OptiBox M | H52: 1 | I52: =VLOOKUP('Лист 2'!$A$28,'Таблица подбора функц. блок.'!A:AG,16,FALSE()) -> 419513
B53: Дверь функционального блока высотой до 400 мм. | G53: =VLOOKUP(I53,Артикулы!$A$4:$C$975,3,FALSE()) -> Дверь секционная 300х600 мм OptiBox M | H53: 1 | I53: =VLOOKUP('Лист 2'!$A$28,'Таблица подбора функц. блок.'!A:AG,19,FALSE()) -> 419361
B54: Дверь функционального блока высотой от 400 до 600 мм. | G54: =VLOOKUP(I54,Артикулы!$A$4:$C$975,3,FALSE()) -> Дверь секционная 600х600 мм OptiBox M | H54: 1 | I54: =VLOOKUP('Лист 2'!$A$29,'Таблица подбора функц. блок.'!A:AG,19,FALSE()) -> 419385
B55: Обеспечение IP. (количество дверей/панелей +1) | G55: =VLOOKUP(I55,Артикулы!$A$4:$C$975,3,FALSE()) -> Перемычка секционная 600 мм OptiBox M | H55: 1 | I55: =VLOOKUP('Лист 2'!$A$28,'Таблица подбора функц. блок.'!A:AG,20,FALSE()) -> 419345
B56: Рейка для установки стойки функционального блока | G56: =IF($D$3>$D$5,VLOOKUP(I56,Артикулы!$A$4:$C$975,3,FALSE()),"Не требуется") -> Рейка поперечная 600х49 мм OptiBox M (2 шт) | H56: 1 | I56: =VLOOKUP($G$3,'Таблица подбора'!$A$2:$AP$116,20,FALSE()) -> 419740
B57: Обязательна для установки функциональных блоков (300 мм.) | G57: =IF($D$3>$D$5,VLOOKUP(I57,Артикулы!$A$4:$C$975,3,FALSE()),"Не требуется") -> Стойка функционального блока вертикальная 1667х63 мм OptiBox M (2 шт) | H57: 1 | I57: =VLOOKUP($G$3,'Таблица подбора'!$A$2:$AP$116,29,FALSE()) -> 419232
B58: Боковая панель функционального блока высотой до 400 мм. | G58: =VLOOKUP(I58,Артикулы!$A$4:$C$975,3,FALSE()) -> Панель боковая функционального блока В300хГ400 мм OptiBox M (2 шт) | H58: 1 | I58: =VLOOKUP('Лист 2'!$A$28,'Таблица подбора функц. блок.'!A:AG,8,FALSE()) -> 419069
B59: Боковая панель функционального блока высотой от 400 до 600 мм. | G59: =VLOOKUP(I59,Артикулы!$A$4:$C$975,3,FALSE()) -> Панель боковая релейного отсека В600хГ400 мм OptiBox M (2 шт) | H59: 1 | I59: =VLOOKUP('Лист 2'!$A$29,'Таблица подбора функц. блок.'!A:AG,9,FALSE()) -> 419083
B60: Панель монтажная функционального блока высотой до 400 мм. | G60: =VLOOKUP(I60,Артикулы!$A$4:$C$975,3,FALSE()) -> Панель монтажная глухая В300хШ600 мм OptiBox M | H60: 1 | I60: =VLOOKUP('Лист 2'!$A$28,'Таблица подбора функц. блок.'!A:AG,11,FALSE()) -> 419109
B61: Панель монт. функционального блока высотой от 400 до 600 мм. | G61: =VLOOKUP(I61,Артикулы!$A$4:$C$975,3,FALSE()) -> Панель монтажная глухая В600хШ600 мм OptiBox M | H61: 1 | I61: =VLOOKUP('Лист 2'!$A$29,'Таблица подбора функц. блок.'!A:AG,11,FALSE()) -> 419139
B62: Отделение шинной сборки от функциональных блоков | G62: =VLOOKUP(I62,Артикулы!$A$4:$C$975,3,FALSE()) -> Ограждение верхнее ФБ Ш600хГ400 мм OptiBox M | H62: 1 | I62: =VLOOKUP('Лист 2'!$A$28,'Таблица подбора функц. блок.'!A:AG,13,FALSE()) -> 419183
B63: Разделение функц. блоков между собой (по количеству блоков) | G63: =VLOOKUP(I63,Артикулы!$A$4:$C$975,3,FALSE()) -> Ограждение нижнее ФБ 600хГ400 мм OptiBox M | H63: 1 | I63: =VLOOKUP('Лист 2'!$A$28,'Таблица подбора функц. блок.'!A:AG,14,FALSE()) -> 419208
B64: Установка воздушного АВ в систему функциональных блоков (есть высотой 450 мм.) | G64: =VLOOKUP(I64,Артикулы!$A$4:$C$975,3,FALSE()) -> Рейка поперечная 400х49 мм OptiBox M (2 шт) | H64: 2 | I64: =IF(D5=400,419739,419740) -> 419739
G65: =VLOOKUP(I65,Артикулы!$A$4:$C$975,3,FALSE()) -> Полка воздушного автоматического выключателя Ш600 мм OptiBox M | H65: 1 | I65: =VLOOKUP($G$3,'Таблица подбора'!$A$2:$Y$116,17,FALSE()) -> 419159
G66: =VLOOKUP(I66,Артикулы!$A$4:$C$975,3,FALSE()) -> Панель боковая воздушного выключателя В600хГ400 мм OptiBox M (2 шт) | H66: 1 | I66: =IF(D5=400,419091,419092) -> 419091
G67: =VLOOKUP(I67,Артикулы!$A$4:$C$975,3,FALSE()) -> Комплект зонирования воздушного АВ В600хШ600 мм OptiBox M | H67: 1 | I67: =VLOOKUP('Лист 2'!$A$28,'Таблица подбора функц. блок.'!A:AG,21,FALSE()) -> 419175
G68: =VLOOKUP(I68,Артикулы!$A$4:$C$975,3,FALSE()) -> Дверь секционная 600х600 мм OptiBox M | H68: 1 | I68: =VLOOKUP('Лист 2'!$A$28,'Таблица подбора функц. блок.'!A:AG,22,FALSE()) -> 419385
B69: Рым-болты | G69: Рым-болт М12 OptiBox M (4 шт) | H69: 1 | I69: 419726
B70: Комплект соединительный (на 1 шт. меньше кол-ва панелей) | G70: =VLOOKUP(I70,Артикулы!$A$4:$C$975,3,FALSE()) -> Комплект соединительный OptiBox M | H70: 1 | I70: 419725
B71: Дополнительные элементы
B72: Панель функционального блока высотой до 400 мм. | G72: =VLOOKUP(I72,Артикулы!$A$4:$C$975,3,FALSE()) -> Панель лицевая глухая 300х600 мм OptiBox M | H72: 1 | I72: =VLOOKUP('Лист 2'!$A$28,'Таблица подбора функц. блок.'!A:AG,17,FALSE()) -> 419481

Sheet Комментарии
B2: № | C2: Комментарий
B3: 1 | C3: По умолчанию принята установка поперечных реек на боковые рейки. Возможна установка поперечных реек на поперечные рейки, установленные сбоку
B4: 2 | C4: По умолчанию приняты рейки шириной 49 мм. (два ряда перфорации)
B5: 3 | C5: Для шкафов высотой 1600 мм., шириной 300 мм. и 1200 мм., глубиной 500 мм. имеется не полный набор комплектующих
B6: 4 | C6: Компенсационные панели приняты только перфорированные (в ассортименте так же имеются сплошные)
B7: 5 | C7: Пластроны и панели приняты только сплошные (в ассортименте имеются так же перфорированные)
B8: 6 | C8: По умолчанию для функциональных блоков подбираются двери, а не панели
B9: 7 | C9: Для внешней модульной системы по умолчанию подбирается одна перфорированная панель высотой 200 мм. для шинной сборки
B10: 8 | C10: Для внутренней модульной системы по умолчанию подбирается один перфорированный пластрон высотой 200 мм. для шинной сборки
B11: 9 | C11: Для пластронной системы подбираются стойки функционального блока такой высоты, при которой для шинной сборки остаётся 250 мм.
B12: 10 | C12: Для внешней системы подбираются стойки функционального блока такой высоты, при которой для шинной сборки остаётся 300 мм.
B13: 11 | C13: Для функциональных блоков высотой 150- 400 мм. применяются боковые панели функциональных блоков
B14: 12 | C14: Для функциональных блоков высотой 400 - 600 мм. применяются боковые панели релейных отсеков
... B19: 17 | C19: Для реализации степени секционирования 4b и двухстороннего обслуживания со степенью секционирования выше 3а требуются дополнительные элементы, которых нет в подборе. Для подбора следует использовать каталог OptiBox M:
C20: https://files.keaz.ru/f/89105/katalog-optibox-m.pdf?1791873680

Sheet Артикулы
A2: Код КЭАЗ | B2: Краткое наименование КЭАЗ | C2: Полное наименование КЭАЗ
A4: 419764 | B4: Ввод кабельный 1 сальник (25 шт) | C4: Ввод кабельный 1 сальник (25 шт) | D4: 419764
A5: 419765 | B5: Ввод кабельный 3 сальника (25 шт) | C5: Ввод кабельный 3 сальника (25 шт) | D5: 419765
A6: 419766 | B6: Ввод кабельный 8 сальников (25 шт) | C6: Ввод кабельный 8 сальников (25 шт) | D6: 419766
A7: 419609 | B7: Дверь двустворчатая глухая 1600х1200 мм IP55 OptiBox M | C7: Дверь двустворчатая глухая 1600х1200 мм IP55 OptiBox M | D7: 419609
A8: 419610 | B8: Дверь двустворчатая глухая 1600х800 мм IP55 OptiBox M | C8: Дверь двустворчатая глухая 1600х800 мм IP55 OptiBox M | D8: 419610
A9: 419611 | B9: Дверь двустворчатая глухая 1800х1000 мм IP55 OptiBox M | C9: Дверь двустворчатая глухая 1800х1000 мм IP55 OptiBox M | D9: 419611
A10: 419612 | B10: Дверь двустворчатая глухая 1800х1200 мм IP55 OptiBox M | C10: Дверь двустворчатая глухая 1800х1200 мм IP55 OptiBox M | D10: 419612
A11: 419613 | B11: Дверь двустворчатая глухая 1800х600 мм IP55 OptiBox M | C11: Дверь двустворчатая глухая 1800х600 мм IP55 OptiBox M | D11: 419613
A12: 419614 | B12: Дверь двустворчатая глухая 1800х800 мм IP55 OptiBox M | C12: Дверь двустворчатая глухая 1800х800 мм IP55 OptiBox M | D12: 419614
A13: 419615 | B13: Дверь двустворчатая глухая 2000х1000 мм IP55 OptiBox M | C13: Дверь двустворчатая глухая 2000х1000 мм IP55 OptiBox M | D13: 419615
A14: 419616 | B14: Дверь двустворчатая глухая 2000х1200 мм IP55 OptiBox M | C14: Дверь двустворчатая глухая 2000х1200 мм IP55 OptiBox M | D14: 419616
A15: 419617 | B15: Дверь двустворчатая глухая 2000х600 мм IP55 OptiBox M | C15: Дверь двустворчатая глухая 2000х600 мм IP55 OptiBox M | D15: 419617
... A975: 419800 | B975: Комплект усилителей сейсмостойкий В2000хГ800 мм OptiBox M | C975: Комплект усилителей сейсмостойкий В2000хГ800 мм OptiBox M | D975: 419800

Sheet Таблица подбора (2)
A1: 1 | B1: 2 | C1: 3 | D1: 4 | E1: 5 | F1: 6 | G1: 7 | H1: 8 | I1: 9 | J1: 10 | K1: 11 | L1: 12 | M1: 13 | N1: 14 | O1: 15 | P1: 16 | Q1: 17 | R1: 18 | S1: 19 | T1: 20 | U1: 21 | V1: 22 | W1: 23 | X1: 24 | Y1: 25
A2: Код | B2: высота | C2: ширина | D2: глубина | E2: Дно+крыша | F2: Стойки | G2: Дверь | H2: Задняя панель | I2: Боковые панели | J2: Цоколь 100 | K2: Цоколь 200 | L2: Панели цоколя 100 | M2: Боковые панели цоколя 100 | N2: Панели цоколя 200 | O2: Боковые панели цоколя 200 | P2: Панель монтажная | Q2: Плата гориз. | R2: Комплект реек боковых | S2: Рейки боковые 3х | T2: Рейки боковые 1х | U2: Рейки попереч. 3х | V2: Рейки попереч. 1х | W2: Частичная монтажная плата | X2: Рейки боковые 2рядные | Y2: Рейки попереч. 2рядные
A3: =CONCATENATE(B3,C3,D3) -> 1600300400 | B3: 1600 | C3: 300 | D3: 400 | E3: 306689 | F3: 313575 | G3: 0 | H3: 0 | I3: 0 | J3: 306872 | K3: 306878 | L3: 306874 | M3: 306875 | N3: 306899 | O3: 306900 | P3: 0 | Q3: 0 | R3: 0 | S3: 306565 | T3: 306582 | U3: 0 | V3: 0 | W3: 0 | X3: 0 | Y3: 307525
A4: =CONCATENATE(B4,C4,D4) -> 1800300400 | B4: 1800 | C4: 300 | D4: 400 | E4: 306689 | F4: 306705 | G4: 306610 | H4: 306625 | I4: 306642 | J4: 306872 | K4: 306878 | L4: 306874 | M4: 306875 | N4: 306899 | O4: 306900 | P4: 306732 | Q4: 0 | R4: 0 | S4: 306565 | T4: 306582 | U4: 0 | V4: 0 | W4: 0 | X4: 0 | Y4: 307525
A5: =CONCATENATE(B5,C5,D5) -> 2000300400 | B5: 2000 | C5: 300 | D5: 400 | E5: 306689 | F5: 306706 | G5: 306615 | H5: 306631 | I5: 306645 | J5: 306872 | K5: 306878 | L5: 306874 | M5: 306875 | N5: 306899 | O5: 306900 | P5: 306737 | Q5: 0 | R5: 0 | S5: 306565 | T5: 306582 | U5: 0 | V5: 0 | W5: 0 | X5: 0 | Y5: 307525
A6: =CONCATENATE(B6,C6,D6) -> 2200300400 | B6: 2200 | C6: 300 | D6: 400 | E6: 306689 | F6: 306707 | G6: 306620 | H6: 306637 | I6: 306648 | J6: 306872 | K6: 306878 | L6: 306874 | M6: 306875 | N6: 306899 | O6: 306900 | P6: 306742 | Q6: 0 | R6: 0 | S6: 306565 | T6: 306582 | U6: 0 | V6: 0 | W6: 0 | X6: 0 | Y6: 307525
A7: =CONCATENATE(B7,C7,D7) -> 1600300600 | B7: 1600 | C7: 300 | D7: 600 | E7: 306690 | F7: 313575 | G7: 0 | H7: 0 | I7: 313595 | J7: 306872 | K7: 306878 | L7: 306874 | M7: 306875 | N7: 306899 | O7: 306900 | P7: 0 | Q7: 0 | R7: 0 | S7: 306566 | T7: 306583 | U7: 0 | V7: 0 | W7: 0 | X7: 0 | Y7: 307525
A8: =CONCATENATE(B8,C8,D8) -> 1800300600 | B8: 1800 | C8: 300 | D8: 600 | E8: 306690 | F8: 306705 | G8: 306610 | H8: 306625 | I8: 306643 | J8: 306872 | K8: 306878 | L8: 306874 | M8: 306876 | N8: 306899 | O8: 306901 | P8: 306732 | Q8: 0 | R8: 0 | S8: 306566 | T8: 306583 | U8: 0 | V8: 0 | W8: 0 | X8: 0 | Y8: 307525
A9: =CONCATENATE(B9,C9,D9) -> 2000300600 | B9: 2000 | C9: 300 | D9: 600 | E9: 306690 | F9: 306706 | G9: 306615 | H9: 306631 | I9: 306646 | J9: 306872 | K9: 306878 | L9: 306874 | M9: 306876 | N9: 306899 | O9: 306901 | P9: 306737 | Q9: 0 | R9: 0 | S9: 306566 | T9: 306583 | U9: 0 | V9: 0 | W9: 0 | X9: 0 | Y9: 307525
A10: =CONCATENATE(B10,C10,D10) -> 2200300600 | B10: 2200 | C10: 300 | D10: 600 | E10: 306690 | F10: 306707 | G10: 306620 | H10: 306637 | I10: 306649 | J10: 306872 | K10: 306878 | L10: 306874 | M10: 306876 | N10: 306899 | O10: 306901 | P10: 306742 | Q10: 0 | R10: 0 | S10: 306566 | T10: 306583 | U10: 0 | V10: 0 | W10: 0 | X10: 0 | Y10: 307525
A11: =CONCATENATE(B11,C11,D11) -> 1600300800 | B11: 1600 | C11: 300 | D11: 800 | E11: 306691 | F11: 313575 | G11: 0 | H11: 0 | I11: 0 | J11: 306872 | K11: 306878 | L11: 306874 | M11: 306875 | N11: 306899 | O11: 306900 | P11: 0 | Q11: 0 | R11: 0 | S11: 306567 | T11: 306584 | U11: 0 | V11: 0 | W11: 0 | X11: 0 | Y11: 307525
A12: =CONCATENATE(B12,C12,D12) -> 1800300800 | B12: 1800 | C12: 300 | D12: 800 | E12: 306691 | F12: 306705 | G12: 306610 | H12: 306625 | I12: 306644 | J12: 306872 | K12: 306878 | L12: 306874 | M12: 306877 | N12: 306899 | O12: 306902 | P12: 306732 | Q12: 0 | R12: 0 | S12: 306567 | T12: 306584 | U12: 0 | V12: 0 | W12: 0 | X12: 0 | Y12: 307525
A13: =CONCATENATE(B13,C13,D13) -> 2000300800 | B13: 2000 | C13: 300 | D13: 800 | E13: 306691 | F13: 306706 | G13: 306615 | H13: 306631 | I13: 306647 | J13: 306872 | K13: 306878 | L13: 306874 | M13: 306877 | N13: 306899 | O13: 306902 | P13: 306737 | Q13: 0 | R13: 0 | S13: 306567 | T13: 306584 | U13: 0 | V13: 0 | W13: 0 | X13: 0 | Y13: 307525
A14: =CONCATENATE(B14,C14,D14) -> 2200300800 | B14: 2200 | C14: 300 | D14: 800 | E14: 306691 | F14: 306707 | G14: 306620 | H14: 306637 | I14: 306650 | J14: 306872 | K14: 306878 | L14: 306874 | M14: 306877 | N14: 306899 | O14: 306902 | P14: 306742 | Q14: 0 | R14: 0 | S14: 306567 | T14: 306584 | U14: 0 | V14: 0 | W14: 0 | X14: 0 | Y14: 307525
... A98: =CONCATENATE(B98,C98,D98) -> 220012001000 | B98: 2200 | C98: 1200 | D98: 1000 | E98: 306684 | F98: 306707 | G98: 306674 | H98: 306641 | I98: 306677 | J98: 306872 | K98: 306878 | L98: 306943 | M98: 306873 | N98: 306944 | O98: 306898 | P98: 306754 | Q98: 306962 | R98: 306564 | S98: 306564 | T98: 306581 | U98: 306592 | V98: 306593 | W98: 0 | X98: 306564 | Y98: 0

Sheet Таблица подбора
A1: 1 | B1: 2 | C1: 3 | D1: 4 | E1: 5 | F1: 6 | G1: 7 | H1: 8 | I1: 9 | J1: 10 | K1: 11 | L1: 12 | M1: 13 | N1: 14 | O1: 15 | P1: 16 | Q1: 17 | R1: 18 | S1: 19 | T1: 20 | U1: 21 | V1: 22 | W1: 23 | X1: 24 | Y1: 25 | Z1: 26 | AA1: 27 | AB1: 28 | AC1: 29 | AD1: 30 | AE1: 31 | AF1: 32 | AG1: 33 | AH1: 34 | AI1: 35
A2: Код | B2: высота | C2: ширина | D2: глубина | E2: Дно+крыша | F2: Стойки | G2: Дверь | H2: Задняя панель | I2: Боковые панели | J2: Цоколь 100 | K2: Цоколь 200 | L2: Панели цоколя 100 | M2: Боковые панели цоколя 100 | N2: Панели цоколя 200 | O2: Боковые панели цоколя 200 | P2: Панель монтажная | Q2: Плата гориз. | R2: Комплект реек боковых | S2: Рейки боковые 3х | T2: Рейки боковые 2х | U2: Рейки попереч. 3х | V2: Рейки попереч. 2х | W2: Частичная монтажная плата | X2: Рейки боковые 2рядные | Y2: Рейки попереч. 2рядные | Z2: Траверса | AA2: Плата гориз. | AB2: Стойки пластр. | AC2: Стойки функц. 300 | AD2: Стойки функц. 250 | AE2: Кабельный отсек | AF2: 1Дверь каб. Отс 200 | AG2: 1Дверь каб. Отс.400 | AH2: 2Дверь каб. Отс.200 | AI2: 2Дверь каб. Отс.400
A3: =CONCATENATE(B3,C3,D3) -> 1800300400 | B3: 1800 | C3: 300 | D3: 400 | E3: =VLOOKUP('Таблица подбора (2)'!E4,Лист3!$A$2:$B$974,2,FALSE()) -> 419586 | F3: =VLOOKUP('Таблица подбора (2)'!F4,Лист3!$A$2:$B$974,2,FALSE()) -> 419606 | G3: =VLOOKUP('Таблица подбора (2)'!G4,Лист3!$A$2:$B$974,2,FALSE()) -> 419627 | H3: =VLOOKUP('Таблица подбора (2)'!H4,Лист3!$A$2:$B$974,2,FALSE()) -> 419673 | I3: =VLOOKUP('Таблица подбора (2)'!I4,Лист3!$A$2:$B$974,2,FALSE()) -> 419650 | J3: =VLOOKUP('Таблица подбора (2)'!J4,Лист3!$A$2:$B$974,2,FALSE()) -> 419688 | K3: =VLOOKUP('Таблица подбора (2)'!K4,Лист3!$A$2:$B$974,2,FALSE()) -> 419689 | L3: =VLOOKUP('Таблица подбора (2)'!L4,Лист3!$A$2:$B$974,2,FALSE()) -> 421163 | M3: =VLOOKUP('Таблица подбора (2)'!M4,Лист3!$A$2:$B$974,2,FALSE()) -> 419690 | O3: =VLOOKUP('Таблица подбора (2)'!O4,Лист3!$A$2:$B$974,2,FALSE()) -> 419696 | R3: 419739 | S3: 419744 | T3: 419739 | W3: =VLOOKUP('Таблица подбора (2)'!W4,Лист3!$A$2:$B$974,2,FALSE()) -> #N/A | X3: 419728 | Y3: 419750 | Z3: 419864 | AB3: 419244 | AC3: 419230 | AD3: 419229
A4: =CONCATENATE(B4,C4,D4) -> 2000300400 | B4: 2000 | C4: 300 | D4: 400 | E4: =VLOOKUP('Таблица подбора (2)'!E5,Лист3!$A$2:$B$974,2,FALSE()) -> 419586 | F4: =VLOOKUP('Таблица подбора (2)'!F5,Лист3!$A$2:$B$974,2,FALSE()) -> 419607 | G4: =VLOOKUP('Таблица подбора (2)'!G5,Лист3!$A$2:$B$974,2,FALSE()) -> 419632 | H4: =VLOOKUP('Таблица подбора (2)'!H5,Лист3!$A$2:$B$974,2,FALSE()) -> 419679 | I4: =VLOOKUP('Таблица подбора (2)'!I5,Лист3!$A$2:$B$974,2,FALSE()) -> 419656 | J4: =VLOOKUP('Таблица подбора (2)'!J5,Лист3!$A$2:$B$974,2,FALSE()) -> 419688 | K4: =VLOOKUP('Таблица подбора (2)'!K5,Лист3!$A$2:$B$974,2,FALSE()) -> 419689 | L4: =VLOOKUP('Таблица подбора (2)'!L5,Лист3!$A$2:$B$974,2,FALSE()) -> 421163 | M4: =VLOOKUP('Таблица подбора (2)'!M5,Лист3!$A$2:$B$974,2,FALSE()) -> 419690 | O4: =VLOOKUP('Таблица подбора (2)'!O5,Лист3!$A$2:$B$974,2,FALSE()) -> 419696 | R4: 419739 | S4: 419744 | T4: 419739 | W4: =VLOOKUP('Таблица подбора (2)'!W5,Лист3!$A$2:$B$974,2,FALSE()) -> #N/A | X4: 419728 | Y4: 419750 | Z4: 419864 | AB4: 419245 | AC4: 419232 | AD4: 419231
A5: =CONCATENATE(B5,C5,D5) -> 1800300500 | B5: 1800 | C5: 300 | D5: 500 | E5: 419587 | F5: 419606 | G5: 419627 | H5: 419673 | I5: 419651 | J5: 419688 | K5: 419689 | L5: 421163 | M5: 419691 | O5: 419697 | R5: 419729 | X5: 419729 | Y5: 419750 | Z5: 419865 | AB5: 419244 | AC5: 419230 | AD5: 419229
A6: =CONCATENATE(B6,C6,D6) -> 2000300500 | B6: 2000 | C6: 300 | D6: 500 | E6: 419587 | F6: 419607 | G6: 419632 | H6: 419679 | I6: 419657 | J6: 419688 | K6: 419689 | L6: 421163 | M6: 419691 | O6: 419697 | R6: 419729 | X6: 419729 | Y6: 419750 | Z6: 419865 | AB6: 419245 | AC6: 419232 | AD6: 419231
A7: =CONCATENATE(B7,C7,D7) -> 1800300600 | B7: 1800 | C7: 300 | D7: 600 | E7: =VLOOKUP('Таблица подбора (2)'!E8,Лист3!$A$2:$B$974,2,FALSE()) -> 419588 | F7: =VLOOKUP('Таблица подбора (2)'!F8,Лист3!$A$2:$B$974,2,FALSE()) -> 419606 | G7: =VLOOKUP('Таблица подбора (2)'!G8,Лист3!$A$2:$B$974,2,FALSE()) -> 419627 | H7: =VLOOKUP('Таблица подбора (2)'!H8,Лист3!$A$2:$B$974,2,FALSE()) -> 419673 | I7: =VLOOKUP('Таблица подбора (2)'!I8,Лист3!$A$2:$B$974,2,FALSE()) -> 419652 | J7: =VLOOKUP('Таблица подбора (2)'!J8,Лист3!$A$2:$B$974,2,FALSE()) -> 419688 | K7: =VLOOKUP('Таблица подбора (2)'!K8,Лист3!$A$2:$B$974,2,FALSE()) -> 419689 | L7: =VLOOKUP('Таблица подбора (2)'!L8,Лист3!$A$2:$B$974,2,FALSE()) -> 421163 | M7: =VLOOKUP('Таблица подбора (2)'!M8,Лист3!$A$2:$B$974,2,FALSE()) -> 419692 | O7: =VLOOKUP('Таблица подбора (2)'!O8,Лист3!$A$2:$B$974,2,FALSE()) -> 419698 | R7: 419740 | S7: 419745 | T7: 419740 | W7: =VLOOKUP('Таблица подбора (2)'!W8,Лист3!$A$2:$B$974,2,FALSE()) -> #N/A | X7: 419730 | Y7: 419750 | Z7: 419866 | AB7: 419244 | AC7: 419230 | AD7: 419229
A8: =CONCATENATE(B8,C8,D8) -> 2000300600 | B8: 2000 | C8: 300 | D8: 600 | E8: =VLOOKUP('Таблица подбора (2)'!E9,Лист3!$A$2:$B$974,2,FALSE()) -> 419588 | F8: =VLOOKUP('Таблица подбора (2)'!F9,Лист3!$A$2:$B$974,2,FALSE()) -> 419607 | G8: =VLOOKUP('Таблица подбора (2)'!G9,Лист3!$A$2:$B$974,2,FALSE()) -> 419632 | H8: =VLOOKUP('Таблица подбора (2)'!H9,Лист3!$A$2:$B$974,2,FALSE()) -> 419679 | I8: =VLOOKUP('Таблица подбора (2)'!I9,Лист3!$A$2:$B$974,2,FALSE()) -> 419658 | J8: =VLOOKUP('Таблица подбора (2)'!J9,Лист3!$A$2:$B$974,2,FALSE()) -> 419688 | K8: =VLOOKUP('Таблица подбора (2)'!K9,Лист3!$A$2:$B$974,2,FALSE()) -> 419689 | L8: =VLOOKUP('Таблица подбора (2)'!L9,Лист3!$A$2:$B$974,2,FALSE()) -> 421163 | M8: =VLOOKUP('Таблица подбора (2)'!M9,Лист3!$A$2:$B$974,2,FALSE()) -> 419692 | O8: =VLOOKUP('Таблица подбора (2)'!O9,Лист3!$A$2:$B$974,2,FALSE()) -> 419698 | R8: 419740 | S8: 419745 | T8: 419740 | W8: =VLOOKUP('Таблица подбора (2)'!W9,Лист3!$A$2:$B$974,2,FALSE()) -> #N/A | X8: 419730 | Y8: 419750 | Z8: 419866 | AB8: 419245 | AC8: 419232 | AD8: 419231
A9: =CONCATENATE(B9,C9,D9) -> 1800300800 | B9: 1800 | C9: 300 | D9: 800 | E9: =VLOOKUP('Таблица подбора (2)'!E12,Лист3!$A$2:$B$974,2,FALSE()) -> 419589 | F9: =VLOOKUP('Таблица подбора (2)'!F12,Лист3!$A$2:$B$974,2,FALSE()) -> 419606 | G9: =VLOOKUP('Таблица подбора (2)'!G12,Лист3!$A$2:$B$974,2,FALSE()) -> 419627 | H9: =VLOOKUP('Таблица подбора (2)'!H12,Лист3!$A$2:$B$974,2,FALSE()) -> 419673 | I9: =VLOOKUP('Таблица подбора (2)'!I12,Лист3!$A$2:$B$974,2,FALSE()) -> 419653 | J9: =VLOOKUP('Таблица подбора (2)'!J12,Лист3!$A$2:$B$974,2,FALSE()) -> 419688 | K9: =VLOOKUP('Таблица подбора (2)'!K12,Лист3!$A$2:$B$974,2,FALSE()) -> 419689 | L9: =VLOOKUP('Таблица подбора (2)'!L12,Лист3!$A$2:$B$974,2,FALSE()) -> 421163 | M9: =VLOOKUP('Таблица подбора (2)'!M12,Лист3!$A$2:$B$974,2,FALSE()) -> 419693 | O9: =VLOOKUP('Таблица подбора (2)'!O12,Лист3!$A$2:$B$974,2,FALSE()) -> 419699 | R9: 419741 | S9: 419746 | T9: 419741 | W9: =VLOOKUP('Таблица подбора (2)'!W12,Лист3!$A$2:$B$974,2,FALSE()) -> #N/A | X9: 419731 | Y9: 419750 | Z9: 419867 | AB9: 419244 | AC9: 419230 | AD9: 419229
A10: =CONCATENATE(B10,C10,D10) -> 2000300800 | B10: 2000 | C10: 300 | D10: 800 | E10: =VLOOKUP('Таблица подбора (2)'!E13,Лист3!$A$2:$B$974,2,FALSE()) -> 419589 | F10: =VLOOKUP('Таблица подбора (2)'!F13,Лист3!$A$2:$B$974,2,FALSE()) -> 419607 | G10: =VLOOKUP('Таблица подбора (2)'!G13,Лист3!$A$2:$B$974,2,FALSE()) -> 419632 | H10: =VLOOKUP('Таблица подбора (2)'!H13,Лист3!$A$2:$B$974,2,FALSE()) -> 419679 | I10: =VLOOKUP('Таблица подбора (2)'!I13,Лист3!$A$2:$B$974,2,FALSE()) -> 419659 | J10: =VLOOKUP('Таблица подбора (2)'!J13,Лист3!$A$2:$B$974,2,FALSE()) -> 419688 | K10: =VLOOKUP('Таблица подбора (2)'!K13,Лист3!$A$2:$B$974,2,FALSE()) -> 419689 | L10: =VLOOKUP('Таблица подбора (2)'!L13,Лист3!$A$2:$B$974,2,FALSE()) -> 421163 | M10: =VLOOKUP('Таблица подбора (2)'!M13,Лист3!$A$2:$B$974,2,FALSE()) -> 419693 | O10: =VLOOKUP('Таблица подбора (2)'!O13,Лист3!$A$2:$B$974,2,FALSE()) -> 419699 | R10: 419741 | S10: 419746 | T10: 419741 | W10: =VLOOKUP('Таблица подбора (2)'!W13,Лист3!$A$2:$B$974,2,FALSE()) -> #N/A | X10: 419731 | Y10: 419750 | Z10: 419867 | AB10: 419245 | AC10: 419232 | AD10: 419231
A11: =CONCATENATE(B11,C11,D11) -> 18003001000 | B11: 1800 | C11: 300 | D11: 1000 | E11: =VLOOKUP('Таблица подбора (2)'!E16,Лист3!$A$2:$B$974,2,FALSE()) -> 419585 | F11: =VLOOKUP('Таблица подбора (2)'!F16,Лист3!$A$2:$B$974,2,FALSE()) -> 419606 | G11: =VLOOKUP('Таблица подбора (2)'!G16,Лист3!$A$2:$B$974,2,FALSE()) -> 419627 | H11: =VLOOKUP('Таблица подбора (2)'!H16,Лист3!$A$2:$B$974,2,FALSE()) -> 419673 | I11: =VLOOKUP('Таблица подбора (2)'!I16,Лист3!$A$2:$B$974,2,FALSE()) -> 419648 | J11: =VLOOKUP('Таблица подбора (2)'!J16,Лист3!$A$2:$B$974,2,FALSE()) -> 419688 | K11: =VLOOKUP('Таблица подбора (2)'!K16,Лист3!$A$2:$B$974,2,FALSE()) -> 419689 | L11: =VLOOKUP('Таблица подбора (2)'!L16,Лист3!$A$2:$B$974,2,FALSE()) -> 421163 | M11: =VLOOKUP('Таблица подбора (2)'!M16,Лист3!$A$2:$B$974,2,FALSE()) -> 419694 | O11: =VLOOKUP('Таблица подбора (2)'!O16,Лист3!$A$2:$B$974,2,FALSE()) -> 419700 | R11: 419742 | S11: 419747 | T11: 419742 | W11: =VLOOKUP('Таблица подбора (2)'!W16,Лист3!$A$2:$B$974,2,FALSE()) -> #N/A | X11: 419732 | Y11: 419750 | Z11: 419868 | AB11: 419244 | AC11: 419230 | AD11: 419229
A12: =CONCATENATE(B12,C12,D12) -> 20003001000 | B12: 2000 | C12: 300 | D12: 1000 | E12: =VLOOKUP('Таблица подбора (2)'!E17,Лист3!$A$2:$B$974,2,FALSE()) -> 419585 | F12: =VLOOKUP('Таблица подбора (2)'!F17,Лист3!$A$2:$B$974,2,FALSE()) -> 419607 | G12: =VLOOKUP('Таблица подбора (2)'!G17,Лист3!$A$2:$B$974,2,FALSE()) -> 419632 | H12: =VLOOKUP('Таблица подбора (2)'!H17,Лист3!$A$2:$B$974,2,FALSE()) -> 419679 | I12: =VLOOKUP('Таблица подбора (2)'!I17,Лист3!$A$2:$B$974,2,FALSE()) -> 419654 | J12: =VLOOKUP('Таблица подбора (2)'!J17,Лист3!$A$2:$B$974,2,FALSE()) -> 419688 | K12: =VLOOKUP('Таблица подбора (2)'!K17,Лист3!$A$2:$B$974,2,FALSE()) -> 419689 | L12: =VLOOKUP('Таблица подбора (2)'!L17,Лист3!$A$2:$B$974,2,FALSE()) -> 421163 | M12: =VLOOKUP('Таблица подбора (2)'!M17,Лист3!$A$2:$B$974,2,FALSE()) -> 419694 | O12: =VLOOKUP('Таблица подбора (2)'!O17,Лист3!$A$2:$B$974,2,FALSE()) -> 419700 | R12: 419742 | S12: 419747 | T12: 419742 | W12: =VLOOKUP('Таблица подбора (2)'!W17,Лист3!$A$2:$B$974,2,FALSE()) -> #N/A | X12: 419732 | Y12: 419750 | Z12: 419868 | AB12: 419245 | AC12: 419232 | AD12: 419231
A13: =CONCATENATE(B13,C13,D13) -> 1600400400 | B13: 1600 | C13: 400 | D13: 400 | E13: =VLOOKUP('Таблица подбора (2)'!E19,Лист3!$A$2:$B$974,2,FALSE()) -> 419591 | F13: =VLOOKUP('Таблица подбора (2)'!F19,Лист3!$A$2:$B$974,2,FALSE()) -> 419605 | G13: =VLOOKUP('Таблица подбора (2)'!G19,Лист3!$A$2:$B$974,2,FALSE()) -> 419624 | H13: =VLOOKUP('Таблица подбора (2)'!H19,Лист3!$A$2:$B$974,2,FALSE()) -> 419668 | I13: =VLOOKUP('Таблица подбора (2)'!I19,Лист3!$A$2:$B$974,2,FALSE()) -> 419644 | J13: =VLOOKUP('Таблица подбора (2)'!J19,Лист3!$A$2:$B$974,2,FALSE()) -> 419688 | K13: =VLOOKUP('Таблица подбора (2)'!K19,Лист3!$A$2:$B$974,2,FALSE()) -> 419689 | L13: 419690 | M13: =VLOOKUP('Таблица подбора (2)'!M19,Лист3!$A$2:$B$974,2,FALSE()) -> 419690 | N13: 419696 | O13: =VLOOKUP('Таблица подбора (2)'!O19,Лист3!$A$2:$B$974,2,FALSE()) -> 419696 | P13: =VLOOKUP('Таблица подбора (2)'!P19,Лист3!$A$2:$B$974,2,FALSE()) -> 421768 | R13: 419739 | S13: 419744 | T13: 419739 | U13: 419984 | V13: 419978 | W13: =VLOOKUP('Таблица подбора (2)'!W19,Лист3!$A$2:$B$974,2,FALSE()) -> #N/A | X13: 419728 | Y13: 419739 | Z13: 419864
A14: =CONCATENATE(B14,C14,D14) -> 1800400400 | B14: 1800 | C14: 400 | D14: 400 | E14: =VLOOKUP('Таблица подбора (2)'!E20,Лист3!$A$2:$B$974,2,FALSE()) -> 419591 | F14: =VLOOKUP('Таблица подбора (2)'!F20,Лист3!$A$2:$B$974,2,FALSE()) -> 419606 | G14: =VLOOKUP('Таблица подбора (2)'!G20,Лист3!$A$2:$B$974,2,FALSE()) -> 419628 | H14: =VLOOKUP('Таблица подбора (2)'!H20,Лист3!$A$2:$B$974,2,FALSE()) -> 419674 | I14: =VLOOKUP('Таблица подбора (2)'!I20,Лист3!$A$2:$B$974,2,FALSE()) -> 419650 | J14: =VLOOKUP('Таблица подбора (2)'!J20,Лист3!$A$2:$B$974,2,FALSE()) -> 419688 | K14: =VLOOKUP('Таблица подбора (2)'!K20,Лист3!$A$2:$B$974,2,FALSE()) -> 419689 | L14: =VLOOKUP('Таблица подбора (2)'!L20,Лист3!$A$2:$B$974,2,FALSE()) -> 419690 | ... P14: =VLOOKUP('Таблица подбора (2)'!P20,Лист3!$A$2:$B$974,2,FALSE()) -> 419705 | R14: 419739 | S14: 419744 | T14: 419739 | U14: 419984 | V14: 419978 | W14: =VLOOKUP('Таблица подбора (2)'!W20,Лист3!$A$2:$B$974,2,FALSE()) -> #N/A | X14: 419728 | Y14: 419739 | Z14: 419864 | AB14: 419244 | AC14: 419230 | AD14: 419229 | AE14: 420041 | AF14: 420053 | AH14: 420053
A15: =CONCATENATE(B15,C15,D15) -> 2000400400 | B15: 2000 | C15: 400 | D15: 400 | E15: =VLOOKUP('Таблица подбора (2)'!E21,Лист3!$A$2:$B$974,2,FALSE()) -> 419591 | F15: =VLOOKUP('Таблица подбора (2)'!F21,Лист3!$A$2:$B$974,2,FALSE()) -> 419607 | G15: =VLOOKUP('Таблица подбора (2)'!G21,Лист3!$A$2:$B$974,2,FALSE()) -> 419633 | H15: =VLOOKUP('Таблица подбора (2)'!H21,Лист3!$A$2:$B$974,2,FALSE()) -> 419680 | I15: =VLOOKUP('Таблица подбора (2)'!I21,Лист3!$A$2:$B$974,2,FALSE()) -> 419656 | J15: =VLOOKUP('Таблица подбора (2)'!J21,Лист3!$A$2:$B$974,2,FALSE()) -> 419688 | K15: =VLOOKUP('Таблица подбора (2)'!K21,Лист3!$A$2:$B$974,2,FALSE()) -> 419689 | L15: =VLOOKUP('Таблица подбора (2)'!L21,Лист3!$A$2:$B$974,2,FALSE()) -> 419690 | ... P15: =VLOOKUP('Таблица подбора (2)'!P21,Лист3!$A$2:$B$974,2,FALSE()) -> 419714 | R15: 419739 | S15: 419744 | T15: 419739 | U15: 419984 | V15: 419978 | W15: =VLOOKUP('Таблица подбора (2)'!W21,Лист3!$A$2:$B$974,2,FALSE()) -> #N/A | X15: 419728 | Y15: 419739 | Z15: 419864 | AB15: 419245 | AC15: 419232 | AD15: 419231 | AE15: 420045 | AF15: 420056 | AH15: 420056
A16: =CONCATENATE(B16,C16,D16) -> 2200400400 | B16: 2200 | C16: 400 | D16: 400 | E16: =VLOOKUP('Таблица подбора (2)'!E22,Лист3!$A$2:$B$974,2,FALSE()) -> 419591 | F16: =VLOOKUP('Таблица подбора (2)'!F22,Лист3!$A$2:$B$974,2,FALSE()) -> 419608 | G16: =VLOOKUP('Таблица подбора (2)'!G22,Лист3!$A$2:$B$974,2,FALSE()) -> 419639 | H16: =VLOOKUP('Таблица подбора (2)'!H22,Лист3!$A$2:$B$974,2,FALSE()) -> 419685 | I16: =VLOOKUP('Таблица подбора (2)'!I22,Лист3!$A$2:$B$974,2,FALSE()) -> 419662 | J16: =VLOOKUP('Таблица подбора (2)'!J22,Лист3!$A$2:$B$974,2,FALSE()) -> 419688 | K16: =VLOOKUP('Таблица подбора (2)'!K22,Лист3!$A$2:$B$974,2,FALSE()) -> 419689 | L16: =VLOOKUP('Таблица подбора (2)'!L22,Лист3!$A$2:$B$974,2,FALSE()) -> 419690 | ... P16: =VLOOKUP('Таблица подбора (2)'!P22,Лист3!$A$2:$B$974,2,FALSE()) -> 419722 | R16: 419739 | S16: 419744 | T16: 419739 | U16: 419984 | V16: 419978 | W16: =VLOOKUP('Таблица подбора (2)'!W22,Лист3!$A$2:$B$974,2,FALSE()) -> #N/A | X16: 419728 | Y16: 419739 | Z16: 419864 | AB16: 419246 | AC16: 419234 | AD16: 419233 | AE16: 420049 | AF16: 420059 | AH16: 420059
A17: =CONCATENATE(B17,C17,D17) -> 1600400500 | B17: 1600 | C17: 400 | D17: 500 | E17: 419592 | F17: 419605 | G17: 419624 | H17: 419668 | I17: 419645 | J17: 419688 | K17: 419689 | L17: 419690 | M17: 419691 | N17: 419696 | O17: 419697 | P17: 421768 | R17: 419729 | U17: 419984 | V17: 419978 | X17: 419729 | Y17: 419739 | Z17: 419865
A18: =CONCATENATE(B18,C18,D18) -> 1800400500 | B18: 1800 | C18: 400 | D18: 500 | E18: 419592 | F18: 419606 | G18: 419628 | H18: 419674 | I18: 419651 | J18: 419688 | K18: 419689 | L18: 419690 | M18: 419691 | N18: 419696 | O18: 419697 | P18: 419705 | R18: 419729 | U18: 419984 | V18: 419978 | X18: 419729 | Y18: 419739 | Z18: 419865 | AB18: 419244 | AC18: 419230 | AD18: 419229
A19: =CONCATENATE(B19,C19,D19) -> 2000400500 | B19: 2000 | C19: 400 | D19: 500 | E19: 419592 | F19: 419607 | G19: 419633 | H19: 419680 | I19: 419657 | J19: 419688 | K19: 419689 | L19: 419690 | M19: 419691 | N19: 419696 | O19: 419697 | P19: 419714 | R19: 419729 | U19: 419984 | V19: 419978 | X19: 419729 | Y19: 419739 | Z19: 419865 | AB19: 419245 | AC19: 419232 | AD19: 419231
A20: =CONCATENATE(B20,C20,D20) -> 2200400500 | B20: 2200 | C20: 400 | D20: 500 | E20: 419592 | F20: 419608 | G20: 419639 | H20: 419685 | I20: 419663 | J20: 419688 | K20: 419689 | L20: 419690 | M20: 419691 | N20: 419696 | O20: 419697 | P20: 419722 | R20: 419729 | U20: 419984 | V20: 419978 | X20: 419729 | Y20: 419739 | Z20: 419865 | AB20: 419246 | AC20: 419234 | AD20: 419233
A21: =CONCATENATE(B21,C21,D21) -> 1600400600 | B21: 1600 | C21: 400 | D21: 600 | E21: =VLOOKUP('Таблица подбора (2)'!E23,Лист3!$A$2:$B$974,2,FALSE()) -> 419593 | F21: =VLOOKUP('Таблица подбора (2)'!F23,Лист3!$A$2:$B$974,2,FALSE()) -> 419605 | G21: =VLOOKUP('Таблица подбора (2)'!G23,Лист3!$A$2:$B$974,2,FALSE()) -> 419624 | H21: =VLOOKUP('Таблица подбора (2)'!H23,Лист3!$A$2:$B$974,2,FALSE()) -> 419668 | I21: =VLOOKUP('Таблица подбора (2)'!I23,Лист3!$A$2:$B$974,2,FALSE()) -> 419646 | J21: =VLOOKUP('Таблица подбора (2)'!J23,Лист3!$A$2:$B$974,2,FALSE()) -> 419688 | K21: =VLOOKUP('Таблица подбора (2)'!K23,Лист3!$A$2:$B$974,2,FALSE()) -> 419689 | L21: 419690 | M21: 419692 | N21: 419696 | O21: 419698 | P21: =VLOOKUP('Таблица подбора (2)'!P23,Лист3!$A$2:$B$974,2,FALSE()) -> 421768 | R21: 419740 | S21: 419745 | T21: 419740 | U21: 419984 | V21: 419978 | W21: =VLOOKUP('Таблица подбора (2)'!W23,Лист3!$A$2:$B$974,2,FALSE()) -> #N/A | X21: 419730 | Y21: 419739 | Z21: 419866
A22: =CONCATENATE(B22,C22,D22) -> 1800400600 | B22: 1800 | C22: 400 | D22: 600 | E22: =VLOOKUP('Таблица подбора (2)'!E24,Лист3!$A$2:$B$974,2,FALSE()) -> 419593 | F22: =VLOOKUP('Таблица подбора (2)'!F24,Лист3!$A$2:$B$974,2,FALSE()) -> 419606 | G22: =VLOOKUP('Таблица подбора (2)'!G24,Лист3!$A$2:$B$974,2,FALSE()) -> 419628 | H22: =VLOOKUP('Таблица подбора (2)'!H24,Лист3!$A$2:$B$974,2,FALSE()) -> 419674 | I22: =VLOOKUP('Таблица подбора (2)'!I24,Лист3!$A$2:$B$974,2,FALSE()) -> 419652 | J22: =VLOOKUP('Таблица подбора (2)'!J24,Лист3!$A$2:$B$974,2,FALSE()) -> 419688 | K22: =VLOOKUP('Таблица подбора (2)'!K24,Лист3!$A$2:$B$974,2,FALSE()) -> 419689 | L22: =VLOOKUP('Таблица подбора (2)'!L24,Лист3!$A$2:$B$974,2,FALSE()) -> 419690 | M22: =VLOOKUP('Таблица подбора (2)'!M24,Лист3!$A$2:$B$974,2,FALSE()) -> 419692 | N22: 419696 | O22: =VLOOKUP('Таблица подбора (2)'!O24,Лист3!$A$2:$B$974,2,FALSE()) -> 419698 | P22: =VLOOKUP('Таблица подбора (2)'!P24,Лист3!$A$2:$B$974,2,FALSE()) -> 419705 | R22: 419740 | S22: 419745 | T22: 419740 | U22: 419984 | V22: 419978 | W22: =VLOOKUP('Таблица подбора (2)'!W24,Лист3!$A$2:$B$974,2,FALSE()) -> #N/A | X22: 419730 | Y22: 419739 | Z22: 419866 | AB22: 419244 | AC22: 419230 | AD22: 419229 | AE22: 420042 | AF22: 420053 | AH22: 420053
A23: =CONCATENATE(B23,C23,D23) -> 2000400600 | B23: 2000 | C23: 400 | D23: 600 | E23: =VLOOKUP('Таблица подбора (2)'!E25,Лист3!$A$2:$B$974,2,FALSE()) -> 419593 | F23: =VLOOKUP('Таблица подбора (2)'!F25,Лист3!$A$2:$B$974,2,FALSE()) -> 419607 | G23: =VLOOKUP('Таблица подбора (2)'!G25,Лист3!$A$2:$B$974,2,FALSE()) -> 419633 | H23: =VLOOKUP('Таблица подбора (2)'!H25,Лист3!$A$2:$B$974,2,FALSE()) -> 419680 | I23: =VLOOKUP('Таблица подбора (2)'!I25,Лист3!$A$2:$B$974,2,FALSE()) -> 419658 | J23: =VLOOKUP('Таблица подбора (2)'!J25,Лист3!$A$2:$B$974,2,FALSE()) -> 419688 | K23: =VLOOKUP('Таблица подбора (2)'!K25,Лист3!$A$2:$B$974,2,FALSE()) -> 419689 | L23: =VLOOKUP('Таблица подбора (2)'!L25,Лист3!$A$2:$B$974,2,FALSE()) -> 419690 | M23: =VLOOKUP('Таблица подбора (2)'!M25,Лист3!$A$2:$B$974,2,FALSE()) -> 419692 | N23: 419696 | O23: =VLOOKUP('Таблица подбора (2)'!O25,Лист3!$A$2:$B$974,2,FALSE()) -> 419698 | P23: =VLOOKUP('Таблица подбора (2)'!P25,Лист3!$A$2:$B$974,2,FALSE()) -> 419714 | R23: 419740 | S23: 419745 | T23: 419740 | U23: 419984 | V23: 419978 | W23: =VLOOKUP('Таблица подбора (2)'!W25,Лист3!$A$2:$B$974,2,FALSE()) -> #N/A | X23: 419730 | Y23: 419739 | Z23: 419866 | AB23: 419245 | AC23: 419232 | AD23: 419231 | AE23: 420046 | AF23: 420056 | AH23: 420056
A24: =CONCATENATE(B24,C24,D24) -> 2200400600 | B24: 2200 | C24: 400 | D24: 600 | E24: =VLOOKUP('Таблица подбора (2)'!E26,Лист3!$A$2:$B$974,2,FALSE()) -> 419593 | F24: =VLOOKUP('Таблица подбора (2)'!F26,Лист3!$A$2:$B$974,2,FALSE()) -> 419608 | G24: =VLOOKUP('Таблица подбора (2)'!G26,Лист3!$A$2:$B$974,2,FALSE()) -> 419639 | H24: =VLOOKUP('Таблица подбора (2)'!H26,Лист3!$A$2:$B$974,2,FALSE()) -> 419685 | I24: =VLOOKUP('Таблица подбора (2)'!I26,Лист3!$A$2:$B$974,2,FALSE()) -> 419664 | J24: =VLOOKUP('Таблица подбора (2)'!J26,Лист3!$A$2:$B$974,2,FALSE()) -> 419688 | K24: =VLOOKUP('Таблица подбора (2)'!K26,Лист3!$A$2:$B$974,2,FALSE()) -> 419689 | L24: =VLOOKUP('Таблица подбора (2)'!L26,Лист3!$A$2:$B$974,2,FALSE()) -> 419690 | M24: =VLOOKUP('Таблица подбора (2)'!M26,Лист3!$A$2:$B$974,2,FALSE()) -> 419692 | N24: 419696 | O24: =VLOOKUP('Таблица подбора (2)'!O26,Лист3!$A$2:$B$974,2,FALSE()) -> 419698 | P24: =VLOOKUP('Таблица подбора (2)'!P26,Лист3!$A$2:$B$974,2,FALSE()) -> 419722 | R24: 419740 | S24: 419745 | T24: 419740 | U24: 419984 | V24: 419978 | W24: =VLOOKUP('Таблица подбора (2)'!W26,Лист3!$A$2:$B$974,2,FALSE()) -> #N/A | X24: 419730 | Y24: 419739 | Z24: 419866 | AB24: 419246 | AC24: 419234 | AD24: 419233 | AE24: 420050 | AF24: 420059 | AH24: 420059
A25: =CONCATENATE(B25,C25,D25) -> 1600400800 | B25: 1600 | C25: 400 | D25: 800 | E25: =VLOOKUP('Таблица подбора (2)'!E27,Лист3!$A$2:$B$974,2,FALSE()) -> 419594 | F25: =VLOOKUP('Таблица подбора (2)'!F27,Лист3!$A$2:$B$974,2,FALSE()) -> 419605 | G25: =VLOOKUP('Таблица подбора (2)'!G27,Лист3!$A$2:$B$974,2,FALSE()) -> 419624 | H25: =VLOOKUP('Таблица подбора (2)'!H27,Лист3!$A$2:$B$974,2,FALSE()) -> 419668 | I25: =VLOOKUP('Таблица подбора (2)'!I27,Лист3!$A$2:$B$974,2,FALSE()) -> 419647 | J25: =VLOOKUP('Таблица подбора (2)'!J27,Лист3!$A$2:$B$974,2,FALSE()) -> 419688 | K25: =VLOOKUP('Таблица подбора (2)'!K27,Лист3!$A$2:$B$974,2,FALSE()) -> 419689 | L25: 419690 | M25: 419693 | N25: 419696 | O25: 419699 | P25: =VLOOKUP('Таблица подбора (2)'!P27,Лист3!$A$2:$B$974,2,FALSE()) -> 421768 | R25: 419741 | S25: 419746 | T25: 419741 | U25: 419984 | V25: 419978 | W25: =VLOOKUP('Таблица подбора (2)'!W27,Лист3!$A$2:$B$974,2,FALSE()) -> #N/A | X25: 419731 | Y25: 419739 | Z25: 419867
A26: =CONCATENATE(B26,C26,D26) -> 1800400800 | B26: 1800 | C26: 400 | D26: 800 | E26: =VLOOKUP('Таблица подбора (2)'!E28,Лист3!$A$2:$B$974,2,FALSE()) -> 419594 | F26: =VLOOKUP('Таблица подбора (2)'!F28,Лист3!$A$2:$B$974,2,FALSE()) -> 419606 | G26: =VLOOKUP('Таблица подбора (2)'!G28,Лист3!$A$2:$B$974,2,FALSE()) -> 419628 | H26: =VLOOKUP('Таблица подбора (2)'!H28,Лист3!$A$2:$B$974,2,FALSE()) -> 419674 | I26: =VLOOKUP('Таблица подбора (2)'!I28,Лист3!$A$2:$B$974,2,FALSE()) -> 419653 | J26: =VLOOKUP('Таблица подбора (2)'!J28,Лист3!$A$2:$B$974,2,FALSE()) -> 419688 | K26: =VLOOKUP('Таблица подбора (2)'!K28,Лист3!$A$2:$B$974,2,FALSE()) -> 419689 | L26: =VLOOKUP('Таблица подбора (2)'!L28,Лист3!$A$2:$B$974,2,FALSE()) -> 419690 | M26: =VLOOKUP('Таблица подбора (2)'!M28,Лист3!$A$2:$B$974,2,FALSE()) -> 419693 | N26: 419696 | O26: =VLOOKUP('Таблица подбора (2)'!O28,Лист3!$A$2:$B$974,2,FALSE()) -> 419699 | P26: =VLOOKUP('Таблица подбора (2)'!P28,Лист3!$A$2:$B$974,2,FALSE()) -> 419705 | R26: 419741 | S26: 419746 | T26: 419741 | U26: 419984 | V26: 419978 | W26: =VLOOKUP('Таблица подбора (2)'!W28,Лист3!$A$2:$B$974,2,FALSE()) -> #N/A | X26: 419731 | Y26: 419739 | Z26: 419867 | AB26: 419244 | AC26: 419230 | AD26: 419229 | AE26: 420043 | AF26: 420053 | AH26: 420053
A27: =CONCATENATE(B27,C27,D27) -> 2000400800 | B27: 2000 | C27: 400 | D27: 800 | E27: =VLOOKUP('Таблица подбора (2)'!E29,Лист3!$A$2:$B$974,2,FALSE()) -> 419594 | F27: =VLOOKUP('Таблица подбора (2)'!F29,Лист3!$A$2:$B$974,2,FALSE()) -> 419607 | G27: =VLOOKUP('Таблица подбора (2)'!G29,Лист3!$A$2:$B$974,2,FALSE()) -> 419633 | H27: =VLOOKUP('Таблица подбора (2)'!H29,Лист3!$A$2:$B$974,2,FALSE()) -> 419680 | I27: =VLOOKUP('Таблица подбора (2)'!I29,Лист3!$A$2:$B$974,2,FALSE()) -> 419659 | J27: =VLOOKUP('Таблица подбора (2)'!J29,Лист3!$A$2:$B$974,2,FALSE()) -> 419688 | K27: =VLOOKUP('Таблица подбора (2)'!K29,Лист3!$A$2:$B$974,2,FALSE()) -> 419689 | L27: =VLOOKUP('Таблица подбора (2)'!L29,Лист3!$A$2:$B$974,2,FALSE()) -> 419690 | M27: =VLOOKUP('Таблица подбора (2)'!M29,Лист3!$A$2:$B$974,2,FALSE()) -> 419693 | N27: 419696 | O27: =VLOOKUP('Таблица подбора (2)'!O29,Лист3!$A$2:$B$974,2,FALSE()) -> 419699 | P27: =VLOOKUP('Таблица подбора (2)'!P29,Лист3!$A$2:$B$974,2,FALSE()) -> 419714 | R27: 419741 | S27: 419746 | T27: 419741 | U27: 419984 | V27: 419978 | W27: =VLOOKUP('Таблица подбора (2)'!W29,Лист3!$A$2:$B$974,2,FALSE()) -> #N/A | X27: 419731 | Y27: 419739 | Z27: 419867 | AB27: 419245 | AC27: 419232 | AD27: 419231 | AE27: 420047 | AF27: 420056 | AH27: 420056
A28: =CONCATENATE(B28,C28,D28) -> 2200400800 | B28: 2200 | C28: 400 | D28: 800 | E28: =VLOOKUP('Таблица подбора (2)'!E30,Лист3!$A$2:$B$974,2,FALSE()) -> 419594 | F28: =VLOOKUP('Таблица подбора (2)'!F30,Лист3!$A$2:$B$974,2,FALSE()) -> 419608 | G28: =VLOOKUP('Таблица подбора (2)'!G30,Лист3!$A$2:$B$974,2,FALSE()) -> 419639 | H28: =VLOOKUP('Таблица подбора (2)'!H30,Лист3!$A$2:$B$974,2,FALSE()) -> 419685 | I28: =VLOOKUP('Таблица подбора (2)'!I30,Лист3!$A$2:$B$974,2,FALSE()) -> 419665 | J28: =VLOOKUP('Таблица подбора (2)'!J30,Лист3!$A$2:$B$974,2,FALSE()) -> 419688 | K28: =VLOOKUP('Таблица подбора (2)'!K30,Лист3!$A$2:$B$974,2,FALSE()) -> 419689 | L28: =VLOOKUP('Таблица подбора (2)'!L30,Лист3!$A$2:$B$974,2,FALSE()) -> 419690 | M28: =VLOOKUP('Таблица подбора (2)'!M30,Лист3!$A$2:$B$974,2,FALSE()) -> 419693 | N28: 419696 | O28: =VLOOKUP('Таблица подбора (2)'!O30,Лист3!$A$2:$B$974,2,FALSE()) -> 419699 | P28: =VLOOKUP('Таблица подбора (2)'!P30,Лист3!$A$2:$B$974,2,FALSE()) -> 419722 | R28: 419741 | S28: 419746 | T28: 419741 | U28: 419984 | V28: 419978 | W28: =VLOOKUP('Таблица подбора (2)'!W30,Лист3!$A$2:$B$974,2,FALSE()) -> #N/A | X28: 419731 | Y28: 419739 | Z28: 419867 | AB28: 419246 | AC28: 419234 | AD28: 419233 | AE28: 420051 | AF28: 420059 | AH28: 420059
A29: =CONCATENATE(B29,C29,D29) -> 16004001000 | B29: 1600 | C29: 400 | D29: 1000 | E29: =VLOOKUP('Таблица подбора (2)'!E31,Лист3!$A$2:$B$974,2,FALSE()) -> 419590 | F29: =VLOOKUP('Таблица подбора (2)'!F31,Лист3!$A$2:$B$974,2,FALSE()) -> 419605 | G29: =VLOOKUP('Таблица подбора (2)'!G31,Лист3!$A$2:$B$974,2,FALSE()) -> 419624 | H29: =VLOOKUP('Таблица подбора (2)'!H31,Лист3!$A$2:$B$974,2,FALSE()) -> 419668 | I29: 419642 | J29: =VLOOKUP('Таблица подбора (2)'!J31,Лист3!$A$2:$B$974,2,FALSE()) -> 419688 | K29: =VLOOKUP('Таблица подбора (2)'!K31,Лист3!$A$2:$B$974,2,FALSE()) -> 419689 | L29: 419690 | M29: 419694 | N29: 419696 | O29: 419700 | P29: =VLOOKUP('Таблица подбора (2)'!P31,Лист3!$A$2:$B$974,2,FALSE()) -> 421768 | R29: 419742 | S29: 419747 | T29: 419742 | U29: 419984 | V29: 419978 | W29: =VLOOKUP('Таблица подбора (2)'!W31,Лист3!$A$2:$B$974,2,FALSE()) -> #N/A | X29: 419732 | Y29: 419739 | Z29: 419868
A30: =CONCATENATE(B30,C30,D30) -> 18004001000 | B30: 1800 | C30: 400 | D30: 1000 | E30: =VLOOKUP('Таблица подбора (2)'!E32,Лист3!$A$2:$B$974,2,FALSE()) -> 419590 | F30: =VLOOKUP('Таблица подбора (2)'!F32,Лист3!$A$2:$B$974,2,FALSE()) -> 419606 | G30: =VLOOKUP('Таблица подбора (2)'!G32,Лист3!$A$2:$B$974,2,FALSE()) -> 419628 | H30: =VLOOKUP('Таблица подбора (2)'!H32,Лист3!$A$2:$B$974,2,FALSE()) -> 419674 | I30: =VLOOKUP('Таблица подбора (2)'!I32,Лист3!$A$2:$B$974,2,FALSE()) -> 419648 | J30: =VLOOKUP('Таблица подбора (2)'!J32,Лист3!$A$2:$B$974,2,FALSE()) -> 419688 | K30: =VLOOKUP('Таблица подбора (2)'!K32,Лист3!$A$2:$B$974,2,FALSE()) -> 419689 | L30: =VLOOKUP('Таблица подбора (2)'!L32,Лист3!$A$2:$B$974,2,FALSE()) -> 419690 | M30: =VLOOKUP('Таблица подбора (2)'!M32,Лист3!$A$2:$B$974,2,FALSE()) -> 419694 | N30: 419696 | O30: =VLOOKUP('Таблица подбора (2)'!O32,Лист3!$A$2:$B$974,2,FALSE()) -> 419700 | P30: =VLOOKUP('Таблица подбора (2)'!P32,Лист3!$A$2:$B$974,2,FALSE()) -> 419705 | R30: 419742 | S30: 419747 | T30: 419742 | U30: 419984 | V30: 419978 | W30: =VLOOKUP('Таблица подбора (2)'!W32,Лист3!$A$2:$B$974,2,FALSE()) -> #N/A | X30: 419732 | Y30: 419739 | Z30: 419868 | AB30: 419244 | AC30: 419230 | AD30: 419229 | AE30: 420044 | AF30: 420053 | AH30: 420053
A31: =CONCATENATE(B31,C31,D31) -> 20004001000 | B31: 2000 | C31: 400 | D31: 1000 | E31: =VLOOKUP('Таблица подбора (2)'!E33,Лист3!$A$2:$B$974,2,FALSE()) -> 419590 | F31: =VLOOKUP('Таблица подбора (2)'!F33,Лист3!$A$2:$B$974,2,FALSE()) -> 419607 | G31: =VLOOKUP('Таблица подбора (2)'!G33,Лист3!$A$2:$B$974,2,FALSE()) -> 419633 | H31: =VLOOKUP('Таблица подбора (2)'!H33,Лист3!$A$2:$B$974,2,FALSE()) -> 419680 | I31: =VLOOKUP('Таблица подбора (2)'!I33,Лист3!$A$2:$B$974,2,FALSE()) -> 419654 | J31: =VLOOKUP('Таблица подбора (2)'!J33,Лист3!$A$2:$B$974,2,FALSE()) -> 419688 | K31: =VLOOKUP('Таблица подбора (2)'!K33,Лист3!$A$2:$B$974,2,FALSE()) -> 419689 | L31: =VLOOKUP('Таблица подбора (2)'!L33,Лист3!$A$2:$B$974,2,FALSE()) -> 419690 | M31: =VLOOKUP('Таблица подбора (2)'!M33,Лист3!$A$2:$B$974,2,FALSE()) -> 419694 | N31: 419696 | O31: =VLOOKUP('Таблица подбора (2)'!O33,Лист3!$A$2:$B$974,2,FALSE()) -> 419700 | P31: =VLOOKUP('Таблица подбора (2)'!P33,Лист3!$A$2:$B$974,2,FALSE()) -> 419714 | R31: 419742 | S31: 419747 | T31: 419742 | U31: 419984 | V31: 419978 | W31: =VLOOKUP('Таблица подбора (2)'!W33,Лист3!$A$2:$B$974,2,FALSE()) -> #N/A | X31: 419732 | Y31: 419739 | Z31: 419868 | AB31: 419245 | AC31: 419232 | AD31: 419231 | AE31: 420048 | AF31: 420056 | AH31: 420056
A32: =CONCATENATE(B32,C32,D32) -> 22004001000 | B32: 2200 | C32: 400 | D32: 1000 | E32: =VLOOKUP('Таблица подбора (2)'!E34,Лист3!$A$2:$B$974,2,FALSE()) -> 419590 | F32: =VLOOKUP('Таблица подбора (2)'!F34,Лист3!$A$2:$B$974,2,FALSE()) -> 419608 | G32: =VLOOKUP('Таблица подбора (2)'!G34,Лист3!$A$2:$B$974,2,FALSE()) -> 419639 | H32: =VLOOKUP('Таблица подбора (2)'!H34,Лист3!$A$2:$B$974,2,FALSE()) -> 419685 | I32: =VLOOKUP('Таблица подбора (2)'!I34,Лист3!$A$2:$B$974,2,FALSE()) -> 419660 | J32: =VLOOKUP('Таблица подбора (2)'!J34,Лист3!$A$2:$B$974,2,FALSE()) -> 419688 | K32: =VLOOKUP('Таблица подбора (2)'!K34,Лист3!$A$2:$B$974,2,FALSE()) -> 419689 | L32: =VLOOKUP('Таблица подбора (2)'!L34,Лист3!$A$2:$B$974,2,FALSE()) -> 419690 | M32: =VLOOKUP('Таблица подбора (2)'!M34,Лист3!$A$2:$B$974,2,FALSE()) -> 419694 | N32: 419696 | O32: =VLOOKUP('Таблица подбора (2)'!O34,Лист3!$A$2:$B$974,2,FALSE()) -> 419700 | P32: =VLOOKUP('Таблица подбора (2)'!P34,Лист3!$A$2:$B$974,2,FALSE()) -> 419722 | R32: 419742 | S32: 419747 | T32: 419742 | U32: 419984 | V32: 419978 | W32: =VLOOKUP('Таблица подбора (2)'!W34,Лист3!$A$2:$B$974,2,FALSE()) -> #N/A | X32: 419732 | Y32: 419739 | Z32: 419868 | AB32: 419246 | AC32: 419234 | AD32: 419233 | AE32: 420052 | AF32: 420059 | AH32: 420059
A33: =CONCATENATE(B33,C33,D33) -> 1600600400 | B33: 1600 | C33: 600 | D33: 400 | E33: =VLOOKUP('Таблица подбора (2)'!E35,Лист3!$A$2:$B$974,2,FALSE()) -> 419596 | F33: =VLOOKUP('Таблица подбора (2)'!F35,Лист3!$A$2:$B$974,2,FALSE()) -> 419605 | G33: =VLOOKUP('Таблица подбора (2)'!G35,Лист3!$A$2:$B$974,2,FALSE()) -> 419625 | H33: =VLOOKUP('Таблица подбора (2)'!H35,Лист3!$A$2:$B$974,2,FALSE()) -> 419669 | I33: =VLOOKUP('Таблица подбора (2)'!I35,Лист3!$A$2:$B$974,2,FALSE()) -> 419644 | J33: =VLOOKUP('Таблица подбора (2)'!J35,Лист3!$A$2:$B$974,2,FALSE()) -> 419688 | K33: =VLOOKUP('Таблица подбора (2)'!K35,Лист3!$A$2:$B$974,2,FALSE()) -> 419689 | L33: 419692 | M33: =VLOOKUP('Таблица подбора (2)'!M35,Лист3!$A$2:$B$974,2,FALSE()) -> 419690 | N33: 419698 | O33: =VLOOKUP('Таблица подбора (2)'!O35,Лист3!$A$2:$B$974,2,FALSE()) -> 419696 | P33: =VLOOKUP('Таблица подбора (2)'!P35,Лист3!$A$2:$B$974,2,FALSE()) -> 421769 | Q33: 419159 | R33: 419739 | S33: 419744 | T33: 419739 | U33: 419985 | V33: 419979 | W33: =VLOOKUP('Таблица подбора (2)'!W35,Лист3!$A$2:$B$974,2,FALSE()) -> #N/A | X33: 419728 | Y33: 419740 | Z33: 419864 | AA33: 419159
A34: =CONCATENATE(B34,C34,D34) -> 1800600400 | B34: 1800 | C34: 600 | D34: 400 | E34: =VLOOKUP('Таблица подбора (2)'!E36,Лист3!$A$2:$B$974,2,FALSE()) -> 419596 | F34: =VLOOKUP('Таблица подбора (2)'!F36,Лист3!$A$2:$B$974,2,FALSE()) -> 419606 | G34: =VLOOKUP('Таблица подбора (2)'!G36,Лист3!$A$2:$B$974,2,FALSE()) -> 419629 | H34: =VLOOKUP('Таблица подбора (2)'!H36,Лист3!$A$2:$B$974,2,FALSE()) -> 419675 | I34: =VLOOKUP('Таблица подбора (2)'!I36,Лист3!$A$2:$B$974,2,FALSE()) -> 419650 | J34: =VLOOKUP('Таблица подбора (2)'!J36,Лист3!$A$2:$B$974,2,FALSE()) -> 419688 | K34: =VLOOKUP('Таблица подбора (2)'!K36,Лист3!$A$2:$B$974,2,FALSE()) -> 419689 | L34: =VLOOKUP('Таблица подбора (2)'!L36,Лист3!$A$2:$B$974,2,FALSE()) -> 419692 | M34: =VLOOKUP('Таблица подбора (2)'!M36,Лист3!$A$2:$B$974,2,FALSE()) -> 419690 | N34: 419698 | O34: =VLOOKUP('Таблица подбора (2)'!O36,Лист3!$A$2:$B$974,2,FALSE()) -> 419696 | P34: =VLOOKUP('Таблица подбора (2)'!P36,Лист3!$A$2:$B$974,2,FALSE()) -> 419707 | Q34: 419159 | R34: 419739 | S34: 419744 | T34: 419739 | U34: 419985 | V34: 419979 | W34: =VLOOKUP('Таблица подбора (2)'!W36,Лист3!$A$2:$B$974,2,FALSE()) -> #N/A | X34: 419728 | Y34: 419740 | Z34: 419864 | AA34: 419159 | AB34: 419244 | AC34: 419230 | AD34: 419229 | AE34: 420041 | AF34: 420053 | AG34: 420054 | AH34: 420054 | AI34: 420053
A35: =CONCATENATE(B35,C35,D35) -> 2000600400 | B35: 2000 | C35: 600 | D35: 400 | E35: =VLOOKUP('Таблица подбора (2)'!E37,Лист3!$A$2:$B$974,2,FALSE()) -> 419596 | F35: =VLOOKUP('Таблица подбора (2)'!F37,Лист3!$A$2:$B$974,2,FALSE()) -> 419607 | G35: =VLOOKUP('Таблица подбора (2)'!G37,Лист3!$A$2:$B$974,2,FALSE()) -> 419634 | H35: =VLOOKUP('Таблица подбора (2)'!H37,Лист3!$A$2:$B$974,2,FALSE()) -> 419681 | I35: =VLOOKUP('Таблица подбора (2)'!I37,Лист3!$A$2:$B$974,2,FALSE()) -> 419656 | J35: =VLOOKUP('Таблица подбора (2)'!J37,Лист3!$A$2:$B$974,2,FALSE()) -> 419688 | K35: =VLOOKUP('Таблица подбора (2)'!K37,Лист3!$A$2:$B$974,2,FALSE()) -> 419689 | L35: =VLOOKUP('Таблица подбора (2)'!L37,Лист3!$A$2:$B$974,2,FALSE()) -> 419692 | M35: =VLOOKUP('Таблица подбора (2)'!M37,Лист3!$A$2:$B$974,2,FALSE()) -> 419690 | N35: 419698 | O35: =VLOOKUP('Таблица подбора (2)'!O37,Лист3!$A$2:$B$974,2,FALSE()) -> 419696 | P35: =VLOOKUP('Таблица подбора (2)'!P37,Лист3!$A$2:$B$974,2,FALSE()) -> 419716 | Q35: 419159 | R35: 419739 | S35: 419744 | T35: 419739 | U35: 419985 | V35: 419979 | W35: =VLOOKUP('Таблица подбора (2)'!W37,Лист3!$A$2:$B$974,2,FALSE()) -> #N/A | X35: 419728 | Y35: 419740 | Z35: 419864 | AA35: 419159 | AB35: 419245 | AC35: 419232 | AD35: 419231 | AE35: 420045 | AF35: 420056 | AG35: 420057 | AH35: 420057 | AI35: 420056
A36: =CONCATENATE(B36,C36,D36) -> 2200600400 | B36: 2200 | C36: 600 | D36: 400 | E36: =VLOOKUP('Таблица подбора (2)'!E38,Лист3!$A$2:$B$974,2,FALSE()) -> 419596 | F36: =VLOOKUP('Таблица подбора (2)'!F38,Лист3!$A$2:$B$974,2,FALSE()) -> 419608 | G36: =VLOOKUP('Таблица подбора (2)'!G38,Лист3!$A$2:$B$974,2,FALSE()) -> 419640 | H36: =VLOOKUP('Таблица подбора (2)'!H38,Лист3!$A$2:$B$974,2,FALSE()) -> 419686 | I36: =VLOOKUP('Таблица подбора (2)'!I38,Лист3!$A$2:$B$974,2,FALSE()) -> 419662 | J36: =VLOOKUP('Таблица подбора (2)'!J38,Лист3!$A$2:$B$974,2,FALSE()) -> 419688 | K36: =VLOOKUP('Таблица подбора (2)'!K38,Лист3!$A$2:$B$974,2,FALSE()) -> 419689 | L36: =VLOOKUP('Таблица подбора (2)'!L38,Лист3!$A$2:$B$974,2,FALSE()) -> 419692 | M36: =VLOOKUP('Таблица подбора (2)'!M38,Лист3!$A$2:$B$974,2,FALSE()) -> 419690 | N36: 419698 | O36: =VLOOKUP('Таблица подбора (2)'!O38,Лист3!$A$2:$B$974,2,FALSE()) -> 419696 | P36: =VLOOKUP('Таблица подбора (2)'!P38,Лист3!$A$2:$B$974,2,FALSE()) -> 419723 | Q36: 419159 | R36: 419739 | S36: 419744 | T36: 419739 | U36: 419985 | V36: 419979 | W36: =VLOOKUP('Таблица подбора (2)'!W38,Лист3!$A$2:$B$974,2,FALSE()) -> #N/A | X36: 419728 | Y36: 419740 | Z36: 419864 | AA36: 419159 | AB36: 419246 | AC36: 419234 | AD36: 419233 | AE36: 420049 | AF36: 420059 | AG36: 420060 | AH36: 420060 | AI36: 420059
A37: =CONCATENATE(B37,C37,D37) -> 1600600500 | B37: 1600 | C37: 600 | D37: 500 | E37: 419597 | F37: 419605 | G37: 419625 | H37: 419669 | I37: 419645 | J37: 419688 | K37: 419689 | L37: 419692 | M37: 419691 | N37: 419698 | O37: 419697 | P37: 421769 | R37: 419729 | U37: 419985 | V37: 419979 | X37: 419729 | Y37: 419740 | Z37: 419865 | AA37: 419159
A38: =CONCATENATE(B38,C38,D38) -> 1800600500 | B38: 1800 | C38: 600 | D38: 500 | E38: 419597 | F38: 419606 | G38: 419629 | H38: 419675 | I38: 419651 | J38: 419688 | K38: 419689 | L38: 419692 | M38: 419691 | N38: 419698 | O38: 419697 | P38: 419707 | R38: 419729 | U38: 419985 | V38: 419979 | X38: 419729 | Y38: 419740 | Z38: 419865 | AA38: 419159 | AB38: 419244 | AC38: 419230 | AD38: 419229
A39: =CONCATENATE(B39,C39,D39) -> 2000600500 | B39: 2000 | C39: 600 | D39: 500 | E39: 419597 | F39: 419607 | G39: 419634 | H39: 419681 | I39: 419657 | J39: 419688 | K39: 419689 | L39: 419692 | M39: 419691 | N39: 419698 | O39: 419697 | P39: 419716 | R39: 419729 | U39: 419985 | V39: 419979 | X39: 419729 | Y39: 419740 | Z39: 419865 | AA39: 419159 | AB39: 419245 | AC39: 419232 | AD39: 419231
A40: =CONCATENATE(B40,C40,D40) -> 2200600500 | B40: 2200 | C40: 600 | D40: 500 | E40: 419597 | F40: 419608 | G40: 419640 | H40: 419686 | I40: 419663 | J40: 419688 | K40: 419689 | L40: 419692 | M40: 419691 | N40: 419698 | O40: 419697 | P40: 419723 | R40: 419729 | U40: 419985 | V40: 419979 | X40: 419729 | Y40: 419740 | Z40: 419865 | AA40: 419159 | AB40: 419246 | AC40: 419234 | AD40: 419233
A41: =CONCATENATE(B41,C41,D41) -> 1600600600 | B41: 1600 | C41: 600 | D41: 600 | E41: =VLOOKUP('Таблица подбора (2)'!E39,Лист3!$A$2:$B$974,2,FALSE()) -> 419598 | F41: =VLOOKUP('Таблица подбора (2)'!F39,Лист3!$A$2:$B$974,2,FALSE()) -> 419605 | G41: =VLOOKUP('Таблица подбора (2)'!G39,Лист3!$A$2:$B$974,2,FALSE()) -> 419625 | H41: =VLOOKUP('Таблица подбора (2)'!H39,Лист3!$A$2:$B$974,2,FALSE()) -> 419669 | I41: =VLOOKUP('Таблица подбора (2)'!I39,Лист3!$A$2:$B$974,2,FALSE()) -> 419646 | J41: =VLOOKUP('Таблица подбора (2)'!J39,Лист3!$A$2:$B$974,2,FALSE()) -> 419688 | K41: =VLOOKUP('Таблица подбора (2)'!K39,Лист3!$A$2:$B$974,2,FALSE()) -> 419689 | L41: 419692 | M41: 419692 | N41: 419698 | O41: 419698 | P41: =VLOOKUP('Таблица подбора (2)'!P39,Лист3!$A$2:$B$974,2,FALSE()) -> 421769 | Q41: 419159 | R41: 419740 | S41: 419745 | T41: 419740 | U41: 419985 | V41: 419979 | W41: =VLOOKUP('Таблица подбора (2)'!W39,Лист3!$A$2:$B$974,2,FALSE()) -> #N/A | X41: 419730 | Y41: 419740 | Z41: 419866 | AA41: 419159
A42: =CONCATENATE(B42,C42,D42) -> 1800600600 | B42: 1800 | C42: 600 | D42: 600 | E42: =VLOOKUP('Таблица подбора (2)'!E40,Лист3!$A$2:$B$974,2,FALSE()) -> 419598 | F42: =VLOOKUP('Таблица подбора (2)'!F40,Лист3!$A$2:$B$974,2,FALSE()) -> 419606 | G42: =VLOOKUP('Таблица подбора (2)'!G40,Лист3!$A$2:$B$974,2,FALSE()) -> 419629 | H42: =VLOOKUP('Таблица подбора (2)'!H40,Лист3!$A$2:$B$974,2,FALSE()) -> 419675 | I42: =VLOOKUP('Таблица подбора (2)'!I40,Лист3!$A$2:$B$974,2,FALSE()) -> 419652 | J42: =VLOOKUP('Таблица подбора (2)'!J40,Лист3!$A$2:$B$974,2,FALSE()) -> 419688 | K42: =VLOOKUP('Таблица подбора (2)'!K40,Лист3!$A$2:$B$974,2,FALSE()) -> 419689 | L42: =VLOOKUP('Таблица подбора (2)'!L40,Лист3!$A$2:$B$974,2,FALSE()) -> 419692 | M42: =VLOOKUP('Таблица подбора (2)'!M40,Лист3!$A$2:$B$974,2,FALSE()) -> 419692 | N42: 419698 | O42: =VLOOKUP('Таблица подбора (2)'!O40,Лист3!$A$2:$B$974,2,FALSE()) -> 419698 | P42: =VLOOKUP('Таблица подбора (2)'!P40,Лист3!$A$2:$B$974,2,FALSE()) -> 419707 | Q42: 419159 | R42: 419740 | S42: 419745 | T42: 419740 | U42: 419985 | V42: 419979 | W42: =VLOOKUP('Таблица подбора (2)'!W40,Лист3!$A$2:$B$974,2,FALSE()) -> #N/A | X42: 419730 | Y42: 419740 | Z42: 419866 | AA42: 419159 | AB42: 419244 | AC42: 419230 | AD42: 419229 | AE42: 420042 | AF42: 420053 | AG42: 420054 | AH42: 420054 | AI42: 420053
A43: =CONCATENATE(B43,C43,D43) -> 2000600600 | B43: 2000 | C43: 600 | D43: 600 | E43: =VLOOKUP('Таблица подбора (2)'!E41,Лист3!$A$2:$B$974,2,FALSE()) -> 419598 | F43: =VLOOKUP('Таблица подбора (2)'!F41,Лист3!$A$2:$B$974,2,FALSE()) -> 419607 | G43: =VLOOKUP('Таблица подбора (2)'!G41,Лист3!$A$2:$B$974,2,FALSE()) -> 419634 | H43: =VLOOKUP('Таблица подбора (2)'!H41,Лист3!$A$2:$B$974,2,FALSE()) -> 419681 | I43: =VLOOKUP('Таблица подбора (2)'!I41,Лист3!$A$2:$B$974,2,FALSE()) -> 419658 | J43: =VLOOKUP('Таблица подбора (2)'!J41,Лист3!$A$2:$B$974,2,FALSE()) -> 419688 | K43: =VLOOKUP('Таблица подбора (2)'!K41,Лист3!$A$2:$B$974,2,FALSE()) -> 419689 | L43: =VLOOKUP('Таблица подбора (2)'!L41,Лист3!$A$2:$B$974,2,FALSE()) -> 419692 | M43: =VLOOKUP('Таблица подбора (2)'!M41,Лист3!$A$2:$B$974,2,FALSE()) -> 419692 | N43: 419698 | O43: =VLOOKUP('Таблица подбора (2)'!O41,Лист3!$A$2:$B$974,2,FALSE()) -> 419698 | P43: =VLOOKUP('Таблица подбора (2)'!P41,Лист3!$A$2:$B$974,2,FALSE()) -> 419716 | Q43: 419159 | R43: 419740 | S43: 419745 | T43: 419740 | U43: 419985 | V43: 419979 | W43: =VLOOKUP('Таблица подбора (2)'!W41,Лист3!$A$2:$B$974,2,FALSE()) -> #N/A | X43: 419730 | Y43: 419740 | Z43: 419866 | AA43: 419159 | AB43: 419245 | AC43: 419232 | AD43: 419231 | AE43: 420046 | AF43: 420056 | AG43: 420057 | AH43: 420057 | AI43: 420056
A44: =CONCATENATE(B44,C44,D44) -> 2200600600 | B44: 2200 | C44: 600 | D44: 600 | E44: =VLOOKUP('Таблица подбора (2)'!E42,Лист3!$A$2:$B$974,2,FALSE()) -> 419598 | F44: =VLOOKUP('Таблица подбора (2)'!F42,Лист3!$A$2:$B$974,2,FALSE()) -> 419608 | G44: =VLOOKUP('Таблица подбора (2)'!G42,Лист3!$A$2:$B$974,2,FALSE()) -> 419640 | H44: =VLOOKUP('Таблица подбора (2)'!H42,Лист3!$A$2:$B$974,2,FALSE()) -> 419686 | I44: =VLOOKUP('Таблица подбора (2)'!I42,Лист3!$A$2:$B$974,2,FALSE()) -> 419664 | J44: =VLOOKUP('Таблица подбора (2)'!J42,Лист3!$A$2:$B$974,2,FALSE()) -> 419688 | K44: =VLOOKUP('Таблица подбора (2)'!K42,Лист3!$A$2:$B$974,2,FALSE()) -> 419689 | L44: =VLOOKUP('Таблица подбора (2)'!L42,Лист3!$A$2:$B$974,2,FALSE()) -> 419692 | M44: =VLOOKUP('Таблица подбора (2)'!M42,Лист3!$A$2:$B$974,2,FALSE()) -> 419692 | N44: 419698 | O44: =VLOOKUP('Таблица подбора (2)'!O42,Лист3!$A$2:$B$974,2,FALSE()) -> 419698 | P44: =VLOOKUP('Таблица подбора (2)'!P42,Лист3!$A$2:$B$974,2,FALSE()) -> 419723 | Q44: 419159 | R44: 419740 | S44: 419745 | T44: 419740 | U44: 419985 | V44: 419979 | W44: =VLOOKUP('Таблица подбора (2)'!W42,Лист3!$A$2:$B$974,2,FALSE()) -> #N/A | X44: 419730 | Y44: 419740 | Z44: 419866 | AA44: 419159 | AB44: 419246 | AC44: 419234 | AD44: 419233 | AE44: 420050 | AF44: 420059 | AG44: 420060 | AH44: 420060 | AI44: 420059
A45: =CONCATENATE(B45,C45,D45) -> 1600600800 | B45: 1600 | C45: 600 | D45: 800 | E45: =VLOOKUP('Таблица подбора (2)'!E43,Лист3!$A$2:$B$974,2,FALSE()) -> 419599 | F45: =VLOOKUP('Таблица подбора (2)'!F43,Лист3!$A$2:$B$974,2,FALSE()) -> 419605 | G45: =VLOOKUP('Таблица подбора (2)'!G43,Лист3!$A$2:$B$974,2,FALSE()) -> 419625 | H45: =VLOOKUP('Таблица подбора (2)'!H43,Лист3!$A$2:$B$974,2,FALSE()) -> 419669 | I45: =VLOOKUP('Таблица подбора (2)'!I43,Лист3!$A$2:$B$974,2,FALSE()) -> 419647 | J45: =VLOOKUP('Таблица подбора (2)'!J43,Лист3!$A$2:$B$974,2,FALSE()) -> 419688 | K45: =VLOOKUP('Таблица подбора (2)'!K43,Лист3!$A$2:$B$974,2,FALSE()) -> 419689 | L45: 419692 | M45: 419693 | N45: 419698 | O45: 419699 | P45: =VLOOKUP('Таблица подбора (2)'!P43,Лист3!$A$2:$B$974,2,FALSE()) -> 421769 | Q45: 419159 | R45: 419741 | S45: 419746 | T45: 419741 | U45: 419985 | V45: 419979 | W45: =VLOOKUP('Таблица подбора (2)'!W43,Лист3!$A$2:$B$974,2,FALSE()) -> #N/A | X45: 419731 | Y45: 419740 | Z45: 419867 | AA45: 419159
A46: =CONCATENATE(B46,C46,D46) -> 1800600800 | B46: 1800 | C46: 600 | D46: 800 | E46: =VLOOKUP('Таблица подбора (2)'!E44,Лист3!$A$2:$B$974,2,FALSE()) -> 419599 | F46: =VLOOKUP('Таблица подбора (2)'!F44,Лист3!$A$2:$B$974,2,FALSE()) -> 419606 | G46: =VLOOKUP('Таблица подбора (2)'!G44,Лист3!$A$2:$B$974,2,FALSE()) -> 419629 | H46: =VLOOKUP('Таблица подбора (2)'!H44,Лист3!$A$2:$B$974,2,FALSE()) -> 419675 | I46: =VLOOKUP('Таблица подбора (2)'!I44,Лист3!$A$2:$B$974,2,FALSE()) -> 419653 | J46: =VLOOKUP('Таблица подбора (2)'!J44,Лист3!$A$2:$B$974,2,FALSE()) -> 419688 | K46: =VLOOKUP('Таблица подбора (2)'!K44,Лист3!$A$2:$B$974,2,FALSE()) -> 419689 | L46: =VLOOKUP('Таблица подбора (2)'!L44,Лист3!$A$2:$B$974,2,FALSE()) -> 419692 | M46: =VLOOKUP('Таблица подбора (2)'!M44,Лист3!$A$2:$B$974,2,FALSE()) -> 419693 | N46: 419698 | O46: =VLOOKUP('Таблица подбора (2)'!O44,Лист3!$A$2:$B$974,2,FALSE()) -> 419699 | P46: =VLOOKUP('Таблица подбора (2)'!P44,Лист3!$A$2:$B$974,2,FALSE()) -> 419707 | Q46: 419159 | R46: 419741 | S46: 419746 | T46: 419741 | U46: 419985 | V46: 419979 | W46: =VLOOKUP('Таблица подбора (2)'!W44,Лист3!$A$2:$B$974,2,FALSE()) -> #N/A | X46: 419731 | Y46: 419740 | Z46: 419867 | AA46: 419159 | AB46: 419244 | AC46: 419230 | AD46: 419229 | AE46: 420043 | AF46: 420053 | AG46: 420054 | AH46: 420054 | AI46: 420053
A47: =CONCATENATE(B47,C47,D47) -> 2000600800 | B47: 2000 | C47: 600 | D47: 800 | E47: =VLOOKUP('Таблица подбора (2)'!E45,Лист3!$A$2:$B$974,2,FALSE()) -> 419599 | F47: =VLOOKUP('Таблица подбора (2)'!F45,Лист3!$A$2:$B$974,2,FALSE()) -> 419607 | G47: =VLOOKUP('Таблица подбора (2)'!G45,Лист3!$A$2:$B$974,2,FALSE()) -> 419634 | H47: =VLOOKUP('Таблица подбора (2)'!H45,Лист3!$A$2:$B$974,2,FALSE()) -> 419681 | I47: =VLOOKUP('Таблица подбора (2)'!I45,Лист3!$A$2:$B$974,2,FALSE()) -> 419659 | J47: =VLOOKUP('Таблица подбора (2)'!J45,Лист3!$A$2:$B$974,2,FALSE()) -> 419688 | K47: =VLOOKUP('Таблица подбора (2)'!K45,Лист3!$A$2:$B$974,2,FALSE()) -> 419689 | L47: =VLOOKUP('Таблица подбора (2)'!L45,Лист3!$A$2:$B$974,2,FALSE()) -> 419692 | M47: =VLOOKUP('Таблица подбора (2)'!M45,Лист3!$A$2:$B$974,2,FALSE()) -> 419693 | N47: 419698 | O47: =VLOOKUP('Таблица подбора (2)'!O45,Лист3!$A$2:$B$974,2,FALSE()) -> 419699 | P47: =VLOOKUP('Таблица подбора (2)'!P45,Лист3!$A$2:$B$974,2,FALSE()) -> 419716 | Q47: 419159 | R47: 419741 | S47: 419746 | T47: 419741 | U47: 419985 | V47: 419979 | W47: =VLOOKUP('Таблица подбора (2)'!W45,Лист3!$A$2:$B$974,2,FALSE()) -> #N/A | X47: 419731 | Y47: 419740 | Z47: 419867 | AA47: 419159 | AB47: 419245 | AC47: 419232 | AD47: 419231 | AE47: 420047 | AF47: 420056 | AG47: 420057 | AH47: 420057 | AI47: 420056
A48: =CONCATENATE(B48,C48,D48) -> 2200600800 | B48: 2200 | C48: 600 | D48: 800 | E48: =VLOOKUP('Таблица подбора (2)'!E46,Лист3!$A$2:$B$974,2,FALSE()) -> 419599 | F48: =VLOOKUP('Таблица подбора (2)'!F46,Лист3!$A$2:$B$974,2,FALSE()) -> 419608 | G48: =VLOOKUP('Таблица подбора (2)'!G46,Лист3!$A$2:$B$974,2,FALSE()) -> 419640 | H48: =VLOOKUP('Таблица подбора (2)'!H46,Лист3!$A$2:$B$974,2,FALSE()) -> 419686 | I48: =VLOOKUP('Таблица подбора (2)'!I46,Лист3!$A$2:$B$974,2,FALSE()) -> 419665 | J48: =VLOOKUP('Таблица подбора (2)'!J46,Лист3!$A$2:$B$974,2,FALSE()) -> 419688 | K48: =VLOOKUP('Таблица подбора (2)'!K46,Лист3!$A$2:$B$974,2,FALSE()) -> 419689 | L48: =VLOOKUP('Таблица подбора (2)'!L46,Лист3!$A$2:$B$974,2,FALSE()) -> 419692 | M48: =VLOOKUP('Таблица подбора (2)'!M46,Лист3!$A$2:$B$974,2,FALSE()) -> 419693 | N48: 419698 | O48: =VLOOKUP('Таблица подбора (2)'!O46,Лист3!$A$2:$B$974,2,FALSE()) -> 419699 | P48: =VLOOKUP('Таблица подбора (2)'!P46,Лист3!$A$2:$B$974,2,FALSE()) -> 419723 | Q48: 419159 | R48: 419741 | S48: 419746 | T48: 419741 | U48: 419985 | V48: 419979 | W48: =VLOOKUP('Таблица подбора (2)'!W46,Лист3!$A$2:$B$974,2,FALSE()) -> #N/A | X48: 419731 | Y48: 419740 | Z48: 419867 | AA48: 419159 | AB48: 419246 | AC48: 419234 | AD48: 419233 | AE48: 420051 | AF48: 420059 | AG48: 420060 | AH48: 420060 | AI48: 420059
A49: =CONCATENATE(B49,C49,D49) -> 16006001000 | B49: 1600 | C49: 600 | D49: 1000 | E49: =VLOOKUP('Таблица подбора (2)'!E47,Лист3!$A$2:$B$974,2,FALSE()) -> 419595 | F49: =VLOOKUP('Таблица подбора (2)'!F47,Лист3!$A$2:$B$974,2,FALSE()) -> 419605 | G49: =VLOOKUP('Таблица подбора (2)'!G47,Лист3!$A$2:$B$974,2,FALSE()) -> 419625 | H49: =VLOOKUP('Таблица подбора (2)'!H47,Лист3!$A$2:$B$974,2,FALSE()) -> 419669 | I49: 419642 | J49: =VLOOKUP('Таблица подбора (2)'!J47,Лист3!$A$2:$B$974,2,FALSE()) -> 419688 | K49: =VLOOKUP('Таблица подбора (2)'!K47,Лист3!$A$2:$B$974,2,FALSE()) -> 419689 | L49: 419692 | M49: 419694 | N49: 419698 | O49: 419700 | P49: =VLOOKUP('Таблица подбора (2)'!P47,Лист3!$A$2:$B$974,2,FALSE()) -> 421769 | Q49: 419159 | R49: 419742 | S49: 419747 | T49: 419742 | U49: 419985 | V49: 419979 | W49: =VLOOKUP('Таблица подбора (2)'!W47,Лист3!$A$2:$B$974,2,FALSE()) -> #N/A | X49: 419732 | Y49: 419740 | Z49: 419868 | AA49: 419159
A50: =CONCATENATE(B50,C50,D50) -> 18006001000 | B50: 1800 | C50: 600 | D50: 1000 | E50: =VLOOKUP('Таблица подбора (2)'!E48,Лист3!$A$2:$B$974,2,FALSE()) -> 419595 | F50: =VLOOKUP('Таблица подбора (2)'!F48,Лист3!$A$2:$B$974,2,FALSE()) -> 419606 | G50: =VLOOKUP('Таблица подбора (2)'!G48,Лист3!$A$2:$B$974,2,FALSE()) -> 419629 | H50: =VLOOKUP('Таблица подбора (2)'!H48,Лист3!$A$2:$B$974,2,FALSE()) -> 419675 | I50: =VLOOKUP('Таблица подбора (2)'!I48,Лист3!$A$2:$B$974,2,FALSE()) -> 419648 | J50: =VLOOKUP('Таблица подбора (2)'!J48,Лист3!$A$2:$B$974,2,FALSE()) -> 419688 | K50: =VLOOKUP('Таблица подбора (2)'!K48,Лист3!$A$2:$B$974,2,FALSE()) -> 419689 | L50: =VLOOKUP('Таблица подбора (2)'!L48,Лист3!$A$2:$B$974,2,FALSE()) -> 419692 | M50: =VLOOKUP('Таблица подбора (2)'!M48,Лист3!$A$2:$B$974,2,FALSE()) -> 419694 | N50: 419698 | O50: =VLOOKUP('Таблица подбора (2)'!O48,Лист3!$A$2:$B$974,2,FALSE()) -> 419700 | P50: =VLOOKUP('Таблица подбора (2)'!P48,Лист3!$A$2:$B$974,2,FALSE()) -> 419707 | Q50: 419159 | R50: 419742 | S50: 419747 | T50: 419742 | U50: 419985 | V50: 419979 | W50: =VLOOKUP('Таблица подбора (2)'!W48,Лист3!$A$2:$B$974,2,FALSE()) -> #N/A | X50: 419732 | Y50: 419740 | Z50: 419868 | AA50: 419159 | AB50: 419244 | AC50: 419230 | AD50: 419229 | AE50: 420044 | AF50: 420053 | AG50: 420054 | AH50: 420054 | AI50: 420053
A51: =CONCATENATE(B51,C51,D51) -> 20006001000 | B51: 2000 | C51: 600 | D51: 1000 | E51: =VLOOKUP('Таблица подбора (2)'!E49,Лист3!$A$2:$B$974,2,FALSE()) -> 419595 | F51: =VLOOKUP('Таблица подбора (2)'!F49,Лист3!$A$2:$B$974,2,FALSE()) -> 419607 | G51: =VLOOKUP('Таблица подбора (2)'!G49,Лист3!$A$2:$B$974,2,FALSE()) -> 419634 | H51: =VLOOKUP('Таблица подбора (2)'!H49,Лист3!$A$2:$B$974,2,FALSE()) -> 419681 | I51: =VLOOKUP('Таблица подбора (2)'!I49,Лист3!$A$2:$B$974,2,FALSE()) -> 419654 | J51: =VLOOKUP('Таблица подбора (2)'!J49,Лист3!$A$2:$B$974,2,FALSE()) -> 419688 | K51: =VLOOKUP('Таблица подбора (2)'!K49,Лист3!$A$2:$B$974,2,FALSE()) -> 419689 | L51: =VLOOKUP('Таблица подбора (2)'!L49,Лист3!$A$2:$B$974,2,FALSE()) -> 419692 | M51: =VLOOKUP('Таблица подбора (2)'!M49,Лист3!$A$2:$B$974,2,FALSE()) -> 419694 | N51: 419698 | O51: =VLOOKUP('Таблица подбора (2)'!O49,Лист3!$A$2:$B$974,2,FALSE()) -> 419700 | P51: =VLOOKUP('Таблица подбора (2)'!P49,Лист3!$A$2:$B$974,2,FALSE()) -> 419716 | Q51: 419159 | R51: 419742 | S51: 419747 | T51: 419742 | U51: 419985 | V51: 419979 | W51: =VLOOKUP('Таблица подбора (2)'!W49,Лист3!$A$2:$B$974,2,FALSE()) -> #N/A | X51: 419732 | Y51: 419740 | Z51: 419868 | AA51: 419159 | AB51: 419245 | AC51: 419232 | AD51: 419231 | AE51: 420048 | AF51: 420056 | AG51: 420057 | AH51: 420057 | AI51: 420056
A52: =CONCATENATE(B52,C52,D52) -> 22006001000 | B52: 2200 | C52: 600 | D52: 1000 | E52: =VLOOKUP('Таблица подбора (2)'!E50,Лист3!$A$2:$B$974,2,FALSE()) -> 419595 | F52: =VLOOKUP('Таблица подбора (2)'!F50,Лист3!$A$2:$B$974,2,FALSE()) -> 419608 | G52: =VLOOKUP('Таблица подбора (2)'!G50,Лист3!$A$2:$B$974,2,FALSE()) -> 419640 | H52: =VLOOKUP('Таблица подбора (2)'!H50,Лист3!$A$2:$B$974,2,FALSE()) -> 419686 | I52: =VLOOKUP('Таблица подбора (2)'!I50,Лист3!$A$2:$B$974,2,FALSE()) -> 419660 | J52: =VLOOKUP('Таблица подбора (2)'!J50,Лист3!$A$2:$B$974,2,FALSE()) -> 419688 | K52: =VLOOKUP('Таблица подбора (2)'!K50,Лист3!$A$2:$B$974,2,FALSE()) -> 419689 | L52: =VLOOKUP('Таблица подбора (2)'!L50,Лист3!$A$2:$B$974,2,FALSE()) -> 419692 | M52: =VLOOKUP('Таблица подбора (2)'!M50,Лист3!$A$2:$B$974,2,FALSE()) -> 419694 | N52: 419698 | O52: =VLOOKUP('Таблица подбора (2)'!O50,Лист3!$A$2:$B$974,2,FALSE()) -> 419700 | P52: =VLOOKUP('Таблица подбора (2)'!P50,Лист3!$A$2:$B$974,2,FALSE()) -> 419723 | Q52: 419159 | R52: 419742 | S52: 419747 | T52: 419742 | U52: 419985 | V52: 419979 | W52: =VLOOKUP('Таблица подбора (2)'!W50,Лист3!$A$2:$B$974,2,FALSE()) -> #N/A | X52: 419732 | Y52: 419740 | Z52: 419868 | AA52: 419159 | AB52: 419246 | AC52: 419234 | AD52: 419233 | AE52: 420052 | AF52: 420059 | AG52: 420060 | AH52: 420060 | AI52: 420059
A53: =CONCATENATE(B53,C53,D53) -> 1600800400 | B53: 1600 | C53: 800 | D53: 400 | E53: =VLOOKUP('Таблица подбора (2)'!E51,Лист3!$A$2:$B$974,2,FALSE()) -> 419601 | F53: =VLOOKUP('Таблица подбора (2)'!F51,Лист3!$A$2:$B$974,2,FALSE()) -> 419605 | G53: =VLOOKUP('Таблица подбора (2)'!G51,Лист3!$A$2:$B$974,2,FALSE()) -> 421761 | H53: =VLOOKUP('Таблица подбора (2)'!H51,Лист3!$A$2:$B$974,2,FALSE()) -> 419670 | I53: =VLOOKUP('Таблица подбора (2)'!I51,Лист3!$A$2:$B$974,2,FALSE()) -> 419644 | J53: =VLOOKUP('Таблица подбора (2)'!J51,Лист3!$A$2:$B$974,2,FALSE()) -> 419688 | K53: =VLOOKUP('Таблица подбора (2)'!K51,Лист3!$A$2:$B$974,2,FALSE()) -> 419689 | L53: 419693 | M53: =VLOOKUP('Таблица подбора (2)'!M51,Лист3!$A$2:$B$974,2,FALSE()) -> 419690 | N53: 419698 | O53: =VLOOKUP('Таблица подбора (2)'!O51,Лист3!$A$2:$B$974,2,FALSE()) -> 419696 | P53: =VLOOKUP('Таблица подбора (2)'!P51,Лист3!$A$2:$B$974,2,FALSE()) -> 421770 | Q53: 419160 | R53: 419739 | S53: 419744 | T53: 419739 | U53: 419986 | V53: 419980 | W53: =VLOOKUP('Таблица подбора (2)'!W51,Лист3!$A$2:$B$974,2,FALSE()) -> #N/A | X53: 419728 | Y53: 419741 | Z53: 419864 | AA53: 419160
A54: =CONCATENATE(B54,C54,D54) -> 1800800400 | B54: 1800 | C54: 800 | D54: 400 | E54: =VLOOKUP('Таблица подбора (2)'!E52,Лист3!$A$2:$B$974,2,FALSE()) -> 419601 | F54: =VLOOKUP('Таблица подбора (2)'!F52,Лист3!$A$2:$B$974,2,FALSE()) -> 419606 | G54: =VLOOKUP('Таблица подбора (2)'!G52,Лист3!$A$2:$B$974,2,FALSE()) -> 419630 | H54: =VLOOKUP('Таблица подбора (2)'!H52,Лист3!$A$2:$B$974,2,FALSE()) -> 419676 | I54: =VLOOKUP('Таблица подбора (2)'!I52,Лист3!$A$2:$B$974,2,FALSE()) -> 419650 | J54: =VLOOKUP('Таблица подбора (2)'!J52,Лист3!$A$2:$B$974,2,FALSE()) -> 419688 | K54: =VLOOKUP('Таблица подбора (2)'!K52,Лист3!$A$2:$B$974,2,FALSE()) -> 419689 | L54: =VLOOKUP('Таблица подбора (2)'!L52,Лист3!$A$2:$B$974,2,FALSE()) -> 419693 | ... P54: =VLOOKUP('Таблица подбора (2)'!P52,Лист3!$A$2:$B$974,2,FALSE()) -> 419708 | Q54: 419160 | R54: 419739 | S54: 419744 | T54: 419739 | U54: 419986 | V54: 419980 | W54: =VLOOKUP('Таблица подбора (2)'!W52,Лист3!$A$2:$B$974,2,FALSE()) -> #N/A | X54: 419728 | Y54: 419741 | Z54: 419864 | AA54: 419160 | AB54: 419244 | AC54: 419230 | AD54: 419229 | AE54: 420041 | AF54: 420053 | AG54: 420054 | AH54: 420055 | AI54: 420054
A55: =CONCATENATE(B55,C55,D55) -> 2000800400 | B55: 2000 | C55: 800 | D55: 400 | E55: =VLOOKUP('Таблица подбора (2)'!E53,Лист3!$A$2:$B$974,2,FALSE()) -> 419601 | F55: =VLOOKUP('Таблица подбора (2)'!F53,Лист3!$A$2:$B$974,2,FALSE()) -> 419607 | G55: =VLOOKUP('Таблица подбора (2)'!G53,Лист3!$A$2:$B$974,2,FALSE()) -> 419635 | H55: =VLOOKUP('Таблица подбора (2)'!H53,Лист3!$A$2:$B$974,2,FALSE()) -> 419682 | I55: =VLOOKUP('Таблица подбора (2)'!I53,Лист3!$A$2:$B$974,2,FALSE()) -> 419656 | J55: =VLOOKUP('Таблица подбора (2)'!J53,Лист3!$A$2:$B$974,2,FALSE()) -> 419688 | K55: =VLOOKUP('Таблица подбора (2)'!K53,Лист3!$A$2:$B$974,2,FALSE()) -> 419689 | L55: =VLOOKUP('Таблица подбора (2)'!L53,Лист3!$A$2:$B$974,2,FALSE()) -> 419693 | ... P55: =VLOOKUP('Таблица подбора (2)'!P53,Лист3!$A$2:$B$974,2,FALSE()) -> 419718 | Q55: 419160 | R55: 419739 | S55: 419744 | T55: 419739 | U55: 419986 | V55: 419980 | W55: =VLOOKUP('Таблица подбора (2)'!W53,Лист3!$A$2:$B$974,2,FALSE()) -> #N/A | X55: 419728 | Y55: 419741 | Z55: 419864 | AA55: 419160 | AB55: 419245 | AC55: 419232 | AD55: 419231 | AE55: 420045 | AF55: 420056 | AG55: 420057 | AH55: 420058 | AI55: 420057
A56: =CONCATENATE(B56,C56,D56) -> 2200800400 | B56: 2200 | C56: 800 | D56: 400 | E56: =VLOOKUP('Таблица подбора (2)'!E54,Лист3!$A$2:$B$974,2,FALSE()) -> 419601 | F56: =VLOOKUP('Таблица подбора (2)'!F54,Лист3!$A$2:$B$974,2,FALSE()) -> 419608 | G56: =VLOOKUP('Таблица подбора (2)'!G54,Лист3!$A$2:$B$974,2,FALSE()) -> 419641 | H56: =VLOOKUP('Таблица подбора (2)'!H54,Лист3!$A$2:$B$974,2,FALSE()) -> 419687 | I56: =VLOOKUP('Таблица подбора (2)'!I54,Лист3!$A$2:$B$974,2,FALSE()) -> 419662 | J56: =VLOOKUP('Таблица подбора (2)'!J54,Лист3!$A$2:$B$974,2,FALSE()) -> 419688 | K56: =VLOOKUP('Таблица подбора (2)'!K54,Лист3!$A$2:$B$974,2,FALSE()) -> 419689 | L56: =VLOOKUP('Таблица подбора (2)'!L54,Лист3!$A$2:$B$974,2,FALSE()) -> 419693 | ... P56: =VLOOKUP('Таблица подбора (2)'!P54,Лист3!$A$2:$B$974,2,FALSE()) -> 419724 | Q56: 419160 | R56: 419739 | S56: 419744 | T56: 419739 | U56: 419986 | V56: 419980 | W56: =VLOOKUP('Таблица подбора (2)'!W54,Лист3!$A$2:$B$974,2,FALSE()) -> #N/A | X56: 419728 | Y56: 419741 | Z56: 419864 | AA56: 419160 | AB56: 419246 | AC56: 419234 | AD56: 419233 | AE56: 420049 | AF56: 420059 | AG56: 420060 | AH56: 420061 | AI56: 420060
A57: =CONCATENATE(B57,C57,D57) -> 1600800500 | B57: 1600 | C57: 800 | D57: 500 | E57: 419602 | F57: 419605 | G57: 421761 | H57: 419670 | I57: 419645 | J57: 419688 | K57: 419689 | L57: 419693 | M57: 419691 | N57: 419699 | O57: 419697 | P57: 421770 | R57: 419729 | U57: 419986 | V57: 419980 | X57: 419729 | Y57: 419741 | Z57: 419865 | AA57: 419160
A58: =CONCATENATE(B58,C58,D58) -> 1800800500 | B58: 1800 | C58: 800 | D58: 500 | E58: 419602 | F58: 419606 | G58: 419630 | H58: 419676 | I58: 419651 | J58: 419688 | K58: 419689 | L58: 419693 | M58: 419691 | N58: 419699 | O58: 419697 | P58: 419708 | R58: 419729 | U58: 419986 | V58: 419980 | X58: 419729 | Y58: 419741 | Z58: 419865 | AA58: 419160 | AB58: 419244 | AC58: 419230 | AD58: 419229
A59: =CONCATENATE(B59,C59,D59) -> 2000800500 | B59: 2000 | C59: 800 | D59: 500 | E59: 419602 | F59: 419607 | G59: 419635 | H59: 419682 | I59: 419657 | J59: 419688 | K59: 419689 | L59: 419693 | M59: 419691 | N59: 419699 | O59: 419697 | P59: 419718 | R59: 419729 | U59: 419986 | V59: 419980 | X59: 419729 | Y59: 419741 | Z59: 419865 | AA59: 419160 | AB59: 419245 | AC59: 419232 | AD59: 419231
A60: =CONCATENATE(B60,C60,D60) -> 2200800500 | B60: 2200 | C60: 800 | D60: 500 | E60: 419602 | F60: 419608 | G60: 419641 | H60: 419687 | I60: 419663 | J60: 419688 | K60: 419689 | L60: 419693 | M60: 419691 | N60: 419699 | O60: 419697 | P60: 419724 | R60: 419729 | U60: 419986 | V60: 419980 | X60: 419729 | Y60: 419741 | Z60: 419865 | AA60: 419160 | AB60: 419246 | AC60: 419234 | AD60: 419233
A61: =CONCATENATE(B61,C61,D61) -> 1600800600 | B61: 1600 | C61: 800 | D61: 600 | E61: =VLOOKUP('Таблица подбора (2)'!E55,Лист3!$A$2:$B$974,2,FALSE()) -> 419603 | F61: =VLOOKUP('Таблица подбора (2)'!F55,Лист3!$A$2:$B$974,2,FALSE()) -> 419605 | G61: =VLOOKUP('Таблица подбора (2)'!G55,Лист3!$A$2:$B$974,2,FALSE()) -> 421761 | H61: =VLOOKUP('Таблица подбора (2)'!H55,Лист3!$A$2:$B$974,2,FALSE()) -> 419670 | I61: =VLOOKUP('Таблица подбора (2)'!I55,Лист3!$A$2:$B$974,2,FALSE()) -> 419647 | J61: =VLOOKUP('Таблица подбора (2)'!J55,Лист3!$A$2:$B$974,2,FALSE()) -> 419688 | K61: =VLOOKUP('Таблица подбора (2)'!K55,Лист3!$A$2:$B$974,2,FALSE()) -> 419689 | L61: 419693 | M61: 419692 | N61: 419699 | O61: 419698 | P61: =VLOOKUP('Таблица подбора (2)'!P55,Лист3!$A$2:$B$974,2,FALSE()) -> 421770 | Q61: 419160 | R61: 419740 | S61: 419745 | T61: 419740 | U61: 419986 | V61: 419980 | W61: =VLOOKUP('Таблица подбора (2)'!W55,Лист3!$A$2:$B$974,2,FALSE()) -> #N/A | X61: 419730 | Y61: 419741 | Z61: 419866 | AA61: 419160
A62: =CONCATENATE(B62,C62,D62) -> 1800800600 | B62: 1800 | C62: 800 | D62: 600 | E62: =VLOOKUP('Таблица подбора (2)'!E56,Лист3!$A$2:$B$974,2,FALSE()) -> 419603 | F62: =VLOOKUP('Таблица подбора (2)'!F56,Лист3!$A$2:$B$974,2,FALSE()) -> 419606 | G62: =VLOOKUP('Таблица подбора (2)'!G56,Лист3!$A$2:$B$974,2,FALSE()) -> 419630 | H62: =VLOOKUP('Таблица подбора (2)'!H56,Лист3!$A$2:$B$974,2,FALSE()) -> 419676 | I62: =VLOOKUP('Таблица подбора (2)'!I56,Лист3!$A$2:$B$974,2,FALSE()) -> 419652 | J62: =VLOOKUP('Таблица подбора (2)'!J56,Лист3!$A$2:$B$974,2,FALSE()) -> 419688 | K62: =VLOOKUP('Таблица подбора (2)'!K56,Лист3!$A$2:$B$974,2,FALSE()) -> 419689 | L62: =VLOOKUP('Таблица подбора (2)'!L56,Лист3!$A$2:$B$974,2,FALSE()) -> 419693 | M62: =VLOOKUP('Таблица подбора (2)'!M56,Лист3!$A$2:$B$974,2,FALSE()) -> 419692 | N62: 419699 | O62: =VLOOKUP('Таблица подбора (2)'!O56,Лист3!$A$2:$B$974,2,FALSE()) -> 419698 | P62: =VLOOKUP('Таблица подбора (2)'!P56,Лист3!$A$2:$B$974,2,FALSE()) -> 419708 | Q62: 419160 | R62: 419740 | S62: 419745 | T62: 419740 | U62: 419986 | V62: 419980 | W62: =VLOOKUP('Таблица подбора (2)'!W56,Лист3!$A$2:$B$974,2,FALSE()) -> #N/A | X62: 419730 | Y62: 419741 | Z62: 419866 | AA62: 419160 | AB62: 419244 | AC62: 419230 | AD62: 419229 | AE62: 420042 | AF62: 420053 | AG62: 420054 | AH62: 420055 | AI62: 420054
A63: =CONCATENATE(B63,C63,D63) -> 2000800600 | B63: 2000 | C63: 800 | D63: 600 | E63: =VLOOKUP('Таблица подбора (2)'!E57,Лист3!$A$2:$B$974,2,FALSE()) -> 419603 | F63: =VLOOKUP('Таблица подбора (2)'!F57,Лист3!$A$2:$B$974,2,FALSE()) -> 419607 | G63: =VLOOKUP('Таблица подбора (2)'!G57,Лист3!$A$2:$B$974,2,FALSE()) -> 419635 | H63: =VLOOKUP('Таблица подбора (2)'!H57,Лист3!$A$2:$B$974,2,FALSE()) -> 419682 | I63: =VLOOKUP('Таблица подбора (2)'!I57,Лист3!$A$2:$B$974,2,FALSE()) -> 419658 | J63: =VLOOKUP('Таблица подбора (2)'!J57,Лист3!$A$2:$B$974,2,FALSE()) -> 419688 | K63: =VLOOKUP('Таблица подбора (2)'!K57,Лист3!$A$2:$B$974,2,FALSE()) -> 419689 | L63: =VLOOKUP('Таблица подбора (2)'!L57,Лист3!$A$2:$B$974,2,FALSE()) -> 419693 | M63: =VLOOKUP('Таблица подбора (2)'!M57,Лист3!$A$2:$B$974,2,FALSE()) -> 419692 | N63: 419699 | O63: =VLOOKUP('Таблица подбора (2)'!O57,Лист3!$A$2:$B$974,2,FALSE()) -> 419698 | P63: =VLOOKUP('Таблица подбора (2)'!P57,Лист3!$A$2:$B$974,2,FALSE()) -> 419718 | Q63: 419160 | R63: 419740 | S63: 419745 | T63: 419740 | U63: 419986 | V63: 419980 | W63: =VLOOKUP('Таблица подбора (2)'!W57,Лист3!$A$2:$B$974,2,FALSE()) -> #N/A | X63: 419730 | Y63: 419741 | Z63: 419866 | AA63: 419160 | AB63: 419245 | AC63: 419232 | AD63: 419231 | AE63: 420046 | AF63: 420056 | AG63: 420057 | AH63: 420058 | AI63: 420057
A64: =CONCATENATE(B64,C64,D64) -> 2200800600 | B64: 2200 | C64: 800 | D64: 600 | E64: =VLOOKUP('Таблица подбора (2)'!E58,Лист3!$A$2:$B$974,2,FALSE()) -> 419603 | F64: =VLOOKUP('Таблица подбора (2)'!F58,Лист3!$A$2:$B$974,2,FALSE()) -> 419608 | G64: =VLOOKUP('Таблица подбора (2)'!G58,Лист3!$A$2:$B$974,2,FALSE()) -> 419641 | H64: =VLOOKUP('Таблица подбора (2)'!H58,Лист3!$A$2:$B$974,2,FALSE()) -> 419687 | I64: =VLOOKUP('Таблица подбора (2)'!I58,Лист3!$A$2:$B$974,2,FALSE()) -> 419664 | J64: =VLOOKUP('Таблица подбора (2)'!J58,Лист3!$A$2:$B$974,2,FALSE()) -> 419688 | K64: =VLOOKUP('Таблица подбора (2)'!K58,Лист3!$A$2:$B$974,2,FALSE()) -> 419689 | L64: =VLOOKUP('Таблица подбора (2)'!L58,Лист3!$A$2:$B$974,2,FALSE()) -> 419693 | M64: =VLOOKUP('Таблица подбора (2)'!M58,Лист3!$A$2:$B$974,2,FALSE()) -> 419692 | N64: 419699 | O64: =VLOOKUP('Таблица подбора (2)'!O58,Лист3!$A$2:$B$974,2,FALSE()) -> 419698 | P64: =VLOOKUP('Таблица подбора (2)'!P58,Лист3!$A$2:$B$974,2,FALSE()) -> 419724 | Q64: 419160 | R64: 419740 | S64: 419745 | T64: 419740 | U64: 419986 | V64: 419980 | W64: =VLOOKUP('Таблица подбора (2)'!W58,Лист3!$A$2:$B$974,2,FALSE()) -> #N/A | X64: 419730 | Y64: 419741 | Z64: 419866 | AA64: 419160 | AB64: 419246 | AC64: 419234 | AD64: 419233 | AE64: 420050 | AF64: 420059 | AG64: 420060 | AH64: 420061 | AI64: 420060
A65: =CONCATENATE(B65,C65,D65) -> 1600800800 | B65: 1600 | C65: 800 | D65: 800 | E65: =VLOOKUP('Таблица подбора (2)'!E59,Лист3!$A$2:$B$974,2,FALSE()) -> 419604 | F65: =VLOOKUP('Таблица подбора (2)'!F59,Лист3!$A$2:$B$974,2,FALSE()) -> 419605 | G65: =VLOOKUP('Таблица подбора (2)'!G59,Лист3!$A$2:$B$974,2,FALSE()) -> 421761 | H65: =VLOOKUP('Таблица подбора (2)'!H59,Лист3!$A$2:$B$974,2,FALSE()) -> 419670 | I65: =VLOOKUP('Таблица подбора (2)'!I59,Лист3!$A$2:$B$974,2,FALSE()) -> 419647 | J65: =VLOOKUP('Таблица подбора (2)'!J59,Лист3!$A$2:$B$974,2,FALSE()) -> 419688 | K65: =VLOOKUP('Таблица подбора (2)'!K59,Лист3!$A$2:$B$974,2,FALSE()) -> 419689 | L65: 419693 | M65: 419693 | N65: 419699 | O65: 419699 | P65: =VLOOKUP('Таблица подбора (2)'!P59,Лист3!$A$2:$B$974,2,FALSE()) -> 421770 | Q65: 419160 | R65: 419741 | S65: 419746 | T65: 419741 | U65: 419986 | V65: 419980 | W65: =VLOOKUP('Таблица подбора (2)'!W59,Лист3!$A$2:$B$974,2,FALSE()) -> #N/A | X65: 419731 | Y65: 419741 | Z65: 419867 | AA65: 419160
A66: =CONCATENATE(B66,C66,D66) -> 1800800800 | B66: 1800 | C66: 800 | D66: 800 | E66: =VLOOKUP('Таблица подбора (2)'!E60,Лист3!$A$2:$B$974,2,FALSE()) -> 419604 | F66: =VLOOKUP('Таблица подбора (2)'!F60,Лист3!$A$2:$B$974,2,FALSE()) -> 419606 | G66: =VLOOKUP('Таблица подбора (2)'!G60,Лист3!$A$2:$B$974,2,FALSE()) -> 419630 | H66: =VLOOKUP('Таблица подбора (2)'!H60,Лист3!$A$2:$B$974,2,FALSE()) -> 419676 | I66: =VLOOKUP('Таблица подбора (2)'!I60,Лист3!$A$2:$B$974,2,FALSE()) -> 419653 | J66: =VLOOKUP('Таблица подбора (2)'!J60,Лист3!$A$2:$B$974,2,FALSE()) -> 419688 | K66: =VLOOKUP('Таблица подбора (2)'!K60,Лист3!$A$2:$B$974,2,FALSE()) -> 419689 | L66: =VLOOKUP('Таблица подбора (2)'!L60,Лист3!$A$2:$B$974,2,FALSE()) -> 419693 | M66: =VLOOKUP('Таблица подбора (2)'!M60,Лист3!$A$2:$B$974,2,FALSE()) -> 419693 | N66: 419699 | O66: =VLOOKUP('Таблица подбора (2)'!O60,Лист3!$A$2:$B$974,2,FALSE()) -> 419699 | P66: =VLOOKUP('Таблица подбора (2)'!P60,Лист3!$A$2:$B$974,2,FALSE()) -> 419708 | Q66: 419160 | R66: 419741 | S66: 419746 | T66: 419741 | U66: 419986 | V66: 419980 | W66: =VLOOKUP('Таблица подбора (2)'!W60,Лист3!$A$2:$B$974,2,FALSE()) -> #N/A | X66: 419731 | Y66: 419741 | Z66: 419867 | AA66: 419160 | AB66: 419244 | AC66: 419230 | AD66: 419229 | AE66: 420043 | AF66: 420053 | AG66: 420054 | AH66: 420055 | AI66: 420054
A67: =CONCATENATE(B67,C67,D67) -> 2000800800 | B67: 2000 | C67: 800 | D67: 800 | E67: =VLOOKUP('Таблица подбора (2)'!E61,Лист3!$A$2:$B$974,2,FALSE()) -> 419604 | F67: =VLOOKUP('Таблица подбора (2)'!F61,Лист3!$A$2:$B$974,2,FALSE()) -> 419607 | G67: =VLOOKUP('Таблица подбора (2)'!G61,Лист3!$A$2:$B$974,2,FALSE()) -> 419635 | H67: =VLOOKUP('Таблица подбора (2)'!H61,Лист3!$A$2:$B$974,2,FALSE()) -> 419682 | I67: =VLOOKUP('Таблица подбора (2)'!I61,Лист3!$A$2:$B$974,2,FALSE()) -> 419659 | J67: =VLOOKUP('Таблица подбора (2)'!J61,Лист3!$A$2:$B$974,2,FALSE()) -> 419688 | K67: =VLOOKUP('Таблица подбора (2)'!K61,Лист3!$A$2:$B$974,2,FALSE()) -> 419689 | L67: =VLOOKUP('Таблица подбора (2)'!L61,Лист3!$A$2:$B$974,2,FALSE()) -> 419693 | M67: =VLOOKUP('Таблица подбора (2)'!M61,Лист3!$A$2:$B$974,2,FALSE()) -> 419693 | N67: 419699 | O67: =VLOOKUP('Таблица подбора (2)'!O61,Лист3!$A$2:$B$974,2,FALSE()) -> 419699 | P67: =VLOOKUP('Таблица подбора (2)'!P61,Лист3!$A$2:$B$974,2,FALSE()) -> 419718 | Q67: 419160 | R67: 419741 | S67: 419746 | T67: 419741 | U67: 419986 | V67: 419980 | W67: =VLOOKUP('Таблица подбора (2)'!W61,Лист3!$A$2:$B$974,2,FALSE()) -> #N/A | X67: 419731 | Y67: 419741 | Z67: 419867 | AA67: 419160 | AB67: 419245 | AC67: 419232 | AD67: 419231 | AE67: 420047 | AF67: 420056 | AG67: 420057 | AH67: 420058 | AI67: 420057
A68: =CONCATENATE(B68,C68,D68) -> 2200800800 | B68: 2200 | C68: 800 | D68: 800 | E68: =VLOOKUP('Таблица подбора (2)'!E62,Лист3!$A$2:$B$974,2,FALSE()) -> 419604 | F68: =VLOOKUP('Таблица подбора (2)'!F62,Лист3!$A$2:$B$974,2,FALSE()) -> 419608 | G68: =VLOOKUP('Таблица подбора (2)'!G62,Лист3!$A$2:$B$974,2,FALSE()) -> 419641 | H68: =VLOOKUP('Таблица подбора (2)'!H62,Лист3!$A$2:$B$974,2,FALSE()) -> 419687 | I68: =VLOOKUP('Таблица подбора (2)'!I62,Лист3!$A$2:$B$974,2,FALSE()) -> 419665 | J68: =VLOOKUP('Таблица подбора (2)'!J62,Лист3!$A$2:$B$974,2,FALSE()) -> 419688 | K68: =VLOOKUP('Таблица подбора (2)'!K62,Лист3!$A$2:$B$974,2,FALSE()) -> 419689 | L68: =VLOOKUP('Таблица подбора (2)'!L62,Лист3!$A$2:$B$974,2,FALSE()) -> 419693 | M68: =VLOOKUP('Таблица подбора (2)'!M62,Лист3!$A$2:$B$974,2,FALSE()) -> 419693 | N68: 419699 | O68: =VLOOKUP('Таблица подбора (2)'!O62,Лист3!$A$2:$B$974,2,FALSE()) -> 419699 | P68: =VLOOKUP('Таблица подбора (2)'!P62,Лист3!$A$2:$B$974,2,FALSE()) -> 419724 | Q68: 419160 | R68: 419741 | S68: 419746 | T68: 419741 | U68: 419986 | V68: 419980 | W68: =VLOOKUP('Таблица подбора (2)'!W62,Лист3!$A$2:$B$974,2,FALSE()) -> #N/A | X68: 419731 | Y68: 419741 | Z68: 419867 | AA68: 419160 | AB68: 419246 | AC68: 419234 | AD68: 419233 | AE68: 420051 | AF68: 420059 | AG68: 420060 | AH68: 420061 | AI68: 420060
A69: =CONCATENATE(B69,C69,D69) -> 16008001000 | B69: 1600 | C69: 800 | D69: 1000 | E69: =VLOOKUP('Таблица подбора (2)'!E63,Лист3!$A$2:$B$974,2,FALSE()) -> 419600 | F69: =VLOOKUP('Таблица подбора (2)'!F63,Лист3!$A$2:$B$974,2,FALSE()) -> 419605 | G69: =VLOOKUP('Таблица подбора (2)'!G63,Лист3!$A$2:$B$974,2,FALSE()) -> 421761 | H69: =VLOOKUP('Таблица подбора (2)'!H63,Лист3!$A$2:$B$974,2,FALSE()) -> 419670 | I69: 419642 | J69: =VLOOKUP('Таблица подбора (2)'!J63,Лист3!$A$2:$B$974,2,FALSE()) -> 419688 | K69: =VLOOKUP('Таблица подбора (2)'!K63,Лист3!$A$2:$B$974,2,FALSE()) -> 419689 | L69: 419693 | M69: 419694 | N69: 419699 | O69: 419700 | P69: =VLOOKUP('Таблица подбора (2)'!P63,Лист3!$A$2:$B$974,2,FALSE()) -> 421770 | Q69: 419160 | R69: 419742 | S69: 419747 | T69: 419742 | U69: 419986 | V69: 419980 | W69: =VLOOKUP('Таблица подбора (2)'!W63,Лист3!$A$2:$B$974,2,FALSE()) -> #N/A | X69: 419732 | Y69: 419741 | Z69: 419868 | AA69: 419160
A70: =CONCATENATE(B70,C70,D70) -> 18008001000 | B70: 1800 | C70: 800 | D70: 1000 | E70: =VLOOKUP('Таблица подбора (2)'!E64,Лист3!$A$2:$B$974,2,FALSE()) -> 419600 | F70: =VLOOKUP('Таблица подбора (2)'!F64,Лист3!$A$2:$B$974,2,FALSE()) -> 419606 | G70: =VLOOKUP('Таблица подбора (2)'!G64,Лист3!$A$2:$B$974,2,FALSE()) -> 419630 | H70: =VLOOKUP('Таблица подбора (2)'!H64,Лист3!$A$2:$B$974,2,FALSE()) -> 419676 | I70: =VLOOKUP('Таблица подбора (2)'!I64,Лист3!$A$2:$B$974,2,FALSE()) -> 419648 | J70: =VLOOKUP('Таблица подбора (2)'!J64,Лист3!$A$2:$B$974,2,FALSE()) -> 419688 | K70: =VLOOKUP('Таблица подбора (2)'!K64,Лист3!$A$2:$B$974,2,FALSE()) -> 419689 | L70: =VLOOKUP('Таблица подбора (2)'!L64,Лист3!$A$2:$B$974,2,FALSE()) -> 419693 | M70: =VLOOKUP('Таблица подбора (2)'!M64,Лист3!$A$2:$B$974,2,FALSE()) -> 419694 | N70: 419699 | O70: =VLOOKUP('Таблица подбора (2)'!O64,Лист3!$A$2:$B$974,2,FALSE()) -> 419700 | P70: =VLOOKUP('Таблица подбора (2)'!P64,Лист3!$A$2:$B$974,2,FALSE()) -> 419708 | Q70: 419160 | R70: 419742 | S70: 419747 | T70: 419742 | U70: 419986 | V70: 419980 | W70: =VLOOKUP('Таблица подбора (2)'!W64,Лист3!$A$2:$B$974,2,FALSE()) -> #N/A | X70: 419732 | Y70: 419741 | Z70: 419868 | AA70: 419160 | AB70: 419244 | AC70: 419230 | AD70: 419229 | AE70: 420044 | AF70: 420053 | AG70: 420054 | AH70: 420055 | AI70: 420054
A71: =CONCATENATE(B71,C71,D71) -> 20008001000 | B71: 2000 | C71: 800 | D71: 1000 | E71: =VLOOKUP('Таблица подбора (2)'!E65,Лист3!$A$2:$B$974,2,FALSE()) -> 419600 | F71: =VLOOKUP('Таблица подбора (2)'!F65,Лист3!$A$2:$B$974,2,FALSE()) -> 419607 | G71: =VLOOKUP('Таблица подбора (2)'!G65,Лист3!$A$2:$B$974,2,FALSE()) -> 419635 | H71: =VLOOKUP('Таблица подбора (2)'!H65,Лист3!$A$2:$B$974,2,FALSE()) -> 419682 | I71: =VLOOKUP('Таблица подбора (2)'!I65,Лист3!$A$2:$B$974,2,FALSE()) -> 419654 | J71: =VLOOKUP('Таблица подбора (2)'!J65,Лист3!$A$2:$B$974,2,FALSE()) -> 419688 | K71: =VLOOKUP('Таблица подбора (2)'!K65,Лист3!$A$2:$B$974,2,FALSE()) -> 419689 | L71: =VLOOKUP('Таблица подбора (2)'!L65,Лист3!$A$2:$B$974,2,FALSE()) -> 419693 | M71: =VLOOKUP('Таблица подбора (2)'!M65,Лист3!$A$2:$B$974,2,FALSE()) -> 419694 | N71: 419699 | O71: =VLOOKUP('Таблица подбора (2)'!O65,Лист3!$A$2:$B$974,2,FALSE()) -> 419700 | P71: =VLOOKUP('Таблица подбора (2)'!P65,Лист3!$A$2:$B$974,2,FALSE()) -> 419718 | Q71: 419160 | R71: 419742 | S71: 419747 | T71: 419742 | U71: 419986 | V71: 419980 | W71: =VLOOKUP('Таблица подбора (2)'!W65,Лист3!$A$2:$B$974,2,FALSE()) -> #N/A | X71: 419732 | Y71: 419741 | Z71: 419868 | AA71: 419160 | AB71: 419245 | AC71: 419232 | AD71: 419231 | AE71: 420048 | AF71: 420056 | AG71: 420057 | AH71: 420058 | AI71: 420057
A72: =CONCATENATE(B72,C72,D72) -> 22008001000 | B72: 2200 | C72: 800 | D72: 1000 | E72: =VLOOKUP('Таблица подбора (2)'!E66,Лист3!$A$2:$B$974,2,FALSE()) -> 419600 | F72: =VLOOKUP('Таблица подбора (2)'!F66,Лист3!$A$2:$B$974,2,FALSE()) -> 419608 | G72: =VLOOKUP('Таблица подбора (2)'!G66,Лист3!$A$2:$B$974,2,FALSE()) -> 419641 | H72: =VLOOKUP('Таблица подбора (2)'!H66,Лист3!$A$2:$B$974,2,FALSE()) -> 419687 | I72: =VLOOKUP('Таблица подбора (2)'!I66,Лист3!$A$2:$B$974,2,FALSE()) -> 419660 | J72: =VLOOKUP('Таблица подбора (2)'!J66,Лист3!$A$2:$B$974,2,FALSE()) -> 419688 | K72: =VLOOKUP('Таблица подбора (2)'!K66,Лист3!$A$2:$B$974,2,FALSE()) -> 419689 | L72: =VLOOKUP('Таблица подбора (2)'!L66,Лист3!$A$2:$B$974,2,FALSE()) -> 419693 | M72: =VLOOKUP('Таблица подбора (2)'!M66,Лист3!$A$2:$B$974,2,FALSE()) -> 419694 | N72: 419699 | O72: =VLOOKUP('Таблица подбора (2)'!O66,Лист3!$A$2:$B$974,2,FALSE()) -> 419700 | P72: =VLOOKUP('Таблица подбора (2)'!P66,Лист3!$A$2:$B$974,2,FALSE()) -> 419724 | Q72: 419160 | R72: 419742 | S72: 419747 | T72: 419742 | U72: 419986 | V72: 419980 | W72: =VLOOKUP('Таблица подбора (2)'!W66,Лист3!$A$2:$B$974,2,FALSE()) -> #N/A | X72: 419732 | Y72: 419741 | Z72: 419868 | AA72: 419160 | AB72: 419246 | AC72: 419234 | AD72: 419233 | AE72: 420052 | AF72: 420059 | AG72: 420060 | AH72: 420061 | AI72: 420060
A73: =CONCATENATE(B73,C73,D73) -> 16001000400 | B73: 1600 | C73: 1000 | D73: 400 | E73: =VLOOKUP('Таблица подбора (2)'!E67,Лист3!$A$2:$B$974,2,FALSE()) -> 419577 | F73: =VLOOKUP('Таблица подбора (2)'!F67,Лист3!$A$2:$B$974,2,FALSE()) -> 419605 | G73: =VLOOKUP('Таблица подбора (2)'!G67,Лист3!$A$2:$B$974,2,FALSE()) -> 419622 | H73: =VLOOKUP('Таблица подбора (2)'!H67,Лист3!$A$2:$B$974,2,FALSE()) -> 419666 | I73: =VLOOKUP('Таблица подбора (2)'!I67,Лист3!$A$2:$B$974,2,FALSE()) -> 419644 | J73: =VLOOKUP('Таблица подбора (2)'!J67,Лист3!$A$2:$B$974,2,FALSE()) -> 419688 | K73: =VLOOKUP('Таблица подбора (2)'!K67,Лист3!$A$2:$B$974,2,FALSE()) -> 419689 | L73: 419694 | M73: =VLOOKUP('Таблица подбора (2)'!M67,Лист3!$A$2:$B$974,2,FALSE()) -> 419690 | N73: 419700 | O73: =VLOOKUP('Таблица подбора (2)'!O67,Лист3!$A$2:$B$974,2,FALSE()) -> 419696 | P73: =VLOOKUP('Таблица подбора (2)'!P67,Лист3!$A$2:$B$974,2,FALSE()) -> 421771 | Q73: 419161 | R73: 419739 | S73: 419744 | T73: 419739 | U73: 419987 | V73: 419981 | W73: =VLOOKUP('Таблица подбора (2)'!W67,Лист3!$A$2:$B$974,2,FALSE()) -> #N/A | X73: 419728 | Y73: 419742 | Z73: 419864 | AA73: 419161
A74: =CONCATENATE(B74,C74,D74) -> 18001000400 | B74: 1800 | C74: 1000 | D74: 400 | E74: =VLOOKUP('Таблица подбора (2)'!E68,Лист3!$A$2:$B$974,2,FALSE()) -> 419577 | F74: =VLOOKUP('Таблица подбора (2)'!F68,Лист3!$A$2:$B$974,2,FALSE()) -> 419606 | G74: =VLOOKUP('Таблица подбора (2)'!G68,Лист3!$A$2:$B$974,2,FALSE()) -> 419626 | H74: =VLOOKUP('Таблица подбора (2)'!H68,Лист3!$A$2:$B$974,2,FALSE()) -> 419671 | I74: =VLOOKUP('Таблица подбора (2)'!I68,Лист3!$A$2:$B$974,2,FALSE()) -> 419650 | J74: =VLOOKUP('Таблица подбора (2)'!J68,Лист3!$A$2:$B$974,2,FALSE()) -> 419688 | K74: =VLOOKUP('Таблица подбора (2)'!K68,Лист3!$A$2:$B$974,2,FALSE()) -> 419689 | L74: =VLOOKUP('Таблица подбора (2)'!L68,Лист3!$A$2:$B$974,2,FALSE()) -> 419694 | M74: =VLOOKUP('Таблица подбора (2)'!M68,Лист3!$A$2:$B$974,2,FALSE()) -> 419690 | N74: 419700 | O74: =VLOOKUP('Таблица подбора (2)'!O68,Лист3!$A$2:$B$974,2,FALSE()) -> 419696 | P74: =VLOOKUP('Таблица подбора (2)'!P68,Лист3!$A$2:$B$974,2,FALSE()) -> 419702 | Q74: 419161 | R74: 419739 | S74: 419744 | T74: 419739 | U74: 419987 | V74: 419981 | W74: =VLOOKUP('Таблица подбора (2)'!W68,Лист3!$A$2:$B$974,2,FALSE()) -> #N/A | X74: 419728 | Y74: 419742 | Z74: 419864 | AA74: 419161 | AB74: 419244 | AC74: 419230 | AD74: 419229 | AE74: 420041 | AG74: 420054 | AI74: 420055
A75: =CONCATENATE(B75,C75,D75) -> 20001000400 | B75: 2000 | C75: 1000 | D75: 400 | E75: =VLOOKUP('Таблица подбора (2)'!E69,Лист3!$A$2:$B$974,2,FALSE()) -> 419577 | F75: =VLOOKUP('Таблица подбора (2)'!F69,Лист3!$A$2:$B$974,2,FALSE()) -> 419607 | G75: =VLOOKUP('Таблица подбора (2)'!G69,Лист3!$A$2:$B$974,2,FALSE()) -> 419631 | H75: =VLOOKUP('Таблица подбора (2)'!H69,Лист3!$A$2:$B$974,2,FALSE()) -> 419677 | I75: =VLOOKUP('Таблица подбора (2)'!I69,Лист3!$A$2:$B$974,2,FALSE()) -> 419656 | J75: =VLOOKUP('Таблица подбора (2)'!J69,Лист3!$A$2:$B$974,2,FALSE()) -> 419688 | K75: =VLOOKUP('Таблица подбора (2)'!K69,Лист3!$A$2:$B$974,2,FALSE()) -> 419689 | L75: =VLOOKUP('Таблица подбора (2)'!L69,Лист3!$A$2:$B$974,2,FALSE()) -> 419694 | M75: =VLOOKUP('Таблица подбора (2)'!M69,Лист3!$A$2:$B$974,2,FALSE()) -> 419690 | N75: 419700 | O75: =VLOOKUP('Таблица подбора (2)'!O69,Лист3!$A$2:$B$974,2,FALSE()) -> 419696 | P75: =VLOOKUP('Таблица подбора (2)'!P69,Лист3!$A$2:$B$974,2,FALSE()) -> 419710 | Q75: 419161 | R75: 419739 | S75: 419744 | T75: 419739 | U75: 419987 | V75: 419981 | W75: =VLOOKUP('Таблица подбора (2)'!W69,Лист3!$A$2:$B$974,2,FALSE()) -> #N/A | X75: 419728 | Y75: 419742 | Z75: 419864 | AA75: 419161 | AB75: 419245 | AC75: 419232 | AD75: 419231 | AE75: 420045 | AG75: 420057 | AI75: 420058
A76: =CONCATENATE(B76,C76,D76) -> 22001000400 | B76: 2200 | C76: 1000 | D76: 400 | E76: =VLOOKUP('Таблица подбора (2)'!E70,Лист3!$A$2:$B$974,2,FALSE()) -> 419577 | F76: =VLOOKUP('Таблица подбора (2)'!F70,Лист3!$A$2:$B$974,2,FALSE()) -> 419608 | G76: =VLOOKUP('Таблица подбора (2)'!G70,Лист3!$A$2:$B$974,2,FALSE()) -> 419636 | H76: =VLOOKUP('Таблица подбора (2)'!H70,Лист3!$A$2:$B$974,2,FALSE()) -> 419683 | I76: =VLOOKUP('Таблица подбора (2)'!I70,Лист3!$A$2:$B$974,2,FALSE()) -> 419662 | J76: =VLOOKUP('Таблица подбора (2)'!J70,Лист3!$A$2:$B$974,2,FALSE()) -> 419688 | K76: =VLOOKUP('Таблица подбора (2)'!K70,Лист3!$A$2:$B$974,2,FALSE()) -> 419689 | L76: =VLOOKUP('Таблица подбора (2)'!L70,Лист3!$A$2:$B$974,2,FALSE()) -> 419694 | M76: =VLOOKUP('Таблица подбора (2)'!M70,Лист3!$A$2:$B$974,2,FALSE()) -> 419690 | N76: 419700 | O76: =VLOOKUP('Таблица подбора (2)'!O70,Лист3!$A$2:$B$974,2,FALSE()) -> 419696 | P76: =VLOOKUP('Таблица подбора (2)'!P70,Лист3!$A$2:$B$974,2,FALSE()) -> 419720 | Q76: 419161 | R76: 419739 | S76: 419744 | T76: 419739 | U76: 419987 | V76: 419981 | W76: =VLOOKUP('Таблица подбора (2)'!W70,Лист3!$A$2:$B$974,2,FALSE()) -> #N/A | X76: 419728 | Y76: 419742 | Z76: 419864 | AA76: 419161 | AB76: 419246 | AC76: 419234 | AD76: 419233 | AE76: 420049 | AG76: 420060 | AI76: 420061
A77: =CONCATENATE(B77,C77,D77) -> 16001000500 | B77: 1600 | C77: 1000 | D77: 500 | E77: 419578 | F77: 419605 | G77: 419622 | H77: 419666 | I77: 419645 | J77: 419688 | K77: 419689 | L77: 419694 | M77: 419691 | N77: 419700 | O77: 419697 | P77: 421771 | R77: 419729 | U77: 419987 | V77: 419981 | X77: 419729 | Y77: 419742 | Z77: 419865 | AA77: 419161
A78: =CONCATENATE(B78,C78,D78) -> 18001000500 | B78: 1800 | C78: 1000 | D78: 500 | E78: 419578 | F78: 419606 | G78: 419626 | H78: 419671 | I78: 419651 | J78: 419688 | K78: 419689 | L78: 419694 | M78: 419691 | N78: 419700 | O78: 419697 | P78: 419702 | R78: 419729 | U78: 419987 | V78: 419981 | X78: 419729 | Y78: 419742 | Z78: 419865 | AA78: 419161 | AB78: 419244 | AC78: 419230 | AD78: 419229
A79: =CONCATENATE(B79,C79,D79) -> 20001000500 | B79: 2000 | C79: 1000 | D79: 500 | E79: 419578 | F79: 419607 | G79: 419631 | H79: 419677 | I79: 419657 | J79: 419688 | K79: 419689 | L79: 419694 | M79: 419691 | N79: 419700 | O79: 419697 | P79: 419710 | R79: 419729 | U79: 419987 | V79: 419981 | X79: 419729 | Y79: 419742 | Z79: 419865 | AA79: 419161 | AB79: 419245 | AC79: 419232 | AD79: 419231
A80: =CONCATENATE(B80,C80,D80) -> 22001000500 | B80: 2200 | C80: 1000 | D80: 500 | E80: 419578 | F80: 419608 | G80: 419636 | H80: 419683 | I80: 419663 | J80: 419688 | K80: 419689 | L80: 419694 | M80: 419691 | N80: 419700 | O80: 419697 | P80: 419720 | R80: 419729 | U80: 419987 | V80: 419981 | X80: 419729 | Y80: 419742 | Z80: 419865 | AA80: 419161 | AB80: 419246 | AC80: 419234 | AD80: 419233
A81: =CONCATENATE(B81,C81,D81) -> 16001000600 | B81: 1600 | C81: 1000 | D81: 600 | E81: =VLOOKUP('Таблица подбора (2)'!E71,Лист3!$A$2:$B$974,2,FALSE()) -> 419579 | F81: =VLOOKUP('Таблица подбора (2)'!F71,Лист3!$A$2:$B$974,2,FALSE()) -> 419605 | G81: =VLOOKUP('Таблица подбора (2)'!G71,Лист3!$A$2:$B$974,2,FALSE()) -> 419622 | H81: =VLOOKUP('Таблица подбора (2)'!H71,Лист3!$A$2:$B$974,2,FALSE()) -> 419666 | I81: =VLOOKUP('Таблица подбора (2)'!I71,Лист3!$A$2:$B$974,2,FALSE()) -> 419647 | J81: =VLOOKUP('Таблица подбора (2)'!J71,Лист3!$A$2:$B$974,2,FALSE()) -> 419688 | K81: =VLOOKUP('Таблица подбора (2)'!K71,Лист3!$A$2:$B$974,2,FALSE()) -> 419689 | L81: 419694 | M81: 419692 | N81: 419700 | O81: 419698 | P81: =VLOOKUP('Таблица подбора (2)'!P71,Лист3!$A$2:$B$974,2,FALSE()) -> 421771 | Q81: 419161 | R81: 419740 | S81: 419745 | T81: 419740 | U81: 419987 | V81: 419981 | W81: =VLOOKUP('Таблица подбора (2)'!W71,Лист3!$A$2:$B$974,2,FALSE()) -> #N/A | X81: 419730 | Y81: 419742 | Z81: 419866 | AA81: 419161
A82: =CONCATENATE(B82,C82,D82) -> 18001000600 | B82: 1800 | C82: 1000 | D82: 600 | E82: =VLOOKUP('Таблица подбора (2)'!E72,Лист3!$A$2:$B$974,2,FALSE()) -> 419579 | F82: =VLOOKUP('Таблица подбора (2)'!F72,Лист3!$A$2:$B$974,2,FALSE()) -> 419606 | G82: =VLOOKUP('Таблица подбора (2)'!G72,Лист3!$A$2:$B$974,2,FALSE()) -> 419626 | H82: =VLOOKUP('Таблица подбора (2)'!H72,Лист3!$A$2:$B$974,2,FALSE()) -> 419671 | I82: =VLOOKUP('Таблица подбора (2)'!I72,Лист3!$A$2:$B$974,2,FALSE()) -> 419652 | J82: =VLOOKUP('Таблица подбора (2)'!J72,Лист3!$A$2:$B$974,2,FALSE()) -> 419688 | K82: =VLOOKUP('Таблица подбора (2)'!K72,Лист3!$A$2:$B$974,2,FALSE()) -> 419689 | L82: =VLOOKUP('Таблица подбора (2)'!L72,Лист3!$A$2:$B$974,2,FALSE()) -> 419694 | M82: =VLOOKUP('Таблица подбора (2)'!M72,Лист3!$A$2:$B$974,2,FALSE()) -> 419692 | N82: 419700 | O82: =VLOOKUP('Таблица подбора (2)'!O72,Лист3!$A$2:$B$974,2,FALSE()) -> 419698 | P82: =VLOOKUP('Таблица подбора (2)'!P72,Лист3!$A$2:$B$974,2,FALSE()) -> 419702 | Q82: 419161 | R82: 419740 | S82: 419745 | T82: 419740 | U82: 419987 | V82: 419981 | W82: =VLOOKUP('Таблица подбора (2)'!W72,Лист3!$A$2:$B$974,2,FALSE()) -> #N/A | X82: 419730 | Y82: 419742 | Z82: 419866 | AA82: 419161 | AB82: 419244 | AC82: 419230 | AD82: 419229 | AE82: 420042 | AG82: 420054 | AI82: 420055
A83: =CONCATENATE(B83,C83,D83) -> 20001000600 | B83: 2000 | C83: 1000 | D83: 600 | E83: =VLOOKUP('Таблица подбора (2)'!E73,Лист3!$A$2:$B$974,2,FALSE()) -> 419579 | F83: =VLOOKUP('Таблица подбора (2)'!F73,Лист3!$A$2:$B$974,2,FALSE()) -> 419607 | G83: =VLOOKUP('Таблица подбора (2)'!G73,Лист3!$A$2:$B$974,2,FALSE()) -> 419631 | H83: =VLOOKUP('Таблица подбора (2)'!H73,Лист3!$A$2:$B$974,2,FALSE()) -> 419677 | I83: =VLOOKUP('Таблица подбора (2)'!I73,Лист3!$A$2:$B$974,2,FALSE()) -> 419658 | J83: =VLOOKUP('Таблица подбора (2)'!J73,Лист3!$A$2:$B$974,2,FALSE()) -> 419688 | K83: =VLOOKUP('Таблица подбора (2)'!K73,Лист3!$A$2:$B$974,2,FALSE()) -> 419689 | L83: =VLOOKUP('Таблица подбора (2)'!L73,Лист3!$A$2:$B$974,2,FALSE()) -> 419694 | M83: =VLOOKUP('Таблица подбора (2)'!M73,Лист3!$A$2:$B$974,2,FALSE()) -> 419692 | N83: 419700 | O83: =VLOOKUP('Таблица подбора (2)'!O73,Лист3!$A$2:$B$974,2,FALSE()) -> 419698 | P83: =VLOOKUP('Таблица подбора (2)'!P73,Лист3!$A$2:$B$974,2,FALSE()) -> 419710 | Q83: 419161 | R83: 419740 | S83: 419745 | T83: 419740 | U83: 419987 | V83: 419981 | W83: =VLOOKUP('Таблица подбора (2)'!W73,Лист3!$A$2:$B$974,2,FALSE()) -> #N/A | X83: 419730 | Y83: 419742 | Z83: 419866 | AA83: 419161 | AB83: 419245 | AC83: 419232 | AD83: 419231 | AE83: 420046 | AG83: 420057 | AI83: 420058
A84: =CONCATENATE(B84,C84,D84) -> 22001000600 | B84: 2200 | C84: 1000 | D84: 600 | E84: =VLOOKUP('Таблица подбора (2)'!E74,Лист3!$A$2:$B$974,2,FALSE()) -> 419579 | F84: =VLOOKUP('Таблица подбора (2)'!F74,Лист3!$A$2:$B$974,2,FALSE()) -> 419608 | G84: =VLOOKUP('Таблица подбора (2)'!G74,Лист3!$A$2:$B$974,2,FALSE()) -> 419636 | H84: =VLOOKUP('Таблица подбора (2)'!H74,Лист3!$A$2:$B$974,2,FALSE()) -> 419683 | I84: =VLOOKUP('Таблица подбора (2)'!I74,Лист3!$A$2:$B$974,2,FALSE()) -> 419664 | J84: =VLOOKUP('Таблица подбора (2)'!J74,Лист3!$A$2:$B$974,2,FALSE()) -> 419688 | K84: =VLOOKUP('Таблица подбора (2)'!K74,Лист3!$A$2:$B$974,2,FALSE()) -> 419689 | L84: =VLOOKUP('Таблица подбора (2)'!L74,Лист3!$A$2:$B$974,2,FALSE()) -> 419694 | M84: =VLOOKUP('Таблица подбора (2)'!M74,Лист3!$A$2:$B$974,2,FALSE()) -> 419692 | N84: 419700 | O84: =VLOOKUP('Таблица подбора (2)'!O74,Лист3!$A$2:$B$974,2,FALSE()) -> 419698 | P84: =VLOOKUP('Таблица подбора (2)'!P74,Лист3!$A$2:$B$974,2,FALSE()) -> 419720 | Q84: 419161 | R84: 419740 | S84: 419745 | T84: 419740 | U84: 419987 | V84: 419981 | W84: =VLOOKUP('Таблица подбора (2)'!W74,Лист3!$A$2:$B$974,2,FALSE()) -> #N/A | X84: 419730 | Y84: 419742 | Z84: 419866 | AA84: 419161 | AB84: 419246 | AC84: 419234 | AD84: 419233 | AE84: 420050 | AG84: 420060 | AI84: 420061
A85: =CONCATENATE(B85,C85,D85) -> 16001000800 | B85: 1600 | C85: 1000 | D85: 800 | E85: =VLOOKUP('Таблица подбора (2)'!E75,Лист3!$A$2:$B$974,2,FALSE()) -> 419580 | F85: =VLOOKUP('Таблица подбора (2)'!F75,Лист3!$A$2:$B$974,2,FALSE()) -> 419605 | G85: =VLOOKUP('Таблица подбора (2)'!G75,Лист3!$A$2:$B$974,2,FALSE()) -> 419622 | H85: =VLOOKUP('Таблица подбора (2)'!H75,Лист3!$A$2:$B$974,2,FALSE()) -> 419666 | I85: =VLOOKUP('Таблица подбора (2)'!I75,Лист3!$A$2:$B$974,2,FALSE()) -> 419647 | J85: =VLOOKUP('Таблица подбора (2)'!J75,Лист3!$A$2:$B$974,2,FALSE()) -> 419688 | K85: =VLOOKUP('Таблица подбора (2)'!K75,Лист3!$A$2:$B$974,2,FALSE()) -> 419689 | L85: 419694 | M85: 419693 | N85: 419700 | O85: 419699 | P85: =VLOOKUP('Таблица подбора (2)'!P75,Лист3!$A$2:$B$974,2,FALSE()) -> 421771 | Q85: 419161 | R85: 419741 | S85: 419746 | T85: 419741 | U85: 419987 | V85: 419981 | W85: =VLOOKUP('Таблица подбора (2)'!W75,Лист3!$A$2:$B$974,2,FALSE()) -> #N/A | X85: 419731 | Y85: 419742 | Z85: 419867 | AA85: 419161
A86: =CONCATENATE(B86,C86,D86) -> 18001000800 | B86: 1800 | C86: 1000 | D86: 800 | E86: =VLOOKUP('Таблица подбора (2)'!E76,Лист3!$A$2:$B$974,2,FALSE()) -> 419580 | F86: =VLOOKUP('Таблица подбора (2)'!F76,Лист3!$A$2:$B$974,2,FALSE()) -> 419606 | G86: =VLOOKUP('Таблица подбора (2)'!G76,Лист3!$A$2:$B$974,2,FALSE()) -> 419626 | H86: =VLOOKUP('Таблица подбора (2)'!H76,Лист3!$A$2:$B$974,2,FALSE()) -> 419671 | I86: =VLOOKUP('Таблица подбора (2)'!I76,Лист3!$A$2:$B$974,2,FALSE()) -> 419653 | J86: =VLOOKUP('Таблица подбора (2)'!J76,Лист3!$A$2:$B$974,2,FALSE()) -> 419688 | K86: =VLOOKUP('Таблица подбора (2)'!K76,Лист3!$A$2:$B$974,2,FALSE()) -> 419689 | L86: =VLOOKUP('Таблица подбора (2)'!L76,Лист3!$A$2:$B$974,2,FALSE()) -> 419694 | M86: =VLOOKUP('Таблица подбора (2)'!M76,Лист3!$A$2:$B$974,2,FALSE()) -> 419693 | N86: 419700 | O86: =VLOOKUP('Таблица подбора (2)'!O76,Лист3!$A$2:$B$974,2,FALSE()) -> 419699 | P86: =VLOOKUP('Таблица подбора (2)'!P76,Лист3!$A$2:$B$974,2,FALSE()) -> 419702 | Q86: 419161 | R86: 419741 | S86: 419746 | T86: 419741 | U86: 419987 | V86: 419981 | W86: =VLOOKUP('Таблица подбора (2)'!W76,Лист3!$A$2:$B$974,2,FALSE()) -> #N/A | X86: 419731 | Y86: 419742 | Z86: 419867 | AA86: 419161 | AB86: 419244 | AC86: 419230 | AD86: 419229 | AE86: 420043 | AG86: 420054 | AI86: 420055
A87: =CONCATENATE(B87,C87,D87) -> 20001000800 | B87: 2000 | C87: 1000 | D87: 800 | E87: =VLOOKUP('Таблица подбора (2)'!E77,Лист3!$A$2:$B$974,2,FALSE()) -> 419580 | F87: =VLOOKUP('Таблица подбора (2)'!F77,Лист3!$A$2:$B$974,2,FALSE()) -> 419607 | G87: =VLOOKUP('Таблица подбора (2)'!G77,Лист3!$A$2:$B$974,2,FALSE()) -> 419631 | H87: =VLOOKUP('Таблица подбора (2)'!H77,Лист3!$A$2:$B$974,2,FALSE()) -> 419677 | I87: =VLOOKUP('Таблица подбора (2)'!I77,Лист3!$A$2:$B$974,2,FALSE()) -> 419659 | J87: =VLOOKUP('Таблица подбора (2)'!J77,Лист3!$A$2:$B$974,2,FALSE()) -> 419688 | K87: =VLOOKUP('Таблица подбора (2)'!K77,Лист3!$A$2:$B$974,2,FALSE()) -> 419689 | L87: =VLOOKUP('Таблица подбора (2)'!L77,Лист3!$A$2:$B$974,2,FALSE()) -> 419694 | M87: =VLOOKUP('Таблица подбора (2)'!M77,Лист3!$A$2:$B$974,2,FALSE()) -> 419693 | N87: 419700 | O87: =VLOOKUP('Таблица подбора (2)'!O77,Лист3!$A$2:$B$974,2,FALSE()) -> 419699 | P87: =VLOOKUP('Таблица подбора (2)'!P77,Лист3!$A$2:$B$974,2,FALSE()) -> 419710 | Q87: 419161 | R87: 419741 | S87: 419746 | T87: 419741 | U87: 419987 | V87: 419981 | W87: =VLOOKUP('Таблица подбора (2)'!W77,Лист3!$A$2:$B$974,2,FALSE()) -> #N/A | X87: 419731 | Y87: 419742 | Z87: 419867 | AA87: 419161 | AB87: 419245 | AC87: 419232 | AD87: 419231 | AE87: 420047 | AG87: 420057 | AI87: 420058
A88: =CONCATENATE(B88,C88,D88) -> 22001000800 | B88: 2200 | C88: 1000 | D88: 800 | E88: =VLOOKUP('Таблица подбора (2)'!E78,Лист3!$A$2:$B$974,2,FALSE()) -> 419580 | F88: =VLOOKUP('Таблица подбора (2)'!F78,Лист3!$A$2:$B$974,2,FALSE()) -> 419608 | G88: =VLOOKUP('Таблица подбора (2)'!G78,Лист3!$A$2:$B$974,2,FALSE()) -> 419636 | H88: =VLOOKUP('Таблица подбора (2)'!H78,Лист3!$A$2:$B$974,2,FALSE()) -> 419683 | I88: =VLOOKUP('Таблица подбора (2)'!I78,Лист3!$A$2:$B$974,2,FALSE()) -> 419665 | J88: =VLOOKUP('Таблица подбора (2)'!J78,Лист3!$A$2:$B$974,2,FALSE()) -> 419688 | K88: =VLOOKUP('Таблица подбора (2)'!K78,Лист3!$A$2:$B$974,2,FALSE()) -> 419689 | L88: =VLOOKUP('Таблица подбора (2)'!L78,Лист3!$A$2:$B$974,2,FALSE()) -> 419694 | M88: =VLOOKUP('Таблица подбора (2)'!M78,Лист3!$A$2:$B$974,2,FALSE()) -> 419693 | N88: 419700 | O88: =VLOOKUP('Таблица подбора (2)'!O78,Лист3!$A$2:$B$974,2,FALSE()) -> 419699 | P88: =VLOOKUP('Таблица подбора (2)'!P78,Лист3!$A$2:$B$974,2,FALSE()) -> 419720 | Q88: 419161 | R88: 419741 | S88: 419746 | T88: 419741 | U88: 419987 | V88: 419981 | W88: =VLOOKUP('Таблица подбора (2)'!W78,Лист3!$A$2:$B$974,2,FALSE()) -> #N/A | X88: 419731 | Y88: 419742 | Z88: 419867 | AA88: 419161 | AB88: 419246 | AC88: 419234 | AD88: 419233 | AE88: 420051 | AG88: 420060 | AI88: 420061
A89: =CONCATENATE(B89,C89,D89) -> 160010001000 | B89: 1600 | C89: 1000 | D89: 1000 | E89: =VLOOKUP('Таблица подбора (2)'!E79,Лист3!$A$2:$B$974,2,FALSE()) -> 419575 | F89: =VLOOKUP('Таблица подбора (2)'!F79,Лист3!$A$2:$B$974,2,FALSE()) -> 419605 | G89: =VLOOKUP('Таблица подбора (2)'!G79,Лист3!$A$2:$B$974,2,FALSE()) -> 419622 | H89: =VLOOKUP('Таблица подбора (2)'!H79,Лист3!$A$2:$B$974,2,FALSE()) -> 419666 | I89: 419642 | J89: =VLOOKUP('Таблица подбора (2)'!J79,Лист3!$A$2:$B$974,2,FALSE()) -> 419688 | K89: =VLOOKUP('Таблица подбора (2)'!K79,Лист3!$A$2:$B$974,2,FALSE()) -> 419689 | L89: 419694 | M89: 419694 | N89: 419700 | O89: 419700 | P89: =VLOOKUP('Таблица подбора (2)'!P79,Лист3!$A$2:$B$974,2,FALSE()) -> 421771 | Q89: 419161 | R89: 419742 | S89: 419747 | T89: 419742 | U89: 419987 | V89: 419981 | W89: =VLOOKUP('Таблица подбора (2)'!W79,Лист3!$A$2:$B$974,2,FALSE()) -> #N/A | X89: 419732 | Y89: 419742 | Z89: 419868 | AA89: 419161
A90: =CONCATENATE(B90,C90,D90) -> 180010001000 | B90: 1800 | C90: 1000 | D90: 1000 | E90: =VLOOKUP('Таблица подбора (2)'!E80,Лист3!$A$2:$B$974,2,FALSE()) -> 419575 | F90: =VLOOKUP('Таблица подбора (2)'!F80,Лист3!$A$2:$B$974,2,FALSE()) -> 419606 | G90: =VLOOKUP('Таблица подбора (2)'!G80,Лист3!$A$2:$B$974,2,FALSE()) -> 419626 | H90: =VLOOKUP('Таблица подбора (2)'!H80,Лист3!$A$2:$B$974,2,FALSE()) -> 419671 | I90: =VLOOKUP('Таблица подбора (2)'!I80,Лист3!$A$2:$B$974,2,FALSE()) -> 419648 | J90: =VLOOKUP('Таблица подбора (2)'!J80,Лист3!$A$2:$B$974,2,FALSE()) -> 419688 | K90: =VLOOKUP('Таблица подбора (2)'!K80,Лист3!$A$2:$B$974,2,FALSE()) -> 419689 | L90: =VLOOKUP('Таблица подбора (2)'!L80,Лист3!$A$2:$B$974,2,FALSE()) -> 419694 | M90: =VLOOKUP('Таблица подбора (2)'!M80,Лист3!$A$2:$B$974,2,FALSE()) -> 419694 | N90: 419700 | O90: =VLOOKUP('Таблица подбора (2)'!O80,Лист3!$A$2:$B$974,2,FALSE()) -> 419700 | P90: =VLOOKUP('Таблица подбора (2)'!P80,Лист3!$A$2:$B$974,2,FALSE()) -> 419702 | Q90: 419161 | R90: 419742 | S90: 419747 | T90: 419742 | U90: 419987 | V90: 419981 | W90: =VLOOKUP('Таблица подбора (2)'!W80,Лист3!$A$2:$B$974,2,FALSE()) -> #N/A | X90: 419732 | Y90: 419742 | Z90: 419868 | AA90: 419161 | AB90: 419244 | AC90: 419230 | AD90: 419229 | AE90: 420044 | AG90: 420054 | AI90: 420055
A91: =CONCATENATE(B91,C91,D91) -> 200010001000 | B91: 2000 | C91: 1000 | D91: 1000 | E91: =VLOOKUP('Таблица подбора (2)'!E81,Лист3!$A$2:$B$974,2,FALSE()) -> 419575 | F91: =VLOOKUP('Таблица подбора (2)'!F81,Лист3!$A$2:$B$974,2,FALSE()) -> 419607 | G91: =VLOOKUP('Таблица подбора (2)'!G81,Лист3!$A$2:$B$974,2,FALSE()) -> 419631 | H91: =VLOOKUP('Таблица подбора (2)'!H81,Лист3!$A$2:$B$974,2,FALSE()) -> 419677 | I91: =VLOOKUP('Таблица подбора (2)'!I81,Лист3!$A$2:$B$974,2,FALSE()) -> 419654 | J91: =VLOOKUP('Таблица подбора (2)'!J81,Лист3!$A$2:$B$974,2,FALSE()) -> 419688 | K91: =VLOOKUP('Таблица подбора (2)'!K81,Лист3!$A$2:$B$974,2,FALSE()) -> 419689 | L91: =VLOOKUP('Таблица подбора (2)'!L81,Лист3!$A$2:$B$974,2,FALSE()) -> 419694 | M91: =VLOOKUP('Таблица подбора (2)'!M81,Лист3!$A$2:$B$974,2,FALSE()) -> 419694 | N91: 419700 | O91: =VLOOKUP('Таблица подбора (2)'!O81,Лист3!$A$2:$B$974,2,FALSE()) -> 419700 | P91: =VLOOKUP('Таблица подбора (2)'!P81,Лист3!$A$2:$B$974,2,FALSE()) -> 419710 | Q91: 419161 | R91: 419742 | S91: 419747 | T91: 419742 | U91: 419987 | V91: 419981 | W91: =VLOOKUP('Таблица подбора (2)'!W81,Лист3!$A$2:$B$974,2,FALSE()) -> #N/A | X91: 419732 | Y91: 419742 | Z91: 419868 | AA91: 419161 | AB91: 419245 | AC91: 419232 | AD91: 419231 | AE91: 420048 | AG91: 420057 | AI91: 420058
A92: =CONCATENATE(B92,C92,D92) -> 220010001000 | B92: 2200 | C92: 1000 | D92: 1000 | E92: =VLOOKUP('Таблица подбора (2)'!E82,Лист3!$A$2:$B$974,2,FALSE()) -> 419575 | F92: =VLOOKUP('Таблица подбора (2)'!F82,Лист3!$A$2:$B$974,2,FALSE()) -> 419608 | G92: =VLOOKUP('Таблица подбора (2)'!G82,Лист3!$A$2:$B$974,2,FALSE()) -> 419636 | H92: =VLOOKUP('Таблица подбора (2)'!H82,Лист3!$A$2:$B$974,2,FALSE()) -> 419683 | I92: =VLOOKUP('Таблица подбора (2)'!I82,Лист3!$A$2:$B$974,2,FALSE()) -> 419660 | J92: =VLOOKUP('Таблица подбора (2)'!J82,Лист3!$A$2:$B$974,2,FALSE()) -> 419688 | K92: =VLOOKUP('Таблица подбора (2)'!K82,Лист3!$A$2:$B$974,2,FALSE()) -> 419689 | L92: =VLOOKUP('Таблица подбора (2)'!L82,Лист3!$A$2:$B$974,2,FALSE()) -> 419694 | M92: =VLOOKUP('Таблица подбора (2)'!M82,Лист3!$A$2:$B$974,2,FALSE()) -> 419694 | N92: 419700 | O92: =VLOOKUP('Таблица подбора (2)'!O82,Лист3!$A$2:$B$974,2,FALSE()) -> 419700 | P92: =VLOOKUP('Таблица подбора (2)'!P82,Лист3!$A$2:$B$974,2,FALSE()) -> 419720 | Q92: 419161 | R92: 419742 | S92: 419747 | T92: 419742 | U92: 419987 | V92: 419981 | W92: =VLOOKUP('Таблица подбора (2)'!W82,Лист3!$A$2:$B$974,2,FALSE()) -> #N/A | X92: 419732 | Y92: 419742 | Z92: 419868 | AA92: 419161 | AB92: 419246 | AC92: 419234 | AD92: 419233 | AE92: 420052 | AG92: 420060 | AI92: 420061
A93: =CONCATENATE(B93,C93,D93) -> 160010001200 | B93: 1600 | C93: 1000 | D93: 1200 | E93: 419576 | F93: 419605 | G93: 419622 | H93: 419666 | I93: 419643 | J93: 419688 | K93: 419689 | L93: 419694 | M93: 419695 | N93: 419700 | O93: 419701 | P93: 421771 | Q93: 419161 | R93: 419743 | S93: 419748 | T93: 419743 | U93: 419987 | V93: 419981 | X93: 419727 | Y93: 419742 | Z93: 419869 | AA93: 419161
A94: =CONCATENATE(B94,C94,D94) -> 180010001200 | B94: 1800 | C94: 1000 | D94: 1200 | E94: 419576 | F94: 419606 | G94: 419626 | H94: 419671 | I94: 419649 | J94: 419688 | K94: 419689 | L94: 419694 | M94: 419695 | N94: 419700 | O94: 419701 | P94: 419702 | Q94: 419161 | R94: 419743 | S94: 419748 | T94: 419743 | U94: 419987 | V94: 419981 | X94: 419727 | Y94: 419742 | Z94: 419869 | AA94: 419161 | AB94: 419244 | AC94: 419230 | AD94: 419229
A95: =CONCATENATE(B95,C95,D95) -> 200010001200 | B95: 2000 | C95: 1000 | D95: 1200 | E95: 419576 | F95: 419607 | G95: 419631 | H95: 419677 | I95: 419655 | J95: 419688 | K95: 419689 | L95: 419694 | M95: 419695 | N95: 419700 | O95: 419701 | P95: 419710 | Q95: 419161 | R95: 419743 | S95: 419748 | T95: 419743 | U95: 419987 | V95: 419981 | X95: 419727 | Y95: 419742 | Z95: 419869 | AA95: 419161 | AB95: 419245 | AC95: 419232 | AD95: 419231
A96: =CONCATENATE(B96,C96,D96) -> 220010001200 | B96: 2200 | C96: 1000 | D96: 1200 | E96: 419576 | F96: 419608 | G96: 419636 | H96: 419683 | I96: 419661 | J96: 419688 | K96: 419689 | L96: 419694 | M96: 419695 | N96: 419700 | O96: 419701 | P96: 419720 | Q96: 419161 | R96: 419743 | S96: 419748 | T96: 419743 | U96: 419987 | V96: 419981 | X96: 419727 | Y96: 419742 | Z96: 419869 | AA96: 419161 | AB96: 419246 | AC96: 419234 | AD96: 419233
A97: =CONCATENATE(B97,C97,D97) -> 16001200400 | B97: 1600 | C97: 1200 | D97: 400 | E97: =VLOOKUP('Таблица подбора (2)'!E83,Лист3!$A$2:$B$974,2,FALSE()) -> 419581 | F97: =VLOOKUP('Таблица подбора (2)'!F83,Лист3!$A$2:$B$974,2,FALSE()) -> 419605 | G97: 419609 | H97: =VLOOKUP('Таблица подбора (2)'!H83,Лист3!$A$2:$B$974,2,FALSE()) -> 419667 | I97: =VLOOKUP('Таблица подбора (2)'!I83,Лист3!$A$2:$B$974,2,FALSE()) -> 419644 | J97: =VLOOKUP('Таблица подбора (2)'!J83,Лист3!$A$2:$B$974,2,FALSE()) -> 419688 | K97: =VLOOKUP('Таблица подбора (2)'!K83,Лист3!$A$2:$B$974,2,FALSE()) -> 419689 | L97: 419695 | M97: =VLOOKUP('Таблица подбора (2)'!M83,Лист3!$A$2:$B$974,2,FALSE()) -> 419690 | N97: 419701 | O97: =VLOOKUP('Таблица подбора (2)'!O83,Лист3!$A$2:$B$974,2,FALSE()) -> 419696 | P97: =VLOOKUP('Таблица подбора (2)'!P83,Лист3!$A$2:$B$974,2,FALSE()) -> 421772 | Q97: 419162 | R97: 419739 | S97: 419744 | T97: 419739 | U97: 419988 | V97: 419982 | W97: =VLOOKUP('Таблица подбора (2)'!W83,Лист3!$A$2:$B$974,2,FALSE()) -> #N/A | X97: 419728 | Y97: 419743 | Z97: 419864 | AA97: 419162
A98: =CONCATENATE(B98,C98,D98) -> 18001200400 | B98: 1800 | C98: 1200 | D98: 400 | E98: =VLOOKUP('Таблица подбора (2)'!E84,Лист3!$A$2:$B$974,2,FALSE()) -> 419581 | F98: =VLOOKUP('Таблица подбора (2)'!F84,Лист3!$A$2:$B$974,2,FALSE()) -> 419606 | G98: =VLOOKUP('Таблица подбора (2)'!G84,Лист3!$A$2:$B$974,2,FALSE()) -> 419612 | H98: =VLOOKUP('Таблица подбора (2)'!H84,Лист3!$A$2:$B$974,2,FALSE()) -> 419672 | I98: =VLOOKUP('Таблица подбора (2)'!I84,Лист3!$A$2:$B$974,2,FALSE()) -> 419650 | J98: =VLOOKUP('Таблица подбора (2)'!J84,Лист3!$A$2:$B$974,2,FALSE()) -> 419688 | K98: =VLOOKUP('Таблица подбора (2)'!K84,Лист3!$A$2:$B$974,2,FALSE()) -> 419689 | L98: =VLOOKUP('Таблица подбора (2)'!L84,Лист3!$A$2:$B$974,2,FALSE()) -> 419695 | M98: =VLOOKUP('Таблица подбора (2)'!M84,Лист3!$A$2:$B$974,2,FALSE()) -> 419690 | N98: 419701 | O98: =VLOOKUP('Таблица подбора (2)'!O84,Лист3!$A$2:$B$974,2,FALSE()) -> 419696 | P98: =VLOOKUP('Таблица подбора (2)'!P84,Лист3!$A$2:$B$974,2,FALSE()) -> 419703 | Q98: 419162 | R98: 419739 | S98: 419744 | T98: 419739 | U98: 419988 | V98: 419982 | W98: =VLOOKUP('Таблица подбора (2)'!W84,Лист3!$A$2:$B$974,2,FALSE()) -> #N/A | X98: 419728 | Y98: 419743 | Z98: 419864 | AA98: 419162 | AB98: 419244 | AC98: 419230 | AD98: 419229
A99: =CONCATENATE(B99,C99,D99) -> 20001200400 | B99: 2000 | C99: 1200 | D99: 400 | E99: =VLOOKUP('Таблица подбора (2)'!E85,Лист3!$A$2:$B$974,2,FALSE()) -> 419581 | F99: =VLOOKUP('Таблица подбора (2)'!F85,Лист3!$A$2:$B$974,2,FALSE()) -> 419607 | G99: =VLOOKUP('Таблица подбора (2)'!G85,Лист3!$A$2:$B$974,2,FALSE()) -> 419616 | H99: =VLOOKUP('Таблица подбора (2)'!H85,Лист3!$A$2:$B$974,2,FALSE()) -> 419678 | I99: =VLOOKUP('Таблица подбора (2)'!I85,Лист3!$A$2:$B$974,2,FALSE()) -> 419656 | J99: =VLOOKUP('Таблица подбора (2)'!J85,Лист3!$A$2:$B$974,2,FALSE()) -> 419688 | K99: =VLOOKUP('Таблица подбора (2)'!K85,Лист3!$A$2:$B$974,2,FALSE()) -> 419689 | L99: =VLOOKUP('Таблица подбора (2)'!L85,Лист3!$A$2:$B$974,2,FALSE()) -> 419695 | M99: =VLOOKUP('Таблица подбора (2)'!M85,Лист3!$A$2:$B$974,2,FALSE()) -> 419690 | N99: 419701 | O99: =VLOOKUP('Таблица подбора (2)'!O85,Лист3!$A$2:$B$974,2,FALSE()) -> 419696 | P99: =VLOOKUP('Таблица подбора (2)'!P85,Лист3!$A$2:$B$974,2,FALSE()) -> 419712 | Q99: 419162 | R99: 419739 | S99: 419744 | T99: 419739 | U99: 419988 | V99: 419982 | W99: =VLOOKUP('Таблица подбора (2)'!W85,Лист3!$A$2:$B$974,2,FALSE()) -> #N/A | X99: 419728 | Y99: 419743 | Z99: 419864 | AA99: 419162 | AB99: 419245 | AC99: 419232 | AD99: 419231
A100: =CONCATENATE(B100,C100,D100) -> 22001200400 | B100: 2200 | C100: 1200 | D100: 400 | E100: =VLOOKUP('Таблица подбора (2)'!E86,Лист3!$A$2:$B$974,2,FALSE()) -> 419581 | F100: =VLOOKUP('Таблица подбора (2)'!F86,Лист3!$A$2:$B$974,2,FALSE()) -> 419608 | G100: =VLOOKUP('Таблица подбора (2)'!G86,Лист3!$A$2:$B$974,2,FALSE()) -> 419620 | H100: =VLOOKUP('Таблица подбора (2)'!H86,Лист3!$A$2:$B$974,2,FALSE()) -> 419684 | I100: =VLOOKUP('Таблица подбора (2)'!I86,Лист3!$A$2:$B$974,2,FALSE()) -> 419662 | J100: =VLOOKUP('Таблица подбора (2)'!J86,Лист3!$A$2:$B$974,2,FALSE()) -> 419688 | K100: =VLOOKUP('Таблица подбора (2)'!K86,Лист3!$A$2:$B$974,2,FALSE()) -> 419689 | L100: =VLOOKUP('Таблица подбора (2)'!L86,Лист3!$A$2:$B$974,2,FALSE()) -> 419695 | M100: =VLOOKUP('Таблица подбора (2)'!M86,Лист3!$A$2:$B$974,2,FALSE()) -> 419690 | N100: 419701 | O100: =VLOOKUP('Таблица подбора (2)'!O86,Лист3!$A$2:$B$974,2,FALSE()) -> 419696 | P100: =VLOOKUP('Таблица подбора (2)'!P86,Лист3!$A$2:$B$974,2,FALSE()) -> 419721 | Q100: 419162 | R100: 419739 | S100: 419744 | T100: 419739 | U100: 419988 | V100: 419982 | W100: =VLOOKUP('Таблица подбора (2)'!W86,Лист3!$A$2:$B$974,2,FALSE()) -> #N/A | X100: 419728 | Y100: 419743 | Z100: 419864 | AA100: 419162 | AB100: 419246 | AC100: 419234 | AD100: 419233
...

Sheet Таблица подбора функц. блок.
A1: 1 | B1: 2 | C1: 3 | D1: 4 | E1: 5 | F1: 6 | G1: 7 | H1: 8 | I1: 9 | J1: 10 | K1: 11 | L1: 12 | M1: 13 | N1: 14 | O1: 15 | P1: 16 | Q1: 17 | R1: 18 | S1: 19 | T1: 20 | U1: 21 | V1: 22 | W1: 23 | X1: 24 | Y1: 25
A2: Код | B2: высота | C2: ширина | D2: глубина | E2: Пластр. Компен. | F2: Доборы | G2: Пластр. | H2: Бок. Функц | I2: Бок. Рел. | J2: Бок. Возд. | K2: Плата монт. | L2: DIN 200 | M2: Огр. Верх. | N2: Огр. Нижн. | O2: Панели комп. | P2: Панель перф. 200 | Q2: Панели | R2: Панели перф | S2: Двери | T2: Перемычка | U2: Зонир. Возд. | V2: Дверь воздушн. | W2: Пластр. 200
A3: =_xlfn.CONCAT(B3,C3,D3) -> 150400400 | B3: 150 | C3: 400 | D3: 400 | E3: 419563 | F3: 419568 | G3: 419388 | H3: 419063 | K3: 419093 | M3: 419179 | N3: 419204 | O3: 419553 | P3: 419512 | Q3: 419468 | R3: 419508 | S3: 419348 | T3: 419344 | W3: 419392
A4: =_xlfn.CONCAT(B4,C4,D4) -> 200400400 | B4: 200 | C4: 400 | D4: 400 | E4: 419563 | F4: 419568 | G4: 419392 | H4: 419065 | K4: 419098 | M4: 419179 | N4: 419204 | O4: 419553 | P4: 419512 | Q4: 419472 | R4: 419512 | S4: 419352 | T4: 419344 | W4: 419392
A5: =_xlfn.CONCAT(B5,C5,D5) -> 250400400 | B5: 250 | C5: 400 | D5: 400 | E5: 419563 | F5: 419568 | G5: 419396 | H5: 419067 | K5: 419103 | M5: 419179 | N5: 419204 | O5: 419553 | P5: 419512 | Q5: 419476 | R5: 419516 | S5: 419356 | T5: 419344 | W5: 419392
A6: =_xlfn.CONCAT(B6,C6,D6) -> 300400400 | B6: 300 | C6: 400 | D6: 400 | E6: 419563 | F6: 419568 | G6: 419400 | H6: 419069 | K6: 419108 | M6: 419179 | N6: 419204 | O6: 419553 | P6: 419512 | Q6: 419480 | R6: 419520 | S6: 419360 | T6: 419344 | W6: 419392
A7: =_xlfn.CONCAT(B7,C7,D7) -> 350400400 | B7: 350 | C7: 400 | D7: 400 | E7: 419563 | F7: 419568 | G7: 419404 | H7: 419071 | K7: 419113 | M7: 419179 | N7: 419204 | O7: 419553 | P7: 419512 | Q7: 419484 | R7: 419524 | S7: 419364 | T7: 419344 | W7: 419392
A8: =_xlfn.CONCAT(B8,C8,D8) -> 400400400 | B8: 400 | C8: 400 | D8: 400 | E8: 419563 | F8: 419568 | G8: 419408 | H8: 419073 | I8: 419075 | K8: 419118 | M8: 419179 | N8: 419204 | O8: 419553 | P8: 419512 | Q8: 419488 | R8: 419528 | S8: 419368 | T8: 419344 | W8: 419392
A9: =_xlfn.CONCAT(B9,C9,D9) -> 450400400 | B9: 450 | C9: 400 | D9: 400 | E9: 419563 | F9: 419568 | G9: 419412 | I9: 419077 | J9: 419085 | K9: 419123 | M9: 419179 | N9: 419204 | O9: 419553 | P9: 419512 | Q9: 419492 | R9: 419532 | S9: 419372 | T9: 419344 | W9: 419392
A10: =_xlfn.CONCAT(B10,C10,D10) -> 500400400 | B10: 500 | C10: 400 | D10: 400 | E10: 419563 | F10: 419568 | G10: 419416 | I10: 419079 | K10: 419128 | M10: 419179 | N10: 419204 | O10: 419553 | P10: 419512 | Q10: 419496 | R10: 419536 | S10: 419376 | T10: 419344 | W10: 419392
A11: =_xlfn.CONCAT(B11,C11,D11) -> 550400400 | B11: 550 | C11: 400 | D11: 400 | E11: 419563 | F11: 419568 | G11: 419420 | I11: 419081 | K11: 419133 | M11: 419179 | N11: 419204 | O11: 419553 | P11: 419512 | Q11: 419500 | R11: 419540 | S11: 419380 | T11: 419344 | W11: 419392
A12: =_xlfn.CONCAT(B12,C12,D12) -> 600400400 | B12: 600 | C12: 400 | D12: 400 | E12: 419563 | F12: 419568 | G12: 419424 | I12: 419083 | J12: 419091 | K12: 419138 | M12: 419179 | N12: 419204 | O12: 419553 | P12: 419512 | Q12: 419504 | R12: 419544 | S12: 419384 | T12: 419344 | W12: 419392
A13: =_xlfn.CONCAT(B13,C13,D13) -> 150600400 | B13: 150 | C13: 600 | D13: 400 | E13: 419564 | F13: 419569 | G13: 419389 | H13: 419063 | K13: 419094 | L13: 419156 | M13: 419183 | N13: 419208 | O13: 419554 | P13: 419513 | Q13: 419469 | R13: 419509 | S13: 419349 | T13: 419345 | U13: 419175 | V13: 419385 | W13: 419393
A14: =_xlfn.CONCAT(B14,C14,D14) -> 200600400 | B14: 200 | C14: 600 | D14: 400 | E14: 419564 | F14: 419569 | G14: 419393 | H14: 419065 | K14: 419099 | L14: 419156 | M14: 419183 | N14: 419208 | O14: 419554 | P14: 419513 | Q14: 419473 | R14: 419513 | S14: 419353 | T14: 419345 | U14: 419175 | V14: 419385 | W14: 419393
A15: =_xlfn.CONCAT(B15,C15,D15) -> 250600400 | B15: 250 | C15: 600 | D15: 400 | E15: 419564 | F15: 419569 | G15: 419397 | H15: 419067 | K15: 419104 | L15: 419156 | M15: 419183 | N15: 419208 | O15: 419554 | P15: 419513 | Q15: 419477 | R15: 419517 | S15: 419357 | T15: 419345 | U15: 419175 | V15: 419385 | W15: 419393
A16: =_xlfn.CONCAT(B16,C16,D16) -> 300600400 | B16: 300 | C16: 600 | D16: 400 | E16: 419564 | F16: 419569 | G16: 419401 | H16: 419069 | K16: 419109 | L16: 419156 | M16: 419183 | N16: 419208 | O16: 419554 | P16: 419513 | Q16: 419481 | R16: 419521 | S16: 419361 | T16: 419345 | U16: 419175 | V16: 419385 | W16: 419393
A17: =_xlfn.CONCAT(B17,C17,D17) -> 350600400 | B17: 350 | C17: 600 | D17: 400 | E17: 419564 | F17: 419569 | G17: 419405 | H17: 419071 | K17: 419114 | L17: 419156 | M17: 419183 | N17: 419208 | O17: 419554 | P17: 419513 | Q17: 419485 | R17: 419525 | S17: 419365 | T17: 419345 | U17: 419175 | V17: 419385 | W17: 419393
A18: =_xlfn.CONCAT(B18,C18,D18) -> 400600400 | B18: 400 | C18: 600 | D18: 400 | E18: 419564 | F18: 419569 | G18: 419409 | H18: 419073 | I18: 419075 | K18: 419119 | L18: 419156 | M18: 419183 | N18: 419208 | O18: 419554 | P18: 419513 | Q18: 419489 | R18: 419529 | S18: 419369 | T18: 419345 | U18: 419175 | V18: 419385 | W18: 419393
A19: =_xlfn.CONCAT(B19,C19,D19) -> 450600400 | B19: 450 | C19: 600 | D19: 400 | E19: 419564 | F19: 419569 | G19: 419413 | I19: 419077 | J19: 419085 | K19: 419124 | L19: 419156 | M19: 419183 | N19: 419208 | O19: 419554 | P19: 419513 | Q19: 419493 | R19: 419533 | S19: 419373 | T19: 419345 | U19: 419175 | V19: 419385 | W19: 419393
A20: =_xlfn.CONCAT(B20,C20,D20) -> 500600400 | B20: 500 | C20: 600 | D20: 400 | E20: 419564 | F20: 419569 | G20: 419417 | I20: 419079 | K20: 419129 | L20: 419156 | M20: 419183 | N20: 419208 | O20: 419554 | P20: 419513 | Q20: 419497 | R20: 419537 | S20: 419377 | T20: 419345 | U20: 419175 | V20: 419385 | W20: 419393
A21: =_xlfn.CONCAT(B21,C21,D21) -> 550600400 | B21: 550 | C21: 600 | D21: 400 | E21: 419564 | F21: 419569 | G21: 419421 | I21: 419081 | K21: 419134 | L21: 419156 | M21: 419183 | N21: 419208 | O21: 419554 | P21: 419513 | Q21: 419501 | R21: 419541 | S21: 419381 | T21: 419345 | U21: 419175 | V21: 419385 | W21: 419393
A22: =_xlfn.CONCAT(B22,C22,D22) -> 600600400 | B22: 600 | C22: 600 | D22: 400 | E22: 419564 | F22: 419569 | G22: 419425 | I22: 419083 | J22: 419091 | K22: 419139 | L22: 419156 | M22: 419183 | N22: 419208 | O22: 419554 | P22: 419513 | Q22: 419505 | R22: 419545 | S22: 419385 | T22: 419345 | U22: 419175 | V22: 419385 | W22: 419393
A23: =_xlfn.CONCAT(B23,C23,D23) -> 150800400 | B23: 150 | C23: 800 | D23: 400 | E23: 419565 | F23: 419570 | G23: 419390 | H23: 419063 | K23: 419095 | L23: 419158 | M23: 419187 | N23: 419212 | O23: 419555 | P23: 419514 | Q23: 419470 | R23: 419510 | S23: 419350 | T23: 419346 | U23: 419176 | V23: 419386 | W23: 419394
A24: =_xlfn.CONCAT(B24,C24,D24) -> 200800400 | B24: 200 | C24: 800 | D24: 400 | E24: 419565 | F24: 419570 | G24: 419394 | H24: 419065 | K24: 419100 | L24: 419158 | M24: 419187 | N24: 419212 | O24: 419555 | P24: 419514 | Q24: 419474 | R24: 419514 | S24: 419354 | T24: 419346 | U24: 419176 | V24: 419386 | W24: 419394
A25: =_xlfn.CONCAT(B25,C25,D25) -> 250800400 | B25: 250 | C25: 800 | D25: 400 | E25: 419565 | F25: 419570 | G25: 419398 | H25: 419067 | K25: 419105 | L25: 419158 | M25: 419187 | N25: 419212 | O25: 419555 | P25: 419514 | Q25: 419478 | R25: 419518 | S25: 419358 | T25: 419346 | U25: 419176 | V25: 419386 | W25: 419394
A26: =_xlfn.CONCAT(B26,C26,D26) -> 300800400 | B26: 300 | C26: 800 | D26: 400 | E26: 419565 | F26: 419570 | G26: 419402 | H26: 419069 | K26: 419110 | L26: 419158 | M26: 419187 | N26: 419212 | O26: 419555 | P26: 419514 | Q26: 419482 | R26: 419522 | S26: 419362 | T26: 419346 | U26: 419176 | V26: 419386 | W26: 419394
A27: =_xlfn.CONCAT(B27,C27,D27) -> 350800400 | B27: 350 | C27: 800 | D27: 400 | E27: 419565 | F27: 419570 | G27: 419406 | H27: 419071 | K27: 419115 | L27: 419158 | M27: 419187 | N27: 419212 | O27: 419555 | P27: 419514 | Q27: 419486 | R27: 419526 | S27: 419366 | T27: 419346 | U27: 419176 | V27: 419386 | W27: 419394
A28: =_xlfn.CONCAT(B28,C28,D28) -> 400800400 | B28: 400 | C28: 800 | D28: 400 | E28: 419565 | F28: 419570 | G28: 419410 | H28: 419073 | I28: 419075 | K28: 419120 | L28: 419158 | M28: 419187 | N28: 419212 | O28: 419555 | P28: 419514 | Q28: 419490 | R28: 419530 | S28: 419370 | T28: 419346 | U28: 419176 | V28: 419386 | W28: 419394
A29: =_xlfn.CONCAT(B29,C29,D29) -> 450800400 | B29: 450 | C29: 800 | D29: 400 | E29: 419565 | F29: 419570 | G29: 419414 | I29: 419077 | J29: 419085 | K29: 419125 | L29: 419158 | M29: 419187 | N29: 419212 | O29: 419555 | P29: 419514 | Q29: 419494 | R29: 419534 | S29: 419374 | T29: 419346 | U29: 419176 | V29: 419386 | W29: 419394
A30: =_xlfn.CONCAT(B30,C30,D30) -> 500800400 | B30: 500 | C30: 800 | D30: 400 | E30: 419565 | F30: 419570 | G30: 419418 | I30: 419079 | K30: 419130 | L30: 419158 | M30: 419187 | N30: 419212 | O30: 419555 | P30: 419514 | Q30: 419498 | R30: 419538 | S30: 419378 | T30: 419346 | U30: 419176 | V30: 419386 | W30: 419394
A31: =_xlfn.CONCAT(B31,C31,D31) -> 550800400 | B31: 550 | C31: 800 | D31: 400 | E31: 419565 | F31: 419570 | G31: 419422 | I31: 419081 | K31: 419135 | L31: 419158 | M31: 419187 | N31: 419212 | O31: 419555 | P31: 419514 | Q31: 419502 | R31: 419542 | S31: 419382 | T31: 419346 | U31: 419176 | V31: 419386 | W31: 419394
A32: =_xlfn.CONCAT(B32,C32,D32) -> 600800400 | B32: 600 | C32: 800 | D32: 400 | E32: 419565 | F32: 419570 | G32: 419426 | I32: 419083 | J32: 419091 | K32: 419140 | L32: 419158 | M32: 419187 | N32: 419212 | O32: 419555 | P32: 419514 | Q32: 419506 | R32: 419546 | S32: 419386 | T32: 419346 | U32: 419176 | V32: 419386 | W32: 419394
A33: =_xlfn.CONCAT(B33,C33,D33) -> 1501000400 | B33: 150 | C33: 1000 | D33: 400 | E33: 419566 | F33: 419571 | G33: 419391 | H33: 419063 | K33: 419096 | L33: 419976 | M33: 419191 | N33: 419216 | O33: 419556 | P33: 419515 | Q33: 419471 | R33: 419511 | S33: 419351 | T33: 419347 | U33: 419177 | V33: 419387 | W33: 419395
A34: =_xlfn.CONCAT(B34,C34,D34) -> 2001000400 | B34: 200 | C34: 1000 | D34: 400 | E34: 419566 | F34: 419571 | G34: 419395 | H34: 419065 | K34: 419101 | L34: 419976 | M34: 419191 | N34: 419216 | O34: 419556 | P34: 419515 | Q34: 419475 | R34: 419515 | S34: 419355 | T34: 419347 | U34: 419177 | V34: 419387 | W34: 419395
A35: =_xlfn.CONCAT(B35,C35,D35) -> 2501000400 | B35: 250 | C35: 1000 | D35: 400 | E35: 419566 | F35: 419571 | G35: 419399 | H35: 419067 | K35: 419106 | L35: 419976 | M35: 419191 | N35: 419216 | O35: 419556 | P35: 419515 | Q35: 419479 | R35: 419519 | S35: 419359 | T35: 419347 | U35: 419177 | V35: 419387 | W35: 419395
A36: =_xlfn.CONCAT(B36,C36,D36) -> 3001000400 | B36: 300 | C36: 1000 | D36: 400 | E36: 419566 | F36: 419571 | G36: 419403 | H36: 419069 | K36: 419111 | L36: 419976 | M36: 419191 | N36: 419216 | O36: 419556 | P36: 419515 | Q36: 419483 | R36: 419523 | S36: 419363 | T36: 419347 | U36: 419177 | V36: 419387 | W36: 419395
A37: =_xlfn.CONCAT(B37,C37,D37) -> 3501000400 | B37: 350 | C37: 1000 | D37: 400 | E37: 419566 | F37: 419571 | G37: 419407 | H37: 419071 | K37: 419116 | L37: 419976 | M37: 419191 | N37: 419216 | O37: 419556 | P37: 419515 | Q37: 419487 | R37: 419527 | S37: 419367 | T37: 419347 | U37: 419177 | V37: 419387 | W37: 419395
A38: =_xlfn.CONCAT(B38,C38,D38) -> 4001000400 | B38: 400 | C38: 1000 | D38: 400 | E38: 419566 | F38: 419571 | G38: 419411 | H38: 419073 | I38: 419075 | K38: 419121 | L38: 419976 | M38: 419191 | N38: 419216 | O38: 419556 | P38: 419515 | Q38: 419491 | R38: 419531 | S38: 419371 | T38: 419347 | U38: 419177 | V38: 419387 | W38: 419395
A39: =_xlfn.CONCAT(B39,C39,D39) -> 4501000400 | B39: 450 | C39: 1000 | D39: 400 | E39: 419566 | F39: 419571 | G39: 419415 | I39: 419077 | J39: 419085 | K39: 419126 | L39: 419976 | M39: 419191 | N39: 419216 | O39: 419556 | P39: 419515 | Q39: 419495 | R39: 419535 | S39: 419375 | T39: 419347 | U39: 419177 | V39: 419387 | W39: 419395
A40: =_xlfn.CONCAT(B40,C40,D40) -> 5001000400 | B40: 500 | C40: 1000 | D40: 400 | E40: 419566 | F40: 419571 | G40: 419419 | I40: 419079 | K40: 419131 | L40: 419976 | M40: 419191 | N40: 419216 | O40: 419556 | P40: 419515 | Q40: 419499 | R40: 419539 | S40: 419379 | T40: 419347 | U40: 419177 | V40: 419387 | W40: 419395
A41: =_xlfn.CONCAT(B41,C41,D41) -> 5501000400 | B41: 550 | C41: 1000 | D41: 400 | E41: 419566 | F41: 419571 | G41: 419423 | I41: 419081 | K41: 419136 | L41: 419976 | M41: 419191 | N41: 419216 | O41: 419556 | P41: 419515 | Q41: 419503 | R41: 419543 | S41: 419383 | T41: 419347 | U41: 419177 | V41: 419387 | W41: 419395
A42: =_xlfn.CONCAT(B42,C42,D42) -> 6001000400 | B42: 600 | C42: 1000 | D42: 400 | E42: 419566 | F42: 419571 | G42: 419427 | I42: 419083 | J42: 419091 | K42: 419141 | L42: 419976 | M42: 419191 | N42: 419216 | O42: 419556 | P42: 419515 | Q42: 419507 | R42: 419547 | S42: 419387 | T42: 419347 | U42: 419177 | V42: 419387 | W42: 419395
A43: =_xlfn.CONCAT(B43,C43,D43) -> 1501200400 | B43: 150 | C43: 1200 | D43: 400 | E43: 419567 | F43: 419572 | G43: 419923 | H43: 419063 | K43: 419097 | M43: 419195 | N43: 419220 | O43: 419557 | P43: 419953 | Q43: 419942 | R43: 419952 | S43: 419965 | T43: 419964 | U43: 419178 | V43: 419974 | W43: 419924
A44: =_xlfn.CONCAT(B44,C44,D44) -> 2001200400 | B44: 200 | C44: 1200 | D44: 400 | E44: 419567 | F44: 419572 | G44: 419924 | H44: 419065 | K44: 419102 | M44: 419195 | N44: 419220 | O44: 419557 | P44: 419953 | Q44: 419943 | R44: 419953 | S44: 419966 | T44: 419964 | U44: 419178 | V44: 419974 | W44: 419924
A45: =_xlfn.CONCAT(B45,C45,D45) -> 2501200400 | B45: 250 | C45: 1200 | D45: 400 | E45: 419567 | F45: 419572 | G45: 419925 | H45: 419067 | K45: 419107 | M45: 419195 | N45: 419220 | O45: 419557 | P45: 419953 | Q45: 419944 | R45: 419954 | S45: 419967 | T45: 419964 | U45: 419178 | V45: 419974 | W45: 419924
A46: =_xlfn.CONCAT(B46,C46,D46) -> 3001200400 | B46: 300 | C46: 1200 | D46: 400 | E46: 419567 | F46: 419572 | G46: 419926 | H46: 419069 | K46: 419112 | M46: 419195 | N46: 419220 | O46: 419557 | P46: 419953 | Q46: 419945 | R46: 419955 | S46: 419968 | T46: 419964 | U46: 419178 | V46: 419974 | W46: 419924
A47: =_xlfn.CONCAT(B47,C47,D47) -> 3501200400 | B47: 350 | C47: 1200 | D47: 400 | E47: 419567 | F47: 419572 | G47: 419927 | H47: 419071 | K47: 419117 | M47: 419195 | N47: 419220 | O47: 419557 | P47: 419953 | Q47: 419946 | R47: 419956 | S47: 419969 | T47: 419964 | U47: 419178 | V47: 419974 | W47: 419924
A48: =_xlfn.CONCAT(B48,C48,D48) -> 4001200400 | B48: 400 | C48: 1200 | D48: 400 | E48: 419567 | F48: 419572 | G48: 419928 | H48: 419073 | I48: 419075 | K48: 419122 | M48: 419195 | N48: 419220 | O48: 419557 | P48: 419953 | Q48: 419947 | R48: 419957 | S48: 419970 | T48: 419964 | U48: 419178 | V48: 419974 | W48: 419924
A49: =_xlfn.CONCAT(B49,C49,D49) -> 4501200400 | B49: 450 | C49: 1200 | D49: 400 | E49: 419567 | F49: 419572 | G49: 419929 | I49: 419077 | J49: 419085 | K49: 419127 | M49: 419195 | N49: 419220 | O49: 419557 | P49: 419953 | Q49: 419948 | R49: 419958 | S49: 419971 | T49: 419964 | U49: 419178 | V49: 419974 | W49: 419924
A50: =_xlfn.CONCAT(B50,C50,D50) -> 5001200400 | B50: 500 | C50: 1200 | D50: 400 | E50: 419567 | F50: 419572 | G50: 419930 | I50: 419079 | K50: 419132 | M50: 419195 | N50: 419220 | O50: 419557 | P50: 419953 | Q50: 419949 | R50: 419959 | S50: 419972 | T50: 419964 | U50: 419178 | V50: 419974 | W50: 419924
A51: =_xlfn.CONCAT(B51,C51,D51) -> 5501200400 | B51: 550 | C51: 1200 | D51: 400 | E51: 419567 | F51: 419572 | G51: 419931 | I51: 419081 | K51: 419137 | M51: 419195 | N51: 419220 | O51: 419557 | P51: 419953 | Q51: 419950 | R51: 419960 | S51: 419973 | T51: 419964 | U51: 419178 | V51: 419974 | W51: 419924
A52: =_xlfn.CONCAT(B52,C52,D52) -> 6001200400 | B52: 600 | C52: 1200 | D52: 400 | E52: 419567 | F52: 419572 | G52: 419932 | I52: 419083 | J52: 419091 | K52: 419142 | M52: 419195 | N52: 419220 | O52: 419557 | P52: 419953 | Q52: 419951 | R52: 419961 | S52: 419974 | T52: 419964 | U52: 419178 | V52: 419974 | W52: 419924
A53: =_xlfn.CONCAT(B53,C53,D53) -> 150400600 | B53: 150 | C53: 400 | D53: 600 | E53: 419563 | F53: 419568 | G53: 419388 | H53: 419064 | K53: 419093 | M53: 419180 | N53: 419205 | O53: 419553 | P53: 419512 | Q53: 419468 | R53: 419508 | S53: 419348 | T53: 419344 | W53: 419392
A54: =_xlfn.CONCAT(B54,C54,D54) -> 200400600 | B54: 200 | C54: 400 | D54: 600 | E54: 419563 | F54: 419568 | G54: 419392 | H54: 419066 | K54: 419098 | M54: 419180 | N54: 419205 | O54: 419553 | P54: 419512 | Q54: 419472 | R54: 419512 | S54: 419352 | T54: 419344 | W54: 419392
A55: =_xlfn.CONCAT(B55,C55,D55) -> 250400600 | B55: 250 | C55: 400 | D55: 600 | E55: 419563 | F55: 419568 | G55: 419396 | H55: 419068 | K55: 419103 | M55: 419180 | N55: 419205 | O55: 419553 | P55: 419512 | Q55: 419476 | R55: 419516 | S55: 419356 | T55: 419344 | W55: 419392
A56: =_xlfn.CONCAT(B56,C56,D56) -> 300400600 | B56: 300 | C56: 400 | D56: 600 | E56: 419563 | F56: 419568 | G56: 419400 | H56: 419070 | K56: 419108 | M56: 419180 | N56: 419205 | O56: 419553 | P56: 419512 | Q56: 419480 | R56: 419520 | S56: 419360 | T56: 419344 | W56: 419392
A57: =_xlfn.CONCAT(B57,C57,D57) -> 350400600 | B57: 350 | C57: 400 | D57: 600 | E57: 419563 | F57: 419568 | G57: 419404 | H57: 419072 | K57: 419113 | M57: 419180 | N57: 419205 | O57: 419553 | P57: 419512 | Q57: 419484 | R57: 419524 | S57: 419364 | T57: 419344 | W57: 419392
A58: =_xlfn.CONCAT(B58,C58,D58) -> 400400600 | B58: 400 | C58: 400 | D58: 600 | E58: 419563 | F58: 419568 | G58: 419408 | H58: 419074 | I58: 419076 | K58: 419118 | M58: 419180 | N58: 419205 | O58: 419553 | P58: 419512 | Q58: 419488 | R58: 419528 | S58: 419368 | T58: 419344 | W58: 419392
A59: =_xlfn.CONCAT(B59,C59,D59) -> 450400600 | B59: 450 | C59: 400 | D59: 600 | E59: 419563 | F59: 419568 | G59: 419412 | I59: 419078 | J59: 419086 | K59: 419123 | M59: 419180 | N59: 419205 | O59: 419553 | P59: 419512 | Q59: 419492 | R59: 419532 | S59: 419372 | T59: 419344 | W59: 419392
A60: =_xlfn.CONCAT(B60,C60,D60) -> 500400600 | B60: 500 | C60: 400 | D60: 600 | E60: 419563 | F60: 419568 | G60: 419416 | I60: 419080 | K60: 419128 | M60: 419180 | N60: 419205 | O60: 419553 | P60: 419512 | Q60: 419496 | R60: 419536 | S60: 419376 | T60: 419344 | W60: 419392
A61: =_xlfn.CONCAT(B61,C61,D61) -> 550400600 | B61: 550 | C61: 400 | D61: 600 | E61: 419563 | F61: 419568 | G61: 419420 | I61: 419082 | K61: 419133 | M61: 419180 | N61: 419205 | O61: 419553 | P61: 419512 | Q61: 419500 | R61: 419540 | S61: 419380 | T61: 419344 | W61: 419392
A62: =_xlfn.CONCAT(B62,C62,D62) -> 600400600 | B62: 600 | C62: 400 | D62: 600 | E62: 419563 | F62: 419568 | G62: 419424 | I62: 419084 | J62: 419092 | K62: 419138 | M62: 419180 | N62: 419205 | O62: 419553 | P62: 419512 | Q62: 419504 | R62: 419544 | S62: 419384 | T62: 419344 | W62: 419392
A63: =_xlfn.CONCAT(B63,C63,D63) -> 150600600 | B63: 150 | C63: 600 | D63: 600 | E63: 419564 | F63: 419569 | G63: 419389 | H63: 419064 | K63: 419094 | L63: 419156 | M63: 419184 | N63: 419209 | O63: 419554 | P63: 419513 | Q63: 419469 | R63: 419509 | S63: 419349 | T63: 419345 | U63: 419175 | V63: 419385 | W63: 419393
A64: =_xlfn.CONCAT(B64,C64,D64) -> 200600600 | B64: 200 | C64: 600 | D64: 600 | E64: 419564 | F64: 419569 | G64: 419393 | H64: 419066 | K64: 419099 | L64: 419156 | M64: 419184 | N64: 419209 | O64: 419554 | P64: 419513 | Q64: 419473 | R64: 419513 | S64: 419353 | T64: 419345 | U64: 419175 | V64: 419385 | W64: 419393
A65: =_xlfn.CONCAT(B65,C65,D65) -> 250600600 | B65: 250 | C65: 600 | D65: 600 | E65: 419564 | F65: 419569 | G65: 419397 | H65: 419068 | K65: 419104 | L65: 419156 | M65: 419184 | N65: 419209 | O65: 419554 | P65: 419513 | Q65: 419477 | R65: 419517 | S65: 419357 | T65: 419345 | U65: 419175 | V65: 419385 | W65: 419393
A66: =_xlfn.CONCAT(B66,C66,D66) -> 300600600 | B66: 300 | C66: 600 | D66: 600 | E66: 419564 | F66: 419569 | G66: 419401 | H66: 419070 | K66: 419109 | L66: 419156 | M66: 419184 | N66: 419209 | O66: 419554 | P66: 419513 | Q66: 419481 | R66: 419521 | S66: 419361 | T66: 419345 | U66: 419175 | V66: 419385 | W66: 419393
A67: =_xlfn.CONCAT(B67,C67,D67) -> 350600600 | B67: 350 | C67: 600 | D67: 600 | E67: 419564 | F67: 419569 | G67: 419405 | H67: 419072 | K67: 419114 | L67: 419156 | M67: 419184 | N67: 419209 | O67: 419554 | P67: 419513 | Q67: 419485 | R67: 419525 | S67: 419365 | T67: 419345 | U67: 419175 | V67: 419385 | W67: 419393
A68: =_xlfn.CONCAT(B68,C68,D68) -> 400600600 | B68: 400 | C68: 600 | D68: 600 | E68: 419564 | F68: 419569 | G68: 419409 | H68: 419074 | I68: 419076 | K68: 419119 | L68: 419156 | M68: 419184 | N68: 419209 | O68: 419554 | P68: 419513 | Q68: 419489 | R68: 419529 | S68: 419369 | T68: 419345 | U68: 419175 | V68: 419385 | W68: 419393
A69: =_xlfn.CONCAT(B69,C69,D69) -> 450600600 | B69: 450 | C69: 600 | D69: 600 | E69: 419564 | F69: 419569 | G69: 419413 | I69: 419078 | J69: 419086 | K69: 419124 | L69: 419156 | M69: 419184 | N69: 419209 | O69: 419554 | P69: 419513 | Q69: 419493 | R69: 419533 | S69: 419373 | T69: 419345 | U69: 419175 | V69: 419385 | W69: 419393
A70: =_xlfn.CONCAT(B70,C70,D70) -> 500600600 | B70: 500 | C70: 600 | D70: 600 | E70: 419564 | F70: 419569 | G70: 419417 | I70: 419080 | K70: 419129 | L70: 419156 | M70: 419184 | N70: 419209 | O70: 419554 | P70: 419513 | Q70: 419497 | R70: 419537 | S70: 419377 | T70: 419345 | U70: 419175 | V70: 419385 | W70: 419393
A71: =_xlfn.CONCAT(B71,C71,D71) -> 550600600 | B71: 550 | C71: 600 | D71: 600 | E71: 419564 | F71: 419569 | G71: 419421 | I71: 419082 | K71: 419134 | L71: 419156 | M71: 419184 | N71: 419209 | O71: 419554 | P71: 419513 | Q71: 419501 | R71: 419541 | S71: 419381 | T71: 419345 | U71: 419175 | V71: 419385 | W71: 419393
A72: =_xlfn.CONCAT(B72,C72,D72) -> 600600600 | B72: 600 | C72: 600 | D72: 600 | E72: 419564 | F72: 419569 | G72: 419425 | I72: 419084 | J72: 419092 | K72: 419139 | L72: 419156 | M72: 419184 | N72: 419209 | O72: 419554 | P72: 419513 | Q72: 419505 | R72: 419545 | S72: 419385 | T72: 419345 | U72: 419175 | V72: 419385 | W72: 419393
A73: =_xlfn.CONCAT(B73,C73,D73) -> 150800600 | B73: 150 | C73: 800 | D73: 600 | E73: 419565 | F73: 419570 | G73: 419390 | H73: 419064 | K73: 419095 | L73: 419158 | M73: 419188 | N73: 419213 | O73: 419555 | P73: 419514 | Q73: 419470 | R73: 419510 | S73: 419350 | T73: 419346 | U73: 419176 | V73: 419386 | W73: 419394
A74: =_xlfn.CONCAT(B74,C74,D74) -> 200800600 | B74: 200 | C74: 800 | D74: 600 | E74: 419565 | F74: 419570 | G74: 419394 | H74: 419066 | K74: 419100 | L74: 419158 | M74: 419188 | N74: 419213 | O74: 419555 | P74: 419514 | Q74: 419474 | R74: 419514 | S74: 419354 | T74: 419346 | U74: 419176 | V74: 419386 | W74: 419394
A75: =_xlfn.CONCAT(B75,C75,D75) -> 250800600 | B75: 250 | C75: 800 | D75: 600 | E75: 419565 | F75: 419570 | G75: 419398 | H75: 419068 | K75: 419105 | L75: 419158 | M75: 419188 | N75: 419213 | O75: 419555 | P75: 419514 | Q75: 419478 | R75: 419518 | S75: 419358 | T75: 419346 | U75: 419176 | V75: 419386 | W75: 419394
A76: =_xlfn.CONCAT(B76,C76,D76) -> 300800600 | B76: 300 | C76: 800 | D76: 600 | E76: 419565 | F76: 419570 | G76: 419402 | H76: 419070 | K76: 419110 | L76: 419158 | M76: 419188 | N76: 419213 | O76: 419555 | P76: 419514 | Q76: 419482 | R76: 419522 | S76: 419362 | T76: 419346 | U76: 419176 | V76: 419386 | W76: 419394
A77: =_xlfn.CONCAT(B77,C77,D77) -> 350800600 | B77: 350 | C77: 800 | D77: 600 | E77: 419565 | F77: 419570 | G77: 419406 | H77: 419072 | K77: 419115 | L77: 419158 | M77: 419188 | N77: 419213 | O77: 419555 | P77: 419514 | Q77: 419486 | R77: 419526 | S77: 419366 | T77: 419346 | U77: 419176 | V77: 419386 | W77: 419394
A78: =_xlfn.CONCAT(B78,C78,D78) -> 400800600 | B78: 400 | C78: 800 | D78: 600 | E78: 419565 | F78: 419570 | G78: 419410 | H78: 419074 | I78: 419076 | K78: 419120 | L78: 419158 | M78: 419188 | N78: 419213 | O78: 419555 | P78: 419514 | Q78: 419490 | R78: 419530 | S78: 419370 | T78: 419346 | U78: 419176 | V78: 419386 | W78: 419394
A79: =_xlfn.CONCAT(B79,C79,D79) -> 450800600 | B79: 450 | C79: 800 | D79: 600 | E79: 419565 | F79: 419570 | G79: 419414 | I79: 419078 | J79: 419086 | K79: 419125 | L79: 419158 | M79: 419188 | N79: 419213 | O79: 419555 | P79: 419514 | Q79: 419494 | R79: 419534 | S79: 419374 | T79: 419346 | U79: 419176 | V79: 419386 | W79: 419394
A80: =_xlfn.CONCAT(B80,C80,D80) -> 500800600 | B80: 500 | C80: 800 | D80: 600 | E80: 419565 | F80: 419570 | G80: 419418 | I80: 419080 | K80: 419130 | L80: 419158 | M80: 419188 | N80: 419213 | O80: 419555 | P80: 419514 | Q80: 419498 | R80: 419538 | S80: 419378 | T80: 419346 | U80: 419176 | V80: 419386 | W80: 419394
A81: =_xlfn.CONCAT(B81,C81,D81) -> 550800600 | B81: 550 | C81: 800 | D81: 600 | E81: 419565 | F81: 419570 | G81: 419422 | I81: 419082 | K81: 419135 | L81: 419158 | M81: 419188 | N81: 419213 | O81: 419555 | P81: 419514 | Q81: 419502 | R81: 419542 | S81: 419382 | T81: 419346 | U81: 419176 | V81: 419386 | W81: 419394
A82: =_xlfn.CONCAT(B82,C82,D82) -> 600800600 | B82: 600 | C82: 800 | D82: 600 | E82: 419565 | F82: 419570 | G82: 419426 | I82: 419084 | J82: 419092 | K82: 419140 | L82: 419158 | M82: 419188 | N82: 419213 | O82: 419555 | P82: 419514 | Q82: 419506 | R82: 419546 | S82: 419386 | T82: 419346 | U82: 419176 | V82: 419386 | W82: 419394
A83: =_xlfn.CONCAT(B83,C83,D83) -> 1501000600 | B83: 150 | C83: 1000 | D83: 600 | E83: 419566 | F83: 419571 | G83: 419391 | H83: 419064 | K83: 419096 | L83: 419976 | M83: 419192 | N83: 419217 | O83: 419556 | P83: 419515 | Q83: 419471 | R83: 419511 | S83: 419351 | T83: 419347 | U83: 419177 | V83: 419387 | W83: 419395
A84: =_xlfn.CONCAT(B84,C84,D84) -> 2001000600 | B84: 200 | C84: 1000 | D84: 600 | E84: 419566 | F84: 419571 | G84: 419395 | H84: 419066 | K84: 419101 | L84: 419976 | M84: 419192 | N84: 419217 | O84: 419556 | P84: 419515 | Q84: 419475 | R84: 419515 | S84: 419355 | T84: 419347 | U84: 419177 | V84: 419387 | W84: 419395
A85: =_xlfn.CONCAT(B85,C85,D85) -> 2501000600 | B85: 250 | C85: 1000 | D85: 600 | E85: 419566 | F85: 419571 | G85: 419399 | H85: 419068 | K85: 419106 | L85: 419976 | M85: 419192 | N85: 419217 | O85: 419556 | P85: 419515 | Q85: 419479 | R85: 419519 | S85: 419359 | T85: 419347 | U85: 419177 | V85: 419387 | W85: 419395
A86: =_xlfn.CONCAT(B86,C86,D86) -> 3001000600 | B86: 300 | C86: 1000 | D86: 600 | E86: 419566 | F86: 419571 | G86: 419403 | H86: 419070 | K86: 419111 | L86: 419976 | M86: 419192 | N86: 419217 | O86: 419556 | P86: 419515 | Q86: 419483 | R86: 419523 | S86: 419363 | T86: 419347 | U86: 419177 | V86: 419387 | W86: 419395
A87: =_xlfn.CONCAT(B87,C87,D87) -> 3501000600 | B87: 350 | C87: 1000 | D87: 600 | E87: 419566 | F87: 419571 | G87: 419407 | H87: 419072 | K87: 419116 | L87: 419976 | M87: 419192 | N87: 419217 | O87: 419556 | P87: 419515 | Q87: 419487 | R87: 419527 | S87: 419367 | T87: 419347 | U87: 419177 | V87: 419387 | W87: 419395
A88: =_xlfn.CONCAT(B88,C88,D88) -> 4001000600 | B88: 400 | C88: 1000 | D88: 600 | E88: 419566 | F88: 419571 | G88: 419411 | H88: 419074 | I88: 419076 | K88: 419121 | L88: 419976 | M88: 419192 | N88: 419217 | O88: 419556 | P88: 419515 | Q88: 419491 | R88: 419531 | S88: 419371 | T88: 419347 | U88: 419177 | V88: 419387 | W88: 419395
A89: =_xlfn.CONCAT(B89,C89,D89) -> 4501000600 | B89: 450 | C89: 1000 | D89: 600 | E89: 419566 | F89: 419571 | G89: 419415 | I89: 419078 | J89: 419086 | K89: 419126 | L89: 419976 | M89: 419192 | N89: 419217 | O89: 419556 | P89: 419515 | Q89: 419495 | R89: 419535 | S89: 419375 | T89: 419347 | U89: 419177 | V89: 419387 | W89: 419395
A90: =_xlfn.CONCAT(B90,C90,D90) -> 5001000600 | B90: 500 | C90: 1000 | D90: 600 | E90: 419566 | F90: 419571 | G90: 419419 | I90: 419080 | K90: 419131 | L90: 419976 | M90: 419192 | N90: 419217 | O90: 419556 | P90: 419515 | Q90: 419499 | R90: 419539 | S90: 419379 | T90: 419347 | U90: 419177 | V90: 419387 | W90: 419395
A91: =_xlfn.CONCAT(B91,C91,D91) -> 5501000600 | B91: 550 | C91: 1000 | D91: 600 | E91: 419566 | F91: 419571 | G91: 419423 | I91: 419082 | K91: 419136 | L91: 419976 | M91: 419192 | N91: 419217 | O91: 419556 | P91: 419515 | Q91: 419503 | R91: 419543 | S91: 419383 | T91: 419347 | U91: 419177 | V91: 419387 | W91: 419395
A92: =_xlfn.CONCAT(B92,C92,D92) -> 6001000600 | B92: 600 | C92: 1000 | D92: 600 | E92: 419566 | F92: 419571 | G92: 419427 | I92: 419084 | J92: 419092 | K92: 419141 | L92: 419976 | M92: 419192 | N92: 419217 | O92: 419556 | P92: 419515 | Q92: 419507 | R92: 419547 | S92: 419387 | T92: 419347 | U92: 419177 | V92: 419387 | W92: 419395
A93: =_xlfn.CONCAT(B93,C93,D93) -> 1501200600 | B93: 150 | C93: 1200 | D93: 600 | E93: 419567 | F93: 419572 | G93: 419923 | H93: 419064 | K93: 419097 | M93: 419196 | N93: 419221 | O93: 419557 | P93: 419953 | Q93: 419942 | R93: 419952 | S93: 419965 | T93: 419964 | U93: 419178 | V93: 419974 | W93: 419924
A94: =_xlfn.CONCAT(B94,C94,D94) -> 2001200600 | B94: 200 | C94: 1200 | D94: 600 | E94: 419567 | F94: 419572 | G94: 419924 | H94: 419066 | K94: 419102 | M94: 419196 | N94: 419221 | O94: 419557 | P94: 419953 | Q94: 419943 | R94: 419953 | S94: 419966 | T94: 419964 | U94: 419178 | V94: 419974 | W94: 419924
A95: =_xlfn.CONCAT(B95,C95,D95) -> 2501200600 | B95: 250 | C95: 1200 | D95: 600 | E95: 419567 | F95: 419572 | G95: 419925 | H95: 419068 | K95: 419107 | M95: 419196 | N95: 419221 | O95: 419557 | P95: 419953 | Q95: 419944 | R95: 419954 | S95: 419967 | T95: 419964 | U95: 419178 | V95: 419974 | W95: 419924
A96: =_xlfn.CONCAT(B96,C96,D96) -> 3001200600 | B96: 300 | C96: 1200 | D96: 600 | E96: 419567 | F96: 419572 | G96: 419926 | H96: 419070 | K96: 419112 | M96: 419196 | N96: 419221 | O96: 419557 | P96: 419953 | Q96: 419945 | R96: 419955 | S96: 419968 | T96: 419964 | U96: 419178 | V96: 419974 | W96: 419924
A97: =_xlfn.CONCAT(B97,C97,D97) -> 3501200600 | B97: 350 | C97: 1200 | D97: 600 | E97: 419567 | F97: 419572 | G97: 419927 | H97: 419072 | K97: 419117 | M97: 419196 | N97: 419221 | O97: 419557 | P97: 419953 | Q97: 419946 | R97: 419956 | S97: 419969 | T97: 419964 | U97: 419178 | V97: 419974 | W97: 419924
A98: =_xlfn.CONCAT(B98,C98,D98) -> 4001200600 | B98: 400 | C98: 1200 | D98: 600 | E98: 419567 | F98: 419572 | G98: 419928 | H98: 419074 | I98: 419076 | K98: 419122 | M98: 419196 | N98: 419221 | O98: 419557 | P98: 419953 | Q98: 419947 | R98: 419957 | S98: 419970 | T98: 419964 | U98: 419178 | V98: 419974 | W98: 419924
A99: =_xlfn.CONCAT(B99,C99,D99) -> 4501200600 | B99: 450 | C99: 1200 | D99: 600 | E99: 419567 | F99: 419572 | G99: 419929 | I99: 419078 | J99: 419086 | K99: 419127 | M99: 419196 | N99: 419221 | O99: 419557 | P99: 419953 | Q99: 419948 | R99: 419958 | S99: 419971 | T99: 419964 | U99: 419178 | V99: 419974 | W99: 419924
A100: =_xlfn.CONCAT(B100,C100,D100) -> 5001200600 | B100: 500 | C100: 1200 | D100: 600 | E100: 419567 | F100: 419572 | G100: 419930 | I100: 419080 | K100: 419132 | M100: 419196 | N100: 419221 | O100: 419557 | P100: 419953 | Q100: 419949 | R100: 419959 | S100: 419972 | T100: 419964 | U100: 419178 | V100: 419974 | W100: 419924
...

Sheet Лист1
A1: OptiBox M Напольные оболочки разборного типа до 6300 А
A2: Аксессуары OptiBox M
B3: 306436 | C3: Балка транспортная 1000мм (400+600), 1кмп=2шт.
B4: 306437 | C4: Балка транспортная 1200мм (400+800, 600+600), 1кмп=2шт.
B5: 306432 | C5: Балка транспортная 300мм, 1кмп=2шт.
B6: 306433 | C6: Балка транспортная 400мм, 1кмп=2шт.
B7: 306434 | C7: Балка транспортная 600мм, 1кмп=2шт.
B8: 306435 | C8: Балка транспортная 800мм (400+400), 1кмп=2шт.
B9: 306533 | C9: Баллончик распылитель с краской, RAL 7011
B10: 306529 | C10: Баллончик распылитель с краской, RAL 7032
B11: 306530 | C11: Баллончик распылитель с краской, RAL 7035
B12: 306528 | C12: Винты самонарезающие, М4.8x12, 1 упаковка - 50 шт.
B13: 306608 | C13: Выключатель концевой (дверной), 1Ф, без кабеля и силового разъёма, 2 НЗ контакта
B14: 308258 | C14: Гайки специальные, М6, 1 упаковка - 50 шт
... B261: 308237 | C261: Фланец для ввода кабелей FL21, 6 вводов D6-59 мм IP65
A262: Двери и внешние панели OptiBox M
B263: 306651 | C263: Дверь боковая, для шкафов OptiBox M 1800x600 мм
B264: 306652 | C264: Дверь боковая, для шкафов OptiBox M 1800x800 мм
B265: 306653 | C265: Дверь боковая, для шкафов OptiBox M 2000x600 мм
B266: 306654 | C266: Дверь боковая, для шкафов OptiBox M 2000x800 мм
B267: 306655 | C267: Дверь боковая, для шкафов OptiBox M 2200x600 мм
B268: 306656 | C268: Дверь боковая, для шкафов OptiBox M 2200x800 мм
B269: 313576 | C269: Дверь с ударопрочным стеклом для шкафов Optibox M 1600x1000 мм
B270: 313577 | C270: Дверь с ударопрочным стеклом для шкафов Optibox M 1600x600 мм
B271: 313578 | C271: Дверь с ударопрочным стеклом для шкафов Optibox M 1600x800 мм
B272: 306657 | C272: Дверь с ударопрочным стеклом, для шкафов OptiBox M 1800x1000 мм
B273: 306658 | C273: Дверь с ударопрочным стеклом, для шкафов OptiBox M 1800x600 мм
B274: 306659 | C274: Дверь с ударопрочным стеклом, для шкафов OptiBox M 1800x800 мм
... B346: 306627 | C346: Панель задняя,для шкафов OptiBox M.1800x600мм
A347: Каркасы OptiBox M
B348: 313551 | C348: Комплект, крыша и основание для окрашенных шкафов Optibox M, 1000x1000 мм
B349: 313552 | C349: Комплект, крыша и основание для окрашенных шкафов Optibox M, 1000x400 мм
B350: 313553 | C350: Комплект, крыша и основание для окрашенных шкафов Optibox M, 1000x600 мм
B351: 313554 | C351: Комплект, крыша и основание для окрашенных шкафов Optibox M, 1000x800 мм
B352: 313555 | C352: Комплект, крыша и основание для окрашенных шкафов Optibox M, 1200x400 мм
B353: 313556 | C353: Комплект, крыша и основание для окрашенных шкафов Optibox M, 1200x600 мм
B354: 313557 | C354: Комплект, крыша и основание для окрашенных шкафов Optibox M, 1200x800 мм
B355: 313558 | C355: Комплект, крыша и основание для окрашенных шкафов Optibox M, 300x1000 мм
B356: 313559 | C356: Комплект, крыша и основание для окрашенных шкафов Optibox M, 300x1200 мм
B357: 313560 | C357: Комплект, крыша и основание для окрашенных шкафов Optibox M, 300x400 мм
B358: 313561 | C358: Комплект, крыша и основание для окрашенных шкафов Optibox M, 300x600 мм
B359: 313562 | C359: Комплект, крыша и основание для окрашенных шкафов Optibox M, 300x800 мм
... B393: 306707 | C393: Стойки вертикальные оцинкованные, В=2200мм, без дополнительных креплений, 4шт
A394: Оборудование по управлению микроклиматом
B395: 308886 | C395: Вентилятор потолочный с фильтром 1500/1550 м3/ч, 230 В, IP44
B396: 308887 | C396: Вентилятор потолочный с фильтром 420/490 м3/ч, 230 В, IP54
B397: 308863 | C397: Вентилятор с фильтром 10/12 м3/ч, 230 В, 112х112 мм, IP54
B398: 308864 | C398: Вентилятор с фильтром 100/105 м3/ч, 230 В, 205х205 мм, IP54
B399: 308865 | C399: Вентилятор с фильтром 160/190 м3/ч, 230 В, 252х252 мм, IP54
B400: 308866 | C400: Вентилятор с фильтром 44/46 м3/ч, 230 В, 150х150 мм, IP54
B401: 308867 | C401: Вентилятор с фильтром 560/600 м3/ч, 230 В, 325х325 мм, IP54
B402: 308868 | C402: Вентилятор с фильтром 670/730 м3/ч, 230 В, 325х325 мм, IP54
B403: 308874 | C403: Гигростат с регулируемым диапазоном влажности 10…90%, переключающий контакт
B404: 308878 | C404: Обогреватель в алюминиевом корпусе 100 Вт, 110…250 В
B405: 308879 | C405: Обогреватель в алюминиевом корпусе 150 Вт, 110…250 В
B406: 308880 | C406: Обогреватель в алюминиевом корпусе 25 Вт, 110…250 В
... B427: 308893 | C427: Фильтры сменные для вентиляторов и вентиляционных решеток 325х325 мм, 6 шт
A428: Панели монтажные OptiBox M
B429: 306708 | C429: Держатель монтажной платы OptiBox M для реек боковых широких
B430: 306709 | C430: Набор принадлежностей для поддержки монтажной платы
B431: 313589 | C431: Плата монтажная для шкафов Optibox M 1600x1000 мм
B432: 313590 | C432: Плата монтажная для шкафов Optibox M 1600x1200 мм
B433: 313591 | C433: Плата монтажная для шкафов Optibox M 1600x400 мм
B434: 313592 | C434: Плата монтажная для шкафов Optibox M 1600x600 мм
B435: 313593 | C435: Плата монтажная для шкафов Optibox M 1600x800 мм
B436: 313583 | C436: Плата монтажная промежуточная для шкафов Optibox M высотой 1600 мм
B437: 313585 | C437: Плата монтажная с боковой установкой для шкафов 1600x1000мм
B438: 313586 | C438: Плата монтажная с боковой установкой для шкафов 1600x1200мм
B439: 313587 | C439: Плата монтажная с боковой установкой для шкафов 1600x600мм
B440: 313588 | C440: Плата монтажная с боковой установкой для шкафов 1600x800мм
... B486: 306715 | C486: Профили усиливающие, для монтажных плат Ш=800мм, 1 упаковка - 2шт.
A487: Функциональные блоки OptiBox M
B488: 306847 | C488: Комплект внешний вертикальной установки 3п OptiMat D1600(W) Ш600 В650
B489: 306774 | C489: Комплект внешний вертикальной установки 3п OptiMat D250 (W,W-MO) Ш=600 В=250
B490: 306789 | C490: Комплект внешний вертикальной установки 3п OptiMat D250 (W,W-MO) Ш=800 В=250
B491: 306776 | C491: Комплект внешний вертикальной установки 3п OptiMat D630 (F,F-MO,P) Ш=600 В=350
B492: 306791 | C492: Комплект внешний вертикальной установки 3п OptiMat D630 (F,F-MO,P) Ш=800 В=350
B493: 306783 | C493: Комплект внешний вертикальной установки 3п OptiMat D630 (P-MO) Ш=800 В=350
B494: 306780 | C494: Комплект внешний вертикальной установки 3п OptiMat D630 (P-MO,W-MO) Ш=600 В=350
B495: 306771 | C495: Комплект внешний вертикальной установки 3п OptiMat D630 (W) Ш=600 В=350
B496: 306785 | C496: Комплект внешний вертикальной установки 3п OptiMat D630 (W) Ш=800 В=350
B497: 306787 | C497: Комплект внешний вертикальной установки 3п OptiMat D630 (W,W-MO) Ш=800 В=350
B498: 306768 | C498: Комплект внешний вертикальной установки 3п OptiMat E100(F) Ш600 В150
B499: 306781 | C499: Комплект внешний вертикальной установки 3п OptiMat E100(F) Ш800 В150
... B575: 309028 | C575: Комплект установки стационарного 3п OptiMat A-S4 В600 Ш800
A576: Цоколи OptiBox M
B577: 306940 | C577: Ввод кабельный мембранный 1х47мм, 1 отв, макс. диаметр=47мм, 1 упаковка - 20 шт.
B578: 306941 | C578: Ввод кабельный мембранный 4х21мм, 4 отв, макс. диаметр=21мм, 1 упаковка - 20 шт.
B579: 306942 | C579: Ввод кабельный мембранный 9х13мм, 9 отв, макс. диаметр=13мм, 1 упаковка - 20 шт.
B580: 306928 | C580: Дно сплошное, для шкафов OptiBox M 1000x400 мм
B581: 306929 | C581: Дно сплошное, для шкафов OptiBox M 1000x600 мм
B582: 306930 | C582: Дно сплошное, для шкафов OptiBox M 1000x800 мм
B583: 306931 | C583: Дно сплошное, для шкафов OptiBox M 400x400 мм
B584: 306932 | C584: Дно сплошное, для шкафов OptiBox M 400x600 мм
B585: 306933 | C585: Дно сплошное, для шкафов OptiBox M 400x800 мм
B586: 306934 | C586: Дно сплошное, для шкафов OptiBox M 600x400 мм
B587: 306935 | C587: Дно сплошное, для шкафов OptiBox M 600x600 мм
B588: 306936 | C588: Дно сплошное, для шкафов OptiBox M 600x800 мм
... B651: 306927 | C651: Уплотнитель для ввода кабеля, для шкафов OptiBox M Шириной 800 мм
A652: Элементы для организации секционирования OptiBox M
...

Sheet Лист 2
A1: Высота | B1: Ширина | C1: Глубина | D1: Высота цоколя | G1: Бренды
A2: 1600 | B2: 300 | C2: 400 | D2: 100 | G2: ABB
A3: 1800 | B3: 400 | C3: 500 | D3: 200 | G3: AKEL
A4: 2000 | B4: 600 | C4: 600 | G4: Alageum
A5: 2200 | B5: 800 | C5: 800 | G5: Andeli
B6: 1000 | C6: 1000 | G6: Apator
B7: 1200 | C7: 1200 | G7: APENA
G8: Benedict
G9: CET
G10: Changshu
A11: =CONCATENATE('Автоподбор (секционирование)'!B3,'Автоподбор (секционирование)'!C3,'Автоподбор (секционирование)'!D3) -> 2000600600 | B11: для подбора шкафов | G11: Chint
G12: CNC Electric
G13: Danfoss
A14: Высота функц. Блока | B14: Глубина функц. Блока | C14: Кабельный отсек | G14: DEKraft
A15: 150 | B15: 400 | C15: Нет | G15: Delixi
A16: 200 | B16: 600 | C16: 200 | G16: Delta Electronics
A17: 250 | C17: 400 | G17: DKC
A18: 300 | G18: DOZER
A19: 350 | G19: Efen
A20: 400 | G20: EKF
A21: 450 | G21: Elkey
A22: 500 | G22: ELTEC
A23: 550 | G23: ENEXT
A24: 600 | G24: ESB
G25: ESQ
G26: ETI
G27: Federal
A28: =_xlfn.CONCAT('Автоподбор (секционирование)'!B5,'Автоподбор (секционирование)'!C3,'Автоподбор (секционирование)'!D5) -> 300600400 | B28: для подбора функц. блока до 400 мм. | G28: Finder
A29: =_xlfn.CONCAT('Автоподбор (секционирование)'!C5,'Автоподбор (секционирование)'!C3,'Автоподбор (секционирование)'!D5) -> 600600400 | B29: для подбора функц. блока от 400 до 600 мм. | G29: General Electric
A30: =_xlfn.CONCAT(200,'Автоподбор (секционирование)'!C3,'Автоподбор (секционирование)'!D5) -> 200600400 | B30: для подбора функц. блока высотой 200 мм. | G30: Giwes
G31: GTAKE
A32: =_xlfn.CONCAT('Автоподбор (секционирование)'!B5,'Автоподбор (секционирование)'!C3-'Автоподбор (секционирование)'!E5,'Автоподбор (секционирование)'!D5) -> #VALUE! | B32: для подбора функц. блока до 400 мм. С кабельным отсеком | G32: Hager
A33: =_xlfn.CONCAT('Автоподбор (секционирование)'!C5,'Автоподбор (секционирование)'!C3-'Автоподбор (секционирование)'!E5,'Автоподбор (секционирование)'!D5) -> #VALUE! | B33: для подбора функц. блока от 400 до 600 мм. С кабельным отсеком | G33: HASKI
A34: =_xlfn.CONCAT(200,'Автоподбор (секционирование)'!C3-'Автоподбор (секционирование)'!E5,'Автоподбор (секционирование)'!D5) -> #VALUE! | B34: для подбора функц. блока высотой 200 мм. | G34: Hyundai
G35: IEK
G36: Inovance
G37: Instart
G38: ISTOK
G39: KIPPRIBOR
G40: Klemsan
G41: Legrand
G42: LSis
G43: MeanWell
G44: MEYERTEC
G45: Mitsubishi
G46: Moeller (EATON)
... G122: Элтехника

Sheet Лист3
A2: Столбец1 | B2: Код УПП | C2: Полное наименование товара КЭАЗ | D2: Столбец1
A3: 306940 | B3: 419764 | C3: Ввод кабельный 1 сальник (25 шт) | D3: 306940
A4: 306941 | B4: 419765 | C4: Ввод кабельный 3 сальника (25 шт) | D4: 306941
A5: 306942 | B5: 419766 | C5: Ввод кабельный 8 сальников (25 шт) | D5: 306942
A6: нет | B6: 419609 | C6: Дверь двустворчатая глухая 1600х1200 мм IP55 OptiBox M | D6: нет
A7: нет | B7: 419610 | C7: Дверь двустворчатая глухая 1600х800 мм IP55 OptiBox M | D7: нет
A8: 306666 | B8: 419611 | C8: Дверь двустворчатая глухая 1800х1000 мм IP55 OptiBox M | D8: 306666
A9: 306672 | B9: 419612 | C9: Дверь двустворчатая глухая 1800х1200 мм IP55 OptiBox M | D9: 306672
A10: нет | B10: 419613 | C10: Дверь двустворчатая глухая 1800х600 мм IP55 OptiBox M | D10: нет
A11: 306667 | B11: 419614 | C11: Дверь двустворчатая глухая 1800х800 мм IP55 OptiBox M | D11: 306667
A12: 306668 | B12: 419615 | C12: Дверь двустворчатая глухая 2000х1000 мм IP55 OptiBox M | D12: 306668
A13: 306673 | B13: 419616 | C13: Дверь двустворчатая глухая 2000х1200 мм IP55 OptiBox M | D13: 306673
A14: нет | B14: 419617 | C14: Дверь двустворчатая глухая 2000х600 мм IP55 OptiBox M | D14: нет
A15: 306669 | B15: 419618 | C15: Дверь двустворчатая глухая 2000х800 мм IP55 OptiBox M | D15: 306669
A16: 306670 | B16: 419619 | C16: Дверь двустворчатая глухая 2200х1000 мм IP55 OptiBox M | D16: 306670
A17: 306674 | B17: 419620 | C17: Дверь двустворчатая глухая 2200х1200 мм IP55 OptiBox M | D17: 306674
A18: 306671 | B18: 419621 | C18: Дверь двустворчатая глухая 2200х800 мм IP55 OptiBox M | D18: 306671
A19: нет | B19: 419792 | C19: Дверь обзорная В1800x600 мм с частичным остеклением OptiBox M | D19: нет
A20: нет | B20: 419793 | C20: Дверь обзорная В1800x800 мм с частичным остеклением OptiBox M | D20: нет
A21: нет | B21: 419794 | C21: Дверь обзорная В2000x600 мм с частичным остеклением OptiBox M | D21: нет
A22: нет | B22: 419795 | C22: Дверь обзорная В2000x800 мм с частичным остеклением OptiBox M | D22: нет
A23: нет | B23: 419910 | C23: Дверь обзорная со стеклом 1600х400 мм OptiBox M | D23: нет
A24: 313577 | B24: 419911 | C24: Дверь обзорная со стеклом 1600х600 мм OptiBox M | D24: 313577
A25: 313578 | B25: 419912 | C25: Дверь обзорная со стеклом 1600х800 мм OptiBox M | D25: 313578
A26: нет | B26: 419778 | C26: Дверь обзорная со стеклом 1800х400 мм OptiBox M | D26: нет
A27: 306658 | B27: 419779 | C27: Дверь обзорная со стеклом 1800х600 мм OptiBox M | D27: 306658
A28: 306659 | B28: 419780 | C28: Дверь обзорная со стеклом 1800х800 мм OptiBox M | D28: 306659
A29: нет | B29: 419784 | C29: Дверь обзорная со стеклом 2000х400 мм OptiBox M | D29: нет
A30: 306661 | B30: 419785 | C30: Дверь обзорная со стеклом 2000х600 мм OptiBox M | D30: 306661
A31: 306662 | B31: 419786 | C31: Дверь обзорная со стеклом 2000х800 мм OptiBox M | D31: 306662
A32: нет | B32: 419781 | C32: Дверь обзорная со стеклом 2200х400 мм OptiBox M | D32: нет
A33: 306664 | B33: 419782 | C33: Дверь обзорная со стеклом 2200х600 мм OptiBox M | D33: 306664
A34: 306665 | B34: 419783 | C34: Дверь обзорная со стеклом 2200х800 мм OptiBox M | D34: 306665
A35: 313579 | B35: 419622 | C35: Дверь одностворчатая глухая 1600х1000 мм IP55 OptiBox M | D35: 313579
A36: нет | B36: 419623 | C36: Дверь одностворчатая глухая 1600х300 мм IP55 OptiBox M | D36: нет
A37: 313580 | B37: 419624 | C37: Дверь одностворчатая глухая 1600х400 мм IP55 OptiBox M | D37: 313580
A38: 313581 | B38: 419625 | C38: Дверь одностворчатая глухая 1600х600 мм IP55 OptiBox M | D38: 313581
A39: 313582 | B39: 421761 | C39: Дверь одностворчатая глухая 1600х800 мм IP55 OptiBox M | D39: 313582
A40: 306609 | B40: 419626 | C40: Дверь одностворчатая глухая 1800х1000 мм IP55 OptiBox M | D40: 306609
A41: 306610 | B41: 419627 | C41: Дверь одностворчатая глухая 1800х300 мм IP55 OptiBox M | D41: 306610
A42: 306611 | B42: 419628 | C42: Дверь одностворчатая глухая 1800х400 мм IP55 OptiBox M | D42: 306611
A43: 306612 | B43: 419629 | C43: Дверь одностворчатая глухая 1800х600 мм IP55 OptiBox M | D43: 306612
A44: 306613 | B44: 419630 | C44: Дверь одностворчатая глухая 1800х800 мм IP55 OptiBox M | D44: 306613
A45: 306614 | B45: 419631 | C45: Дверь одностворчатая глухая 2000х1000 мм IP55 OptiBox M | D45: 306614
A46: 306615 | B46: 419632 | C46: Дверь одностворчатая глухая 2000х300 мм IP55 OptiBox M | D46: 306615
A47: 306616 | B47: 419633 | C47: Дверь одностворчатая глухая 2000х400 мм IP55 OptiBox M | D47: 306616
A48: 306617 | B48: 419634 | C48: Дверь одностворчатая глухая 2000х600 мм IP55 OptiBox M | D48: 306617
... A50: 306619 | B50: 419636 | C50: Дверь одностворчатая глухая 2200х1000 мм IP55 OptiBox M | D50: 306619
A51: нет | B51: 419637 | C51: Дверь одностворчатая глухая 2200х200 мм IP55 OptiBox M | D51: нет
A52: 306620 | B52: 419638 | C52: Дверь одностворчатая глухая 2200х300 мм IP55 OptiBox M | D52: 306620
A53: 306621 | B53: 419639 | C53: Дверь одностворчатая глухая 2200х400 мм IP55 OptiBox M | D53: 306621
A54: 306622 | B54: 419640 | C54: Дверь одностворчатая глухая 2200х600 мм IP55 OptiBox M | D54: 306622
A55: 306623 | B55: 419641 | C55: Дверь одностворчатая глухая 2200х800 мм IP55 OptiBox M | D55: 306623
A56: 307274 | B56: 419351 | C56: Дверь секционная 150х1000 мм OptiBox M | D56: 307274
A57: нет | B57: 419965 | C57: Дверь секционная 150х1200 мм OptiBox M | D57: нет
A58: 307292 | B58: 419348 | C58: Дверь секционная 150х400 мм OptiBox M | D58: 307292
A59: 307315 | B59: 419349 | C59: Дверь секционная 150х600 мм OptiBox M | D59: 307315
A60: 307345 | B60: 419350 | C60: Дверь секционная 150х800 мм OptiBox M | D60: 307345
A61: 307275 | B61: 419355 | C61: Дверь секционная 200х1000 мм OptiBox M | D61: 307275
A62: нет | B62: 419966 | C62: Дверь секционная 200х1200 мм OptiBox M | D62: нет
A63: 307293 | B63: 419352 | C63: Дверь секционная 200х400 мм OptiBox M | D63: 307293
A64: 307317 | B64: 419353 | C64: Дверь секционная 200х600 мм OptiBox M | D64: 307317
A65: 307347 | B65: 419354 | C65: Дверь секционная 200х800 мм OptiBox M | D65: 307347
A66: 307276 | B66: 419359 | C66: Дверь секционная 250х1000 мм OptiBox M | D66: 307276
A67: нет | B67: 419967 | C67: Дверь секционная 250х1200 мм OptiBox M | D67: нет
A68: 307294 | B68: 419356 | C68: Дверь секционная 250х400 мм OptiBox M | D68: 307294
A69: 307319 | B69: 419357 | C69: Дверь секционная 250х600 мм OptiBox M | D69: 307319
A70: 307349 | B70: 419358 | C70: Дверь секционная 250х800 мм OptiBox M | D70: 307349
A71: 307277 | B71: 419363 | C71: Дверь секционная 300х1000 мм OptiBox M | D71: 307277
A72: нет | B72: 419968 | C72: Дверь секционная 300х1200 мм OptiBox M | D72: нет
A73: 307295 | B73: 419360 | C73: Дверь секционная 300х400 мм OptiBox M | D73: 307295
A74: 307321 | B74: 419361 | C74: Дверь секционная 300х600 мм OptiBox M | D74: 307321
A75: 307351 | B75: 419362 | C75: Дверь секционная 300х800 мм OptiBox M | D75: 307351
A76: 307278 | B76: 419367 | C76: Дверь секционная 350х1000 мм OptiBox M | D76: 307278
A77: нет | B77: 419969 | C77: Дверь секционная 350х1200 мм OptiBox M | D77: нет
A78: 307297 | B78: 419364 | C78: Дверь секционная 350х400 мм OptiBox M | D78: 307297
A79: 307323 | B79: 419365 | C79: Дверь секционная 350х600 мм OptiBox M | D79: 307323
A80: 307353 | B80: 419366 | C80: Дверь секционная 350х800 мм OptiBox M | D80: 307353
A81: 307279 | B81: 419371 | C81: Дверь секционная 400х1000 мм OptiBox M | D81: 307279
A82: 307289 | B82: 419970 | C82: Дверь секционная 400х1200 мм OptiBox M | D82: 307289
A83: 307299 | B83: 419368 | C83: Дверь секционная 400х400 мм OptiBox M | D83: 307299
A84: 307325 | B84: 419369 | C84: Дверь секционная 400х600 мм OptiBox M | D84: 307325
A85: 307355 | B85: 419370 | C85: Дверь секционная 400х800 мм OptiBox M | D85: 307355
A86: 307280 | B86: 419375 | C86: Дверь секционная 450х1000 мм OptiBox M | D86: 307280
A87: нет | B87: 419971 | C87: Дверь секционная 450х1200 мм OptiBox M | D87: нет
A88: 307300 | B88: 419372 | C88: Дверь секционная 450х400 мм OptiBox M | D88: 307300
A89: 307327 | B89: 419373 | C89: Дверь секционная 450х600 мм OptiBox M | D89: 307327
A90: 307357 | B90: 419374 | C90: Дверь секционная 450х800 мм OptiBox M | D90: 307357
A91: 307281 | B91: 419379 | C91: Дверь секционная 500х1000 мм OptiBox M | D91: 307281
A92: 307290 | B92: 419972 | C92: Дверь секционная 500х1200 мм OptiBox M | D92: 307290
A93: 307302 | B93: 419376 | C93: Дверь секционная 500х400 мм OptiBox M | D93: 307302
A94: 307329 | B94: 419377 | C94: Дверь секционная 500х600 мм OptiBox M | D94: 307329
A95: 307359 | B95: 419378 | C95: Дверь секционная 500х800 мм OptiBox M | D95: 307359
A96: 307282 | B96: 419383 | C96: Дверь секционная 550х1000 мм OptiBox M | D96: 307282
A97: нет | B97: 419973 | C97: Дверь секционная 550х1200 мм OptiBox M | D97: нет
A98: 307304 | B98: 419380 | C98: Дверь секционная 550х400 мм OptiBox M | D98: 307304
A99: 307331 | B99: 419381 | C99: Дверь секционная 550х600 мм OptiBox M | D99: 307331
A100: 307361 | B100: 419382 | C100: Дверь секционная 550х800 мм OptiBox M | D100: 307361
A101: 307283 | B101: 419387 | C101: Дверь секционная 600х1000 мм OptiBox M | D101: 307283
A102: 307291 | B102: 419974 | C102: Дверь секционная 600х1200 мм OptiBox M | D102: 307291
...

Sheet Цены
A1: Наименование | B1: Артикул | C1: Цена
A2: Ввод кабельный 1 сальник (25 шт) | B2: 419764 | C2: 20554.84
A3: Ввод кабельный 3 сальника (25 шт) | B3: 419765 | C3: 20554.84
A4: Ввод кабельный 8 сальников (25 шт) | B4: 419766 | C4: 20554.84
A5: Дверь двустворчатая глухая 1600х1200 мм IP55 OptiBox M | B5: 419609 | C5: 53851.03
A6: Дверь двустворчатая глухая 1600х800 мм IP55 OptiBox M | B6: 419610 | C6: 53302.58
A7: Дверь двустворчатая глухая 1800х1000 мм IP55 OptiBox M | B7: 419611 | C7: 57673.05
A8: Дверь двустворчатая глухая 1800х1200 мм IP55 OptiBox M | B8: 419612 | C8: 59078.45
A9: Дверь двустворчатая глухая 1800х600 мм IP55 OptiBox M | B9: 419613 | C9: 61695.25
A10: Дверь двустворчатая глухая 1800х800 мм IP55 OptiBox M | B10: 419614 | C10: 55085.05
A11: Дверь двустворчатая глухая 2000х1000 мм IP55 OptiBox M | B11: 419615 | C11: 60483.87
A12: Дверь двустворчатая глухая 2000х1200 мм IP55 OptiBox M | B12: 419616 | C12: 63500.34
A13: Дверь двустворчатая глухая 2000х600 мм IP55 OptiBox M | B13: 419617 | C13: 65099.42
... A973: Комплект усилителей сейсмостойкий В2000хГ800 мм OptiBox M | B973: 419800 | C973: 47904.83
