Workbook

Sheet Автоподбор (стандарт)
B2: Высота | C2: Ширина | D2: Глубина | E2: Высота цоколя | G2: Код | H2: ВП1 | I2: ← Наименование панели
B3: 2000 | C3: 600 | D3: 600 | E3: 100 | F3: ← Выберите габариты шкафа из выплывающих списков | G3: =CONCATENATE(B3,C3,D3) -> 2000600600
B5: Комментарий | F5: Позиция | G5: Наименование | H5: Количество | I5: Артикул | J5: Комментарий по подбору
B6: Стандартный вариант с монтажной панелью
B7: Элементы каркаса | F7: =CONCATENATE("Панель ",H2,". Шкаф ",B3,"х",C3,"х",D3,"мм с цоколем ",E3,"мм") -> Панель ВП1. Шкаф 2000х600х600мм с цоколем 100мм | G7: =VLOOKUP(I7,Артикулы!$A$4:$C$975,3,FALSE()) -> Крыша и основание Ш600хГ600 мм IP55 OptiBox M | H7: 1 | I7: =VLOOKUP($G$3,'Таблица подбора'!$A$2:$Y$116,5,FALSE()) -> 419598 | J7: Стандартный минимальный набор комплектующих для размещения оборудования на монтажной плате. Позволяет реализовать степень секционирования до 2a (при условии размещения шинной сборки за монтажной платой)
G8: =VLOOKUP(I8,Артикулы!$A$4:$C$975,3,FALSE()) -> Стойки вертикальные В=2000 мм рамы OptiBox M (4 шт) | H8: 1 | I8: =VLOOKUP($G$3,'Таблица подбора'!$A$2:$Y$116,6,FALSE()) -> 419607
B9: Дверь | G9: =VLOOKUP(I9,Артикулы!$A$4:$C$975,3,FALSE()) -> Дверь одностворчатая глухая 2000х600 мм IP55 OptiBox M | H9: 1 | I9: =VLOOKUP($G$3,'Таблица подбора'!$A$2:$Y$116,7,FALSE()) -> 419634
B10: Задняя панель | G10: =VLOOKUP(I10,Артикулы!$A$4:$C$975,3,FALSE()) -> Панель задняя 2000х600 мм IP55 OptiBox M | H10: 1 | I10: =VLOOKUP($G$3,'Таблица подбора'!$A$2:$Y$116,8,FALSE()) -> 419681
B11: Комплект боковых панелей (один на сборку) | G11: =VLOOKUP(I11,Артикулы!$A$4:$C$975,3,FALSE()) -> Панель боковая 2000х600 мм IP55 OptiBox M (2 шт) | H11: 1 | I11: =VLOOKUP($G$3,'Таблица подбора'!$A$2:$Y$116,9,FALSE()) -> 419658
B12: Элементы цоколя | G12: =VLOOKUP(I12,Артикулы!$A$4:$C$975,3,FALSE()) -> Опоры цоколя угловые В=100 мм RAL7022 OptiBox M (4 шт) | H12: 1 | I12: =IF($E$3=100,VLOOKUP($G$3,'Таблица подбора'!$A$2:$Y$116,10,FALSE()),VLOOKUP($G$3,'Таблица подбора'!$A$2:$Y$116,11,FALSE())) -> 419688
G13: =VLOOKUP(I13,Артикулы!$A$4:$C$975,3,FALSE()) -> Панель цоколя В=100 Ш=600 мм RAL7022 OptiBox M (2 шт) | H13: 1 | I13: =IF($E$3=100,VLOOKUP($G$3,'Таблица подбора'!$A$2:$Y$116,12,FALSE()),VLOOKUP($G$3,'Таблица подбора'!$A$2:$Y$116,14,FALSE())) -> 419692
B14: Панели боковые цоколя (один комплект на сборку) | G14: =VLOOKUP(I14,Артикулы!$A$4:$C$975,3,FALSE()) -> Панель цоколя В=100 Ш=600 мм RAL7022 OptiBox M (2 шт) | H14: 1 | I14: =IF($E$3=100,VLOOKUP($G$3,'Таблица подбора'!$A$2:$Y$116,13,FALSE()),VLOOKUP($G$3,'Таблица подбора'!$A$2:$Y$116,15,FALSE())) -> 419692
B15: Универсальная монтажная панель | G15: =VLOOKUP(I15,Артикулы!$A$4:$C$975,3,FALSE()) -> Панель монтажная В2000хШ600 мм OptiBox M | H15: 1 | I15: =VLOOKUP($G$3,'Таблица подбора'!$A$2:$Y$116,16,FALSE()) -> 419716
B16: Монтажная траверса | G16: =VLOOKUP(I16,Артикулы!$A$4:$C$975,3,FALSE()) -> Траверса монтажная 600 мм OptiBox M (2 шт) | H16: 1 | I16: =VLOOKUP($G$3,'Таблица подбора'!$A$2:$Z$116,26,FALSE()) -> 419866
B17: Кронштейны крепления монтажной панели | G17: Кронштейны крепления монтажной панели OptiBox M (6 шт) | H17: 1 | I17: 419752
B18: Рым-болты | G18: Рым-болт М12 OptiBox M (4 шт) | H18: 1 | I18: 419726
B19: Комплект соединительный (на 1 шт. меньше кол-ва панелей) | G19: =VLOOKUP(I19,Артикулы!$A$4:$C$975,3,FALSE()) -> Комплект соединительный OptiBox M | H19: 1 | I19: 419725
B20: Стандартный вариант с рейками
B21: Элементы каркаса | F21: =CONCATENATE("Панель ",H2,". Шкаф ",B3,"х",C3,"х",D3,"мм с цоколем ",E3,"мм") -> Панель ВП1. Шкаф 2000х600х600мм с цоколем 100мм | G21: =VLOOKUP(I21,Артикулы!$A$4:$C$975,3,FALSE()) -> Крыша и основание Ш600хГ600 мм IP55 OptiBox M | H21: 1 | I21: =VLOOKUP($G$3,'Таблица подбора'!$A$2:$Y$116,5,FALSE()) -> 419598 | J21: Стандартный минимальный набор комплектующих для размещения оборудования на рейках. Позволяет реализовать степень секционирования до 1 (без внутреннего разделения)
G22: =VLOOKUP(I22,Артикулы!$A$4:$C$975,3,FALSE()) -> Стойки вертикальные В=2000 мм рамы OptiBox M (4 шт) | H22: 1 | I22: =VLOOKUP($G$3,'Таблица подбора'!$A$2:$Y$116,6,FALSE()) -> 419607
B23: Дверь | G23: =VLOOKUP(I23,Артикулы!$A$4:$C$975,3,FALSE()) -> Дверь одностворчатая глухая 2000х600 мм IP55 OptiBox M | H23: 1 | I23: =VLOOKUP($G$3,'Таблица подбора'!$A$2:$Y$116,7,FALSE()) -> 419634
B24: Задняя панель | G24: =VLOOKUP(I24,Артикулы!$A$4:$C$975,3,FALSE()) -> Панель задняя 2000х600 мм IP55 OptiBox M | H24: 1 | I24: =VLOOKUP($G$3,'Таблица подбора'!$A$2:$Y$116,8,FALSE()) -> 419681
B25: Комплект боковых панелей (один на сборку) | G25: =VLOOKUP(I25,Артикулы!$A$4:$C$975,3,FALSE()) -> Панель боковая 2000х600 мм IP55 OptiBox M (2 шт) | H25: 1 | I25: =VLOOKUP($G$3,'Таблица подбора'!$A$2:$Y$116,9,FALSE()) -> 419658
B26: Элементы цоколя | G26: =VLOOKUP(I26,Артикулы!$A$4:$C$975,3,FALSE()) -> Опоры цоколя угловые В=100 мм RAL7022 OptiBox M (4 шт) | H26: 1 | I26: =IF($E$3=100,VLOOKUP($G$3,'Таблица подбора'!$A$2:$Y$116,10,FALSE()),VLOOKUP($G$3,'Таблица подбора'!$A$2:$Y$116,11,FALSE())) -> 419688
G27: =VLOOKUP(I27,Артикулы!$A$4:$C$975,3,FALSE()) -> Панель цоколя В=100 Ш=600 мм RAL7022 OptiBox M (2 шт) | H27: 1 | I27: =IF($E$3=100,VLOOKUP($G$3,'Таблица подбора'!$A$2:$Y$116,12,FALSE()),VLOOKUP($G$3,'Таблица подбора'!$A$2:$Y$116,14,FALSE())) -> 419692
B28: Панели боковые цоколя (один комплект на сборку) | G28: =VLOOKUP(I28,Артикулы!$A$4:$C$975,3,FALSE()) -> Панель цоколя В=100 Ш=600 мм RAL7022 OptiBox M (2 шт) | H28: 1 | I28: =IF($E$3=100,VLOOKUP($G$3,'Таблица подбора'!$A$2:$Y$116,13,FALSE()),VLOOKUP($G$3,'Таблица подбора'!$A$2:$Y$116,15,FALSE())) -> 419692
B29: Рейки монтажные | G29: =VLOOKUP(I29,Артикулы!$A$4:$C$975,3,FALSE()) -> Рейка боковая 600х49 мм OptiBox M (2 шт) | H29: 4 | I29: =VLOOKUP($G$3,'Таблица подбора'!$A$2:$Y$116,24,FALSE()) -> 419730
G30: =VLOOKUP(I30,Артикулы!$A$4:$C$975,3,FALSE()) -> Рейка поперечная 600х49 мм OptiBox M (2 шт) | H30: 2 | I30: =VLOOKUP($G$3,'Таблица подбора'!$A$2:$Y$116,25,FALSE()) -> 419740
B31: Рым-болты | G31: Рым-болт М12 OptiBox M (4 шт) | H31: 1 | I31: 419726
B32: Комплект соединительный (на 1 шт. меньше кол-ва панелей) | G32: =VLOOKUP(I32,Артикулы!$A$4:$C$975,3,FALSE()) -> Комплект соединительный OptiBox M | H32: 1 | I32: 419725
B33: Дополнительные элементы
B34: Для установки OptiMat A без функциональных блоков | G34: =VLOOKUP(I34,Артикулы!$A$4:$C$975,3,FALSE()) -> Полка воздушного автоматического выключателя Ш600 мм OptiBox M | H34: 1 | I34: =VLOOKUP($G$3,'Таблица подбора'!$A$2:$Y$116,17,FALSE()) -> 419159 | J34: Комплектующие для установки воздушных выключателей (не устанавливается совместно с монтажной платой)
G35: =VLOOKUP(I35,Артикулы!$A$4:$C$975,3,FALSE()) -> Рейка поперечная 600х49 мм OptiBox M (2 шт) | H35: 1 | I35: =VLOOKUP($G$3,'Таблица подбора'!$A$2:$Y$116,18,FALSE()) -> 419740
B36: Универсальные монтажные рейки (на 1 поперечную 2 боковые) | G36: =VLOOKUP(I36,Артикулы!$A$4:$C$975,3,FALSE()) -> Рейка поперечная 600х49 мм OptiBox M (2 шт) | H36: 1 | I36: =VLOOKUP($G$3,'Таблица подбора'!$A$2:$Y$116,20,FALSE()) -> 419740 | J36: 2-х рядные рейки (все поперечные)
G37: =VLOOKUP(I37,Артикулы!$A$4:$C$975,3,FALSE()) -> Рейка поперечная 650х49 мм OptiBox M (2 шт) | H37: 1 | I37: =VLOOKUP($G$3,'Таблица подбора'!$A$2:$Y$116,22,FALSE()) -> 419979
G38: =VLOOKUP(I38,Артикулы!$A$4:$C$975,3,FALSE()) -> Рейка поперечная 600х74 мм OptiBox M (2 шт) | H38: 1 | I38: =VLOOKUP($G$3,'Таблица подбора'!$A$2:$Y$116,19,FALSE()) -> 419745 | J38: Широкие (3-х рядные) рейки
G39: =VLOOKUP(I39,Артикулы!$A$4:$C$975,3,FALSE()) -> Рейка поперечная 650х74 мм OptiBox M (2 шт) | H39: 1 | I39: =VLOOKUP($G$3,'Таблица подбора'!$A$2:$Y$116,21,FALSE()) -> 419985
G40: =VLOOKUP(I40,Артикулы!$A$4:$C$975,3,FALSE()) -> Рейка боковая 600х49 мм OptiBox M (2 шт) | H40: 1 | I40: =VLOOKUP($G$3,'Таблица подбора'!$A$2:$Y$116,24,FALSE()) -> 419730 | J40: Вариант с боковой и поперечной рейками
G41: =VLOOKUP(I41,Артикулы!$A$4:$C$975,3,FALSE()) -> Рейка поперечная 600х49 мм OptiBox M (2 шт) | H41: 1 | I41: =VLOOKUP($G$3,'Таблица подбора'!$A$2:$Y$116,25,FALSE()) -> 419740
B42: Варианты для последующих панелей в сборке
...

Sheet Автоподбор (секционирование)
B2: Высота | C2: Ширина | D2: Глубина | E2: Высота цоколя | G2: Код | H2: ВП1 | I2: ← Наименование панели
B3: 2000 | C3: 600 | D3: 600 | E3: 100 | F3: ← Выберите габариты шкафа из выплывающих списков | G3: =CONCATENATE(B3,C3,D3) -> 2000600600
B4: Высота функц. Блока (до 400) | C4: Высота функц. Блока (от 400 до 600) | D4: Глубина функц. Блока | E4: Кабельный отсек | F4: Глубина функционального блока не должна быть больше глубины каркаса
B5: 300 | C5: 600 | D5: 400 | E5: Нет | F5: ← Выберите габариты функциональных блоков из выплывающих списков
B6: Подбор названия элемента OptiBox M по артикулу → | F6: 419765 | G6: =VLOOKUP(F6,Артикулы!A:B,2,FALSE()) -> Ввод кабельный 3 сальника (25 шт) | H6: 1 | I6: =F6 -> 419765
B7: Подбор артикула элемента OptiBox M по наименованию → | F7: Пластрон глухой 400х800 мм OptiBox M | G7: =F7 -> Пластрон глухой 400х800 мм OptiBox M | H7: 1 | I7: =VLOOKUP(F7,Артикулы!C:D,2,FALSE()) -> 419410
B9: Комментарий | F9: Позиция | G9: Наименование | H9: Количество | I9: Артикул | J9: Комментарий по подбору
B10: Внутренняя модульная система (пластроны)
B11: Элементы каркаса | F11: =CONCATENATE("Панель ",H2,". Шкаф ",B3,"х",C3,"х",D3,"мм с цоколем ",E3,"мм") -> Панель ВП1. Шкаф 2000х600х600мм с цоколем 100мм | G11: =VLOOKUP(I11,Артикулы!$A$4:$C$975,3,FALSE()) -> Крыша и основание Ш600хГ600 мм IP55 OptiBox M | H11: 1 | I11: =VLOOKUP($G$3,'Таблица подбора'!$A$2:$Y$116,5,FALSE()) -> 419598 | J11: Стандартный набор комплектующих для размещения оборудования в функциональных блоках, закрытых пластронами за общей дверью. Позволяет реализовать степень секционирования до 4a при одностороннем обслуживании. Для реализации 4b и двухстороннего обслуживания требуются дополнительные элементы.
G12: =VLOOKUP(I12,Артикулы!$A$4:$C$975,3,FALSE()) -> Стойки вертикальные В=2000 мм рамы OptiBox M (4 шт) | H12: 1 | I12: =VLOOKUP($G$3,'Таблица подбора'!$A$2:$Y$116,6,FALSE()) -> 419607
B13: Дверь | G13: =IF(E5="Нет",VLOOKUP(I13,Артикулы!$A$4:$C$975,3,FALSE()),"Не требуется") -> Дверь одностворчатая глухая 2000х600 мм IP55 OptiBox M | H13: 1 | I13: =VLOOKUP($G$3,'Таблица подбора'!$A$2:$Y$116,7,FALSE()) -> 419634
B14: Задняя панель | G14: =VLOOKUP(I14,Артикулы!$A$4:$C$975,3,FALSE()) -> Панель задняя 2000х600 мм IP55 OptiBox M | H14: 1 | I14: =VLOOKUP($G$3,'Таблица подбора'!$A$2:$Y$116,8,FALSE()) -> 419681
B15: Комплект боковых панелей (один на сборку) | G15: =VLOOKUP(I15,Артикулы!$A$4:$C$975,3,FALSE()) -> Панель боковая 2000х600 мм IP55 OptiBox M (2 шт) | H15: 1 | I15: =VLOOKUP($G$3,'Таблица подбора'!$A$2:$Y$116,9,FALSE()) -> 419658
B16: Элементы цоколя | G16: =VLOOKUP(I16,Артикулы!$A$4:$C$975,3,FALSE()) -> Опоры цоколя угловые В=100 мм RAL7022 OptiBox M (4 шт) | H16: 1 | I16: =IF($E$3=100,VLOOKUP($G$3,'Таблица подбора'!$A$2:$Y$116,10,FALSE()),VLOOKUP($G$3,'Таблица подбора'!$A$2:$Y$116,11,FALSE())) -> 419688
G17: =VLOOKUP(I17,Артикулы!$A$4:$C$975,3,FALSE()) -> Панель цоколя В=100 Ш=600 мм RAL7022 OptiBox M (2 шт) | H17: 1 | I17: =IF($E$3=100,VLOOKUP($G$3,'Таблица подбора'!$A$2:$Y$116,12,FALSE()),VLOOKUP($G$3,'Таблица подбора'!$A$2:$Y$116,14,FALSE())) -> 419692
B18: Панели боковые цоколя (один комплект на сборку) | G18: =VLOOKUP(I18,Артикулы!$A$4:$C$975,3,FALSE()) -> Панель цоколя В=100 Ш=600 мм RAL7022 OptiBox M (2 шт) | H18: 1 | I18: =IF($E$3=100,VLOOKUP($G$3,'Таблица подбора'!$A$2:$Y$116,13,FALSE()),VLOOKUP($G$3,'Таблица подбора'!$A$2:$Y$116,15,FALSE())) -> 419692
B19: Обязательные элементы пластронной системы | G19: =VLOOKUP(I19,Артикулы!$A$4:$C$975,3,FALSE()) -> Стойка пластронной системы 2000 мм OptiBox M (2 шт) | H19: 1 | I19: =VLOOKUP($G$3,'Таблица подбора'!$A$2:$AP$116,28,FALSE()) -> 419245
G20: =VLOOKUP(I20,Артикулы!$A$4:$C$975,3,FALSE()) -> Пластроны компенсационные перфорированные 65х600 мм OptiBox M (2 шт) | H20: 1 | I20: =VLOOKUP(IF($E$5="Нет",'Лист 2'!$A$28,'Лист 2'!$A$32),'Таблица подбора функц. блок.'!A:AG,5,FALSE()) -> 419564
G21: =VLOOKUP(I21,Артикулы!$A$4:$C$975,3,FALSE()) -> Доборы пластронной системы 85х600 мм OptiBox M (2 шт) | H21: 1 | I21: =VLOOKUP(IF($E$5="Нет",'Лист 2'!$A$28,'Лист 2'!$A$32),'Таблица подбора функц. блок.'!A:AG,6,FALSE()) -> 419569
G22: =VLOOKUP(I22,Артикулы!$A$4:$C$975,3,FALSE()) -> Пластрон глухой 200х600 мм OptiBox M | H22: 1 | I22: =VLOOKUP(IF($E$5="Нет",'Лист 2'!$A$28,'Лист 2'!$A$32),'Таблица подбора функц. блок.'!A:AG,23,FALSE()) -> 419393
B23: Пластрон функционального блока высотой до 400 мм. | G23: =VLOOKUP(I23,Артикулы!$A$4:$C$975,3,FALSE()) -> Пластрон глухой 300х600 мм OptiBox M | H23: 1 | I23: =VLOOKUP(IF($E$5="Нет",'Лист 2'!$A$28,'Лист 2'!$A$32),'Таблица подбора функц. блок.'!A:AG,7,FALSE()) -> 419401
B24: Пластрон функционального блока высотой от 400 до 600 мм. | G24: =VLOOKUP(I24,Артикулы!$A$4:$C$975,3,FALSE()) -> Пластрон глухой 600х600 мм OptiBox M | H24: 1 | I24: =VLOOKUP(IF($E$5="Нет",'Лист 2'!$A$29,'Лист 2'!$A$33),'Таблица подбора функц. блок.'!A:AG,7,FALSE()) -> 419425
B25: Рейка для установки стойки функционального блока | G25: =IF($D$3>$D$5,VLOOKUP(I25,Артикулы!$A$4:$C$975,3,FALSE()),"Не требуется") -> Рейка поперечная 600х49 мм OptiBox M (2 шт) | H25: 1 | I25: =VLOOKUP($G$3,'Таблица подбора'!$A$2:$AP$116,20,FALSE()) -> 419740
B26: Обязательна для установки функциональных блоков (250 мм.) | G26: =IF($D$3>$D$5,VLOOKUP(I26,Артикулы!$A$4:$C$975,3,FALSE()),"Не требуется") -> Стойка функционального блока вертикальная 1717х63 мм OptiBox M (2 шт) | H26: 1 | I26: =VLOOKUP($G$3,'Таблица подбора'!$A$2:$AP$116,30,FALSE()) -> 419231
B27: Боковая панель функционального блока высотой до 400 мм. | G27: =VLOOKUP(I27,Артикулы!$A$4:$C$975,3,FALSE()) -> Панель боковая функционального блока В300хГ400 мм OptiBox M (2 шт) | H27: 1 | I27: =VLOOKUP('Лист 2'!$A$28,'Таблица подбора функц. блок.'!A:AG,8,FALSE()) -> 419069
B28: Боковая панель функционального блока высотой от 400 до 600 мм. | G28: =VLOOKUP(I28,Артикулы!$A$4:$C$975,3,FALSE()) -> Панель боковая релейного отсека В600хГ400 мм OptiBox M (2 шт) | H28: 1 | I28: =VLOOKUP('Лист 2'!$A$29,'Таблица подбора функц. блок.'!A:AG,9,FALSE()) -> 419083
B29: Панель монтажная функционального блока высотой до 400 мм. | G29: =VLOOKUP(I29,Артикулы!$A$4:$C$975,3,FALSE()) -> Панель монтажная глухая В300хШ600 мм OptiBox M | H29: 1 | I29: =VLOOKUP(IF($E$5="Нет",'Лист 2'!$A$28,'Лист 2'!$A$32),'Таблица подбора функц. блок.'!A:AG,11,FALSE()) -> 419109
B30: Панель монт. функционального блока высотой от 400 до 600 мм. | G30: =VLOOKUP(I30,Артикулы!$A$4:$C$975,3,FALSE()) -> Панель монтажная глухая В600хШ600 мм OptiBox M | H30: 1 | I30: =VLOOKUP(IF($E$5="Нет",'Лист 2'!$A$29,'Лист 2'!$A$33),'Таблица подбора функц. блок.'!A:AG,11,FALSE()) -> 419139
B31: Отделение шинной сборки от функциональных блоков | G31: =VLOOKUP(I31,Артикулы!$A$4:$C$975,3,FALSE()) -> Ограждение верхнее ФБ Ш600хГ400 мм OptiBox M | H31: 1 | I31: =VLOOKUP(IF($E$5="Нет",'Лист 2'!$A$28,'Лист 2'!$A$32),'Таблица подбора функц. блок.'!A:AG,13,FALSE()) -> 419183
B32: Разделение функц. блоков между собой (по количеству блоков) | G32: =VLOOKUP(I32,Артикулы!$A$4:$C$975,3,FALSE()) -> Ограждение нижнее ФБ 600хГ400 мм OptiBox M | H32: 1 | I32: =VLOOKUP(IF($E$5="Нет",'Лист 2'!$A$28,'Лист 2'!$A$32),'Таблица подбора функц. блок.'!A:AG,14,FALSE()) -> 419208
B33: Для установки модульного оборудования (стойки функц. блока не требуются, так же есть высотой 150) | G33: =VLOOKUP(I33,Артикулы!$A$4:$C$975,3,FALSE()) -> Комплект установки модульных автоматов В200хШ600 мм OptiBox M | H33: 1 | I33: =VLOOKUP(IF($E$5="Нет",'Лист 2'!$A$28,'Лист 2'!$A$32),'Таблица подбора функц. блок.'!A:AG,12,FALSE()) -> 419156
B34: Рейка для комплекта установки модульных АВ (из наличия) | G34: DIN-рейка оцинкованная-(1000 мм)х1,0мм-КЭАЗ | H34: 1 | I34: 234389
B35: Для закрытия функционального блока с модульным оборудованием | G35: =VLOOKUP(I35,Артикулы!$A$4:$C$975,3,FALSE()) -> Панель боковая функционального блока В200хГ400 мм OptiBox M (2 шт) | H35: 1 | I35: =VLOOKUP('Лист 2'!$A$30,'Таблица подбора функц. блок.'!A:AG,8,FALSE()) -> 419065
G36: =VLOOKUP(I36,Артикулы!$A$4:$C$975,3,FALSE()) -> Панель монтажная глухая В200хШ600 мм OptiBox M | H36: 1 | I36: =VLOOKUP(IF($E$5="Нет",'Лист 2'!$A$30,'Лист 2'!$A$34),'Таблица подбора функц. блок.'!A:AG,11,FALSE()) -> 419099
B37: Рым-болты | G37: Рым-болт М12 OptiBox M (4 шт) | H37: 1 | I37: 419726
B38: Комплект соединительный (на 1 шт. меньше кол-ва панелей) | G38: =VLOOKUP(I38,Артикулы!$A$4:$C$975,3,FALSE()) -> Комплект соединительный OptiBox M | H38: 1 | I38: 419725
B39: Кабельный отсек для внутренней модульной системы
B40: Установка кабельного отсека/шинного опуска внутри шкафа (используются только двери секционные полноразмерные) | G40: =IF($E$5="Нет","Не требуется",VLOOKUP(I40,Артикулы!$A$4:$C$975,3,FALSE())) -> Не требуется | H40: 1 | I40: =VLOOKUP($G$3,'Таблица подбора'!$A$2:$AP$116,31,FALSE()) -> 420046
G41: =IF($E$5="Нет","Не требуется",VLOOKUP(I41,Артикулы!$A$4:$C$975,3,FALSE())) -> Не требуется | H41: 1 | I41: =VLOOKUP($G$3,'Таблица подбора'!$A$2:$AP$116,IF(E5=200,32,33),FALSE()) -> 420057
G42: =IF($E$5="Нет","Не требуется",VLOOKUP(I42,Артикулы!$A$4:$C$975,3,FALSE())) -> Не требуется | H42: 1 | I42: =VLOOKUP($G$3,'Таблица подбора'!$A$2:$AP$116,IF(E5=200,34,35),FALSE()) -> 420056
...

Sheet Комментарии
B2: № | C2: Комментарий
B3: 1 | C3: По умолчанию принята установка поперечных реек на боковые рейки. Возможна установка поперечных реек на поперечные рейки, установленные сбоку
B4: 2 | C4: По умолчанию приняты рейки шириной 49 мм. (два ряда перфорации)
B5: 3 | C5: Для шкафов высотой 1600 мм., шириной 300 мм. и 1200 мм., глубиной 500 мм. имеется не полный набор комплектующих
B6: 4 | C6: Компенсационные панели приняты только перфорированные (в ассортименте так же имеются сплошные)
B7: 5 | C7: Пластроны и панели приняты только сплошные (в ассортименте имеются так же перфорированные)
B8: 6 | C8: По умолчанию для функциональных блоков подбираются двери, а не панели
B9: 7 | C9: Для внешней модульной системы по умолчанию подбирается одна перфорированная панель высотой 200 мм. для шинной сборки
B10: 8 | C10: Для внутренней модульной системы по умолчанию подбирается один перфорированный пластрон высотой 200 мм. для шинной сборки
B11: 9 | C11: Для пластронной системы подбираются стойки функционального блока такой высоты, при которой для шинной сборки остаётся 250 мм.
B12: 10 | C12: Для внешней системы подбираются стойки функционального блока такой высоты, при которой для шинной сборки остаётся 300 мм.
B13: 11 | C13: Для функциональных блоков высотой 150- 400 мм. применяются боковые панели функциональных блоков
B14: 12 | C14: Для функциональных блоков высотой 400 - 600 мм. применяются боковые панели релейных отсеков
... B19: 17 | C19: Для реализации степени секционирования 4b и двухстороннего обслуживания со степенью секционирования выше 3а требуются дополнительные элементы, которых нет в подборе. Для подбора следует использовать каталог OptiBox M:
C20: https://files.keaz.ru/f/89105/katalog-optibox-m.pdf?1791873680

Sheet Артикулы
A2: Код КЭАЗ | B2: Краткое наименование КЭАЗ | C2: Полное наименование КЭАЗ
A4: 419764 | B4: Ввод кабельный 1 сальник (25 шт) | C4: Ввод кабельный 1 сальник (25 шт) | D4: 419764
A5: 419765 | B5: Ввод кабельный 3 сальника (25 шт) | C5: Ввод кабельный 3 сальника (25 шт) | D5: 419765
A6: 419766 | B6: Ввод кабельный 8 сальников (25 шт) | C6: Ввод кабельный 8 сальников (25 шт) | D6: 419766
A7: 419609 | B7: Дверь двустворчатая глухая 1600х1200 мм IP55 OptiBox M | C7: Дверь двустворчатая глухая 1600х1200 мм IP55 OptiBox M | D7: 419609
A8: 419610 | B8: Дверь двустворчатая глухая 1600х800 мм IP55 OptiBox M | C8: Дверь двустворчатая глухая 1600х800 мм IP55 OptiBox M | D8: 419610
A9: 419611 | B9: Дверь двустворчатая глухая 1800х1000 мм IP55 OptiBox M | C9: Дверь двустворчатая глухая 1800х1000 мм IP55 OptiBox M | D9: 419611
A10: 419612 | B10: Дверь двустворчатая глухая 1800х1200 мм IP55 OptiBox M | C10: Дверь двустворчатая глухая 1800х1200 мм IP55 OptiBox M | D10: 419612
A11: 419613 | B11: Дверь двустворчатая глухая 1800х600 мм IP55 OptiBox M | C11: Дверь двустворчатая глухая 1800х600 мм IP55 OptiBox M | D11: 419613
A12: 419614 | B12: Дверь двустворчатая глухая 1800х800 мм IP55 OptiBox M | C12: Дверь двустворчатая глухая 1800х800 мм IP55 OptiBox M | D12: 419614
A13: 419615 | B13: Дверь двустворчатая глухая 2000х1000 мм IP55 OptiBox M | C13: Дверь двустворчатая глухая 2000х1000 мм IP55 OptiBox M | D13: 419615
A14: 419616 | B14: Дверь двустворчатая глухая 2000х1200 мм IP55 OptiBox M | C14: Дверь двустворчатая глухая 2000х1200 мм IP55 OptiBox M | D14: 419616
A15: 419617 | B15: Дверь двустворчатая глухая 2000х600 мм IP55 OptiBox M | C15: Дверь двустворчатая глухая 2000х600 мм IP55 OptiBox M | D15: 419617
... A975: 419800 | B975: Комплект усилителей сейсмостойкий В2000хГ800 мм OptiBox M | C975: Комплект усилителей сейсмостойкий В2000хГ800 мм OptiBox M | D975: 419800

Sheet Таблица подбора (2)
A1: 1 | B1: 2 | C1: 3 | D1: 4 | E1: 5 | F1: 6 | G1: 7 | H1: 8 | I1: 9 | J1: 10 | K1: 11 | L1: 12 | M1: 13 | N1: 14 | O1: 15 | P1: 16 | Q1: 17 | R1: 18 | S1: 19 | T1: 20 | U1: 21 | V1: 22 | W1: 23 | X1: 24 | Y1: 25
A2: Код | B2: высота | C2: ширина | D2: глубина | E2: Дно+крыша | F2: Стойки | G2: Дверь | H2: Задняя панель | I2: Боковые панели | J2: Цоколь 100 | K2: Цоколь 200 | L2: Панели цоколя 100 | M2: Боковые панели цоколя 100 | N2: Панели цоколя 200 | O2: Боковые панели цоколя 200 | P2: Панель монтажная | Q2: Плата гориз. | R2: Комплект реек боковых | S2: Рейки боковые 3х | T2: Рейки боковые 1х | U2: Рейки попереч. 3х | V2: Рейки попереч. 1х | W2: Частичная монтажная плата | X2: Рейки боковые 2рядные | Y2: Рейки попереч. 2рядные
A3: =CONCATENATE(B3,C3,D3) -> 1600300400 | B3: 1600 | C3: 300 | D3: 400 | E3: 306689 | F3: 313575 | G3: 0 | H3: 0 | I3: 0 | J3: 306872 | K3: 306878 | L3: 306874 | M3: 306875 | N3: 306899 | O3: 306900 | P3: 0 | Q3: 0 | R3: 0 | S3: 306565 | T3: 306582 | U3: 0 | V3: 0 | W3: 0 | X3: 0 | Y3: 307525
A4: =CONCATENATE(B4,C4,D4) -> 1800300400 | B4: 1800 | C4: 300 | D4: 400 | E4: 306689 | F4: 306705 | G4: 306610 | H4: 306625 | I4: 306642 | J4: 306872 | K4: 306878 | L4: 306874 | M4: 306875 | N4: 306899 | O4: 306900 | P4: 306732 | Q4: 0 | R4: 0 | S4: 306565 | T4: 306582 | U4: 0 | V4: 0 | W4: 0 | X4: 0 | Y4: 307525
A5: =CONCATENATE(B5,C5,D5) -> 2000300400 | B5: 2000 | C5: 300 | D5: 400 | E5: 306689 | F5: 306706 | G5: 306615 | H5: 306631 | I5: 306645 | J5: 306872 | K5: 306878 | L5: 306874 | M5: 306875 | N5: 306899 | O5: 306900 | P5: 306737 | Q5: 0 | R5: 0 | S5: 306565 | T5: 306582 | U5: 0 | V5: 0 | W5: 0 | X5: 0 | Y5: 307525
A6: =CONCATENATE(B6,C6,D6) -> 2200300400 | B6: 2200 | C6: 300 | D6: 400 | E6: 306689 | F6: 306707 | G6: 306620 | H6: 306637 | I6: 306648 | J6: 306872 | K6: 306878 | L6: 306874 | M6: 306875 | N6: 306899 | O6: 306900 | P6: 306742 | Q6: 0 | R6: 0 | S6: 306565 | T6: 306582 | U6: 0 | V6: 0 | W6: 0 | X6: 0 | Y6: 307525
A7: =CONCATENATE(B7,C7,D7) -> 1600300600 | B7: 1600 | C7: 300 | D7: 600 | E7: 306690 | F7: 313575 | G7: 0 | H7: 0 | I7: 313595 | J7: 306872 | K7: 306878 | L7: 306874 | M7: 306875 | N7: 306899 | O7: 306900 | P7: 0 | Q7: 0 | R7: 0 | S7: 306566 | T7: 306583 | U7: 0 | V7: 0 | W7: 0 | X7: 0 | Y7: 307525
A8: =CONCATENATE(B8,C8,D8) -> 1800300600 | B8: 1800 | C8: 300 | D8: 600 | E8: 306690 | F8: 306705 | G8: 306610 | H8: 306625 | I8: 306643 | J8: 306872 | K8: 306878 | L8: 306874 | M8: 306876 | N8: 306899 | O8: 306901 | P8: 306732 | Q8: 0 | R8: 0 | S8: 306566 | T8: 306583 | U8: 0 | V8: 0 | W8: 0 | X8: 0 | Y8: 307525
A9: =CONCATENATE(B9,C9,D9) -> 2000300600 | B9: 2000 | C9: 300 | D9: 600 | E9: 306690 | F9: 306706 | G9: 306615 | H9: 306631 | I9: 306646 | J9: 306872 | K9: 306878 | L9: 306874 | M9: 306876 | N9: 306899 | O9: 306901 | P9: 306737 | Q9: 0 | R9: 0 | S9: 306566 | T9: 306583 | U9: 0 | V9: 0 | W9: 0 | X9: 0 | Y9: 307525
A10: =CONCATENATE(B10,C10,D10) -> 2200300600 | B10: 2200 | C10: 300 | D10: 600 | E10: 306690 | F10: 306707 | G10: 306620 | H10: 306637 | I10: 306649 | J10: 306872 | K10: 306878 | L10: 306874 | M10: 306876 | N10: 306899 | O10: 306901 | P10: 306742 | Q10: 0 | R10: 0 | S10: 306566 | T10: 306583 | U10: 0 | V10: 0 | W10: 0 | X10: 0 | Y10: 307525
A11: =CONCATENATE(B11,C11,D11) -> 1600300800 | B11: 1600 | C11: 300 | D11: 800 | E11: 306691 | F11: 313575 | G11: 0 | H11: 0 | I11: 0 | J11: 306872 | K11: 306878 | L11: 306874 | M11: 306875 | N11: 306899 | O11: 306900 | P11: 0 | Q11: 0 | R11: 0 | S11: 306567 | T11: 306584 | U11: 0 | V11: 0 | W11: 0 | X11: 0 | Y11: 307525
A12: =CONCATENATE(B12,C12,D12) -> 1800300800 | B12: 1800 | C12: 300 | D12: 800 | E12: 306691 | F12: 306705 | G12: 306610 | H12: 306625 | I12: 306644 | J12: 306872 | K12: 306878 | L12: 306874 | M12: 306877 | N12: 306899 | O12: 306902 | P12: 306732 | Q12: 0 | R12: 0 | S12: 306567 | T12: 306584 | U12: 0 | V12: 0 | W12: 0 | X12: 0 | Y12: 307525
A13: =CONCATENATE(B13,C13,D13) -> 2000300800 | B13: 2000 | C13: 300 | D13: 800 | E13: 306691 | F13: 306706 | G13: 306615 | H13: 306631 | I13: 306647 | J13: 306872 | K13: 306878 | L13: 306874 | M13: 306877 | N13: 306899 | O13: 306902 | P13: 306737 | Q13: 0 | R13: 0 | S13: 306567 | T13: 306584 | U13: 0 | V13: 0 | W13: 0 | X13: 0 | Y13: 307525
A14: =CONCATENATE(B14,C14,D14) -> 2200300800 | B14: 2200 | C14: 300 | D14: 800 | E14: 306691 | F14: 306707 | G14: 306620 | H14: 306637 | I14: 306650 | J14: 306872 | K14: 306878 | L14: 306874 | M14: 306877 | N14: 306899 | O14: 306902 | P14: 306742 | Q14: 0 | R14: 0 | S14: 306567 | T14: 306584 | U14: 0 | V14: 0 | W14: 0 | X14: 0 | Y14: 307525
... A98: =CONCATENATE(B98,C98,D98) -> 220012001000 | B98: 2200 | C98: 1200 | D98: 1000 | E98: 306684 | F98: 306707 | G98: 306674 | H98: 306641 | I98: 306677 | J98: 306872 | K98: 306878 | L98: 306943 | M98: 306873 | N98: 306944 | O98: 306898 | P98: 306754 | Q98: 306962 | R98: 306564 | S98: 306564 | T98: 306581 | U98: 306592 | V98: 306593 | W98: 0 | X98: 306564 | Y98: 0

Sheet Таблица подбора
A1: 1 | B1: 2 | C1: 3 | D1: 4 | E1: 5 | F1: 6 | G1: 7 | H1: 8 | I1: 9 | J1: 10 | K1: 11 | L1: 12 | M1: 13 | N1: 14 | O1: 15 | P1: 16 | Q1: 17 | R1: 18 | S1: 19 | T1: 20 | U1: 21 | V1: 22 | W1: 23 | X1: 24 | Y1: 25 | Z1: 26 | AA1: 27 | AB1: 28 | AC1: 29 | AD1: 30 | AE1: 31 | AF1: 32 | AG1: 33 | AH1: 34 | AI1: 35
A2: Код | B2: высота | C2: ширина | D2: глубина | E2: Дно+крыша | F2: Стойки | G2: Дверь | H2: Задняя панель | I2: Боковые панели | J2: Цоколь 100 | K2: Цоколь 200 | L2: Панели цоколя 100 | M2: Боковые панели цоколя 100 | N2: Панели цоколя 200 | O2: Боковые панели цоколя 200 | P2: Панель монтажная | Q2: Плата гориз. | R2: Комплект реек боковых | S2: Рейки боковые 3х | T2: Рейки боковые 2х | U2: Рейки попереч. 3х | V2: Рейки попереч. 2х | W2: Частичная монтажная плата | X2: Рейки боковые 2рядные | Y2: Рейки попереч. 2рядные | Z2: Траверса | AA2: Плата гориз. | AB2: Стойки пластр. | AC2: Стойки функц. 300 | AD2: Стойки функц. 250 | AE2: Кабельный отсек | AF2: 1Дверь каб. Отс 200 | AG2: 1Дверь каб. Отс.400 | AH2: 2Дверь каб. Отс.200 | AI2: 2Дверь каб. Отс.400
A3: =CONCATENATE(B3,C3,D3) -> 1800300400 | B3: 1800 | C3: 300 | D3: 400 | E3: =VLOOKUP('Таблица подбора (2)'!E4,Лист3!$A$2:$B$974,2,FALSE()) -> 419586 | F3: =VLOOKUP('Таблица подбора (2)'!F4,Лист3!$A$2:$B$974,2,FALSE()) -> 419606 | G3: =VLOOKUP('Таблица подбора (2)'!G4,Лист3!$A$2:$B$974,2,FALSE()) -> 419627 | H3: =VLOOKUP('Таблица подбора (2)'!H4,Лист3!$A$2:$B$974,2,FALSE()) -> 419673 | I3: =VLOOKUP('Таблица подбора (2)'!I4,Лист3!$A$2:$B$974,2,FALSE()) -> 419650 | J3: =VLOOKUP('Таблица подбора (2)'!J4,Лист3!$A$2:$B$974,2,FALSE()) -> 419688 | K3: =VLOOKUP('Таблица подбора (2)'!K4,Лист3!$A$2:$B$974,2,FALSE()) -> 419689 | L3: =VLOOKUP('Таблица подбора (2)'!L4,Лист3!$A$2:$B$974,2,FALSE()) -> 421163 | M3: =VLOOKUP('Таблица подбора (2)'!M4,Лист3!$A$2:$B$974,2,FALSE()) -> 419690 | O3: =VLOOKUP('Таблица подбора (2)'!O4,Лист3!$A$2:$B$974,2,FALSE()) -> 419696 | R3: 419739 | S3: 419744 | T3: 419739 | W3: =VLOOKUP('Таблица подбора (2)'!W4,Лист3!$A$2:$B$974,2,FALSE()) -> #N/A | X3: 419728 | Y3: 419750 | Z3: 419864 | AB3: 419244 | AC3: 419230 | AD3: 419229
A4: =CONCATENATE(B4,C4,D4) -> 2000300400 | B4: 2000 | C4: 300 | D4: 400 | E4: =VLOOKUP('Таблица подбора (2)'!E5,Лист3!$A$2:$B$974,2,FALSE()) -> 419586 | F4: =VLOOKUP('Таблица подбора (2)'!F5,Лист3!$A$2:$B$974,2,FALSE()) -> 419607 | G4: =VLOOKUP('Таблица подбора (2)'!G5,Лист3!$A$2:$B$974,2,FALSE()) -> 419632 | H4: =VLOOKUP('Таблица подбора (2)'!H5,Лист3!$A$2:$B$974,2,FALSE()) -> 419679 | I4: =VLOOKUP('Таблица подбора (2)'!I5,Лист3!$A$2:$B$974,2,FALSE()) -> 419656 | J4: =VLOOKUP('Таблица подбора (2)'!J5,Лист3!$A$2:$B$974,2,FALSE()) -> 419688 | K4: =VLOOKUP('Таблица подбора (2)'!K5,Лист3!$A$2:$B$974,2,FALSE()) -> 419689 | L4: =VLOOKUP('Таблица подбора (2)'!L5,Лист3!$A$2:$B$974,2,FALSE()) -> 421163 | M4: =VLOOKUP('Таблица подбора (2)'!M5,Лист3!$A$2:$B$974,2,FALSE()) -> 419690 | O4: =VLOOKUP('Таблица подбора (2)'!O5,Лист3!$A$2:$B$974,2,FALSE()) -> 419696 | R4: 419739 | S4: 419744 | T4: 419739 | W4: =VLOOKUP('Таблица подбора (2)'!W5,Лист3!$A$2:$B$974,2,FALSE()) -> #N/A | X4: 419728 | Y4: 419750 | Z4: 419864 | AB4: 419245 | AC4: 419232 | AD4: 419231
A5: =CONCATENATE(B5,C5,D5) -> 1800300500 | B5: 1800 | C5: 300 | D5: 500 | E5: 419587 | F5: 419606 | G5: 419627 | H5: 419673 | I5: 419651 | J5: 419688 | K5: 419689 | L5: 421163 | M5: 419691 | O5: 419697 | R5: 419729 | X5: 419729 | Y5: 419750 | Z5: 419865 | AB5: 419244 | AC5: 419230 | AD5: 419229
A6: =CONCATENATE(B6,C6,D6) -> 2000300500 | B6: 2000 | C6: 300 | D6: 500 | E6: 419587 | F6: 419607 | G6: 419632 | H6: 419679 | I6: 419657 | J6: 419688 | K6: 419689 | L6: 421163 | M6: 419691 | O6: 419697 | R6: 419729 | X6: 419729 | Y6: 419750 | Z6: 419865 | AB6: 419245 | AC6: 419232 | AD6: 419231
A7: =CONCATENATE(B7,C7,D7) -> 1800300600 | B7: 1800 | C7: 300 | D7: 600 | E7: =VLOOKUP('Таблица подбора (2)'!E8,Лист3!$A$2:$B$974,2,FALSE()) -> 419588 | F7: =VLOOKUP('Таблица подбора (2)'!F8,Лист3!$A$2:$B$974,2,FALSE()) -> 419606 | G7: =VLOOKUP('Таблица подбора (2)'!G8,Лист3!$A$2:$B$974,2,FALSE()) -> 419627 | H7: =VLOOKUP('Таблица подбора (2)'!H8,Лист3!$A$2:$B$974,2,FALSE()) -> 419673 | I7: =VLOOKUP('Таблица подбора (2)'!I8,Лист3!$A$2:$B$974,2,FALSE()) -> 419652 | J7: =VLOOKUP('Таблица подбора (2)'!J8,Лист3!$A$2:$B$974,2,FALSE()) -> 419688 | K7: =VLOOKUP('Таблица подбора (2)'!K8,Лист3!$A$2:$B$974,2,FALSE()) -> 419689 | L7: =VLOOKUP('Таблица подбора (2)'!L8,Лист3!$A$2:$B$974,2,FALSE()) -> 421163 | M7: =VLOOKUP('Таблица подбора (2)'!M8,Лист3!$A$2:$B$974,2,FALSE()) -> 419692 | O7: =VLOOKUP('Таблица подбора (2)'!O8,Лист3!$A$2:$B$974,2,FALSE()) -> 419698 | R7: 419740 | S7: 419745 | T7: 419740 | W7: =VLOOKUP('Таблица подбора (2)'!W8,Лист3!$A$2:$B$974,2,FALSE()) -> #N/A | X7: 419730 | Y7: 419750 | Z7: 419866 | AB7: 419244 | AC7: 419230 | AD7: 419229
A8: =CONCATENATE(B8,C8,D8) -> 2000300600 | B8: 2000 | C8: 300 | D8: 600 | E8: =VLOOKUP('Таблица подбора (2)'!E9,Лист3!$A$2:$B$974,2,FALSE()) -> 419588 | F8: =VLOOKUP('Таблица подбора (2)'!F9,Лист3!$A$2:$B$974,2,FALSE()) -> 419607 | G8: =VLOOKUP('Таблица подбора (2)'!G9,Лист3!$A$2:$B$974,2,FALSE()) -> 419632 | H8: =VLOOKUP('Таблица подбора (2)'!H9,Лист3!$A$2:$B$974,2,FALSE()) -> 419679 | I8: =VLOOKUP('Таблица подбора (2)'!I9,Лист3!$A$2:$B$974,2,FALSE()) -> 419658 | J8: =VLOOKUP('Таблица подбора (2)'!J9,Лист3!$A$2:$B$974,2,FALSE()) -> 419688 | K8: =VLOOKUP('Таблица подбора (2)'!K9,Лист3!$A$2:$B$974,2,FALSE()) -> 419689 | L8: =VLOOKUP('Таблица подбора (2)'!L9,Лист3!$A$2:$B$974,2,FALSE()) -> 421163 | M8: =VLOOKUP('Таблица подбора (2)'!M9,Лист3!$A$2:$B$974,2,FALSE()) -> 419692 | O8: =VLOOKUP('Таблица подбора (2)'!O9,Лист3!$A$2:$B$974,2,FALSE()) -> 419698 | R8: 419740 | S8: 419745 | T8: 419740 | W8: =VLOOKUP('Таблица подбора (2)'!W9,Лист3!$A$2:$B$974,2,FALSE()) -> #N/A | X8: 419730 | Y8: 419750 | Z8: 419866 | AB8: 419245 | AC8: 419232 | AD8: 419231
A9: =CONCATENATE(B9,C9,D9) -> 1800300800 | B9: 1800 | C9: 300 | D9: 800 | E9: =VLOOKUP('Таблица подбора (2)'!E12,Лист3!$A$2:$B$974,2,FALSE()) -> 419589 | F9: =VLOOKUP('Таблица подбора (2)'!F12,Лист3!$A$2:$B$974,2,FALSE()) -> 419606 | G9: =VLOOKUP('Таблица подбора (2)'!G12,Лист3!$A$2:$B$974,2,FALSE()) -> 419627 | H9: =VLOOKUP('Таблица подбора (2)'!H12,Лист3!$A$2:$B$974,2,FALSE()) -> 419673 | I9: =VLOOKUP('Таблица подбора (2)'!I12,Лист3!$A$2:$B$974,2,FALSE()) -> 419653 | J9: =VLOOKUP('Таблица подбора (2)'!J12,Лист3!$A$2:$B$974,2,FALSE()) -> 419688 | K9: =VLOOKUP('Таблица подбора (2)'!K12,Лист3!$A$2:$B$974,2,FALSE()) -> 419689 | L9: =VLOOKUP('Таблица подбора (2)'!L12,Лист3!$A$2:$B$974,2,FALSE()) -> 421163 | M9: =VLOOKUP('Таблица подбора (2)'!M12,Лист3!$A$2:$B$974,2,FALSE()) -> 419693 | O9: =VLOOKUP('Таблица подбора (2)'!O12,Лист3!$A$2:$B$974,2,FALSE()) -> 419699 | R9: 419741 | S9: 419746 | T9: 419741 | W9: =VLOOKUP('Таблица подбора (2)'!W12,Лист3!$A$2:$B$974,2,FALSE()) -> #N/A | X9: 419731 | Y9: 419750 | Z9: 419867 | AB9: 419244 | AC9: 419230 | AD9: 419229
A10: =CONCATENATE(B10,C10,D10) -> 2000300800 | B10: 2000 | C10: 300 | D10: 800 | E10: =VLOOKUP('Таблица подбора (2)'!E13,Лист3!$A$2:$B$974,2,FALSE()) -> 419589 | F10: =VLOOKUP('Таблица подбора (2)'!F13,Лист3!$A$2:$B$974,2,FALSE()) -> 419607 | G10: =VLOOKUP('Таблица подбора (2)'!G13,Лист3!$A$2:$B$974,2,FALSE()) -> 419632 | H10: =VLOOKUP('Таблица подбора (2)'!H13,Лист3!$A$2:$B$974,2,FALSE()) -> 419679 | I10: =VLOOKUP('Таблица подбора (2)'!I13,Лист3!$A$2:$B$974,2,FALSE()) -> 419659 | J10: =VLOOKUP('Таблица подбора (2)'!J13,Лист3!$A$2:$B$974,2,FALSE()) -> 419688 | K10: =VLOOKUP('Таблица подбора (2)'!K13,Лист3!$A$2:$B$974,2,FALSE()) -> 419689 | L10: =VLOOKUP('Таблица подбора (2)'!L13,Лист3!$A$2:$B$974,2,FALSE()) -> 421163 | M10: =VLOOKUP('Таблица подбора (2)'!M13,Лист3!$A$2:$B$974,2,FALSE()) -> 419693 | O10: =VLOOKUP('Таблица подбора (2)'!O13,Лист3!$A$2:$B$974,2,FALSE()) -> 419699 | R10: 419741 | S10: 419746 | T10: 419741 | W10: =VLOOKUP('Таблица подбора (2)'!W13,Лист3!$A$2:$B$974,2,FALSE()) -> #N/A | X10: 419731 | Y10: 419750 | Z10: 419867 | AB10: 419245 | AC10: 419232 | AD10: 419231
A11: =CONCATENATE(B11,C11,D11) -> 18003001000 | B11: 1800 | C11: 300 | D11: 1000 | E11: =VLOOKUP('Таблица подбора (2)'!E16,Лист3!$A$2:$B$974,2,FALSE()) -> 419585 | F11: =VLOOKUP('Таблица подбора (2)'!F16,Лист3!$A$2:$B$974,2,FALSE()) -> 419606 | G11: =VLOOKUP('Таблица подбора (2)'!G16,Лист3!$A$2:$B$974,2,FALSE()) -> 419627 | H11: =VLOOKUP('Таблица подбора (2)'!H16,Лист3!$A$2:$B$974,2,FALSE()) -> 419673 | I11: =VLOOKUP('Таблица подбора (2)'!I16,Лист3!$A$2:$B$974,2,FALSE()) -> 419648 | J11: =VLOOKUP('Таблица подбора (2)'!J16,Лист3!$A$2:$B$974,2,FALSE()) -> 419688 | K11: =VLOOKUP('Таблица подбора (2)'!K16,Лист3!$A$2:$B$974,2,FALSE()) -> 419689 | L11: =VLOOKUP('Таблица подбора (2)'!L16,Лист3!$A$2:$B$974,2,FALSE()) -> 421163 | M11: =VLOOKUP('Таблица подбора (2)'!M16,Лист3!$A$2:$B$974,2,FALSE()) -> 419694 | O11: =VLOOKUP('Таблица подбора (2)'!O16,Лист3!$A$2:$B$974,2,FALSE()) -> 419700 | R11: 419742 | S11: 419747 | T11: 419742 | W11: =VLOOKUP('Таблица подбора (2)'!W16,Лист3!$A$2:$B$974,2,FALSE()) -> #N/A | X11: 419732 | Y11: 419750 | Z11: 419868 | AB11: 419244 | AC11: 419230 | AD11: 419229
A12: =CONCATENATE(B12,C12,D12) -> 20003001000 | B12: 2000 | C12: 300 | D12: 1000 | E12: =VLOOKUP('Таблица подбора (2)'!E17,Лист3!$A$2:$B$974,2,FALSE()) -> 419585 | F12: =VLOOKUP('Таблица подбора (2)'!F17,Лист3!$A$2:$B$974,2,FALSE()) -> 419607 | G12: =VLOOKUP('Таблица подбора (2)'!G17,Лист3!$A$2:$B$974,2,FALSE()) -> 419632 | H12: =VLOOKUP('Таблица подбора (2)'!H17,Лист3!$A$2:$B$974,2,FALSE()) -> 419679 | I12: =VLOOKUP('Таблица подбора (2)'!I17,Лист3!$A$2:$B$974,2,FALSE()) -> 419654 | J12: =VLOOKUP('Таблица подбора (2)'!J17,Лист3!$A$2:$B$974,2,FALSE()) -> 419688 | K12: =VLOOKUP('Таблица подбора (2)'!K17,Лист3!$A$2:$B$974,2,FALSE()) -> 419689 | L12: =VLOOKUP('Таблица подбора (2)'!L17,Лист3!$A$2:$B$974,2,FALSE()) -> 421163 | M12: =VLOOKUP('Таблица подбора (2)'!M17,Лист3!$A$2:$B$974,2,FALSE()) -> 419694 | O12: =VLOOKUP('Таблица подбора (2)'!O17,Лист3!$A$2:$B$974,2,FALSE()) -> 419700 | R12: 419742 | S12: 419747 | T12: 419742 | W12: =VLOOKUP('Таблица подбора (2)'!W17,Лист3!$A$2:$B$974,2,FALSE()) -> #N/A | X12: 419732 | Y12: 419750 | Z12: 419868 | AB12: 419245 | AC12: 419232 | AD12: 419231
A13: =CONCATENATE(B13,C13,D13) -> 1600400400 | B13: 1600 | C13: 400 | D13: 400 | E13: =VLOOKUP('Таблица подбора (2)'!E19,Лист3!$A$2:$B$974,2,FALSE()) -> 419591 | F13: =VLOOKUP('Таблица подбора (2)'!F19,Лист3!$A$2:$B$974,2,FALSE()) -> 419605 | G13: =VLOOKUP('Таблица подбора (2)'!G19,Лист3!$A$2:$B$974,2,FALSE()) -> 419624 | H13: =VLOOKUP('Таблица подбора (2)'!H19,Лист3!$A$2:$B$974,2,FALSE()) -> 419668 | I13: =VLOOKUP('Таблица подбора (2)'!I19,Лист3!$A$2:$B$974,2,FALSE()) -> 419644 | J13: =VLOOKUP('Таблица подбора (2)'!J19,Лист3!$A$2:$B$974,2,FALSE()) -> 419688 | K13: =VLOOKUP('Таблица подбора (2)'!K19,Лист3!$A$2:$B$974,2,FALSE()) -> 419689 | L13: 419690 | M13: =VLOOKUP('Таблица подбора (2)'!M19,Лист3!$A$2:$B$974,2,FALSE()) -> 419690 | N13: 419696 | O13: =VLOOKUP('Таблица подбора (2)'!O19,Лист3!$A$2:$B$974,2,FALSE()) -> 419696 | P13: =VLOOKUP('Таблица подбора (2)'!P19,Лист3!$A$2:$B$974,2,FALSE()) -> 421768 | R13: 419739 | S13: 419744 | T13: 419739 | U13: 419984 | V13: 419978 | W13: =VLOOKUP('Таблица подбора (2)'!W19,Лист3!$A$2:$B$974,2,FALSE()) -> #N/A | X13: 419728 | Y13: 419739 | Z13: 419864
A14: =CONCATENATE(B14,C14,D14) -> 1800400400 | B14: 1800 | C14: 400 | D14: 400 | E14: =VLOOKUP('Таблица подбора (2)'!E20,Лист3!$A$2:$B$974,2,FALSE()) -> 419591 | F14: =VLOOKUP('Таблица подбора (2)'!F20,Лист3!$A$2:$B$974,2,FALSE()) -> 419606 | G14: =VLOOKUP('Таблица подбора (2)'!G20,Лист3!$A$2:$B$974,2,FALSE()) -> 419628 | H14: =VLOOKUP('Таблица подбора (2)'!H20,Лист3!$A$2:$B$974,2,FALSE()) -> 419674 | I14: =VLOOKUP('Таблица подбора (2)'!I20,Лист3!$A$2:$B$974,2,FALSE()) -> 419650 | J14: =VLOOKUP('Таблица подбора (2)'!J20,Лист3!$A$2:$B$974,2,FALSE()) -> 419688 | K14: =VLOOKUP('Таблица подбора (2)'!K20,Лист3!$A$2:$B$974,2,FALSE()) -> 419689 | L14: =VLOOKUP('Таблица подбора (2)'!L20,Лист3!$A$2:$B$974,2,FALSE()) -> 419690 | ... P14: =VLOOKUP('Таблица подбора (2)'!P20,Лист3!$A$2:$B$974,2,FALSE()) -> 419705 | R14: 419739 | S14: 419744 | T14: 419739 | U14: 419984 | V14: 419978 | W14: =VLOOKUP('Таблица подбора (2)'!W20,Лист3!$A$2:$B$974,2,FALSE()) -> #N/A | X14: 419728 | Y14: 419739 | Z14: 419864 | AB14: 419244 | AC14: 419230 | AD14: 419229 | AE14: 420041 | AF14: 420053 | AH14: 420053
A15: =CONCATENATE(B15,C15,D15) -> 2000400400 | B15: 2000 | C15: 400 | D15: 400 | E15: =VLOOKUP('Таблица подбора (2)'!E21,Лист3!$A$2:$B$974,2,FALSE()) -> 419591 | F15: =VLOOKUP('Таблица подбора (2)'!F21,Лист3!$A$2:$B$974,2,FALSE()) -> 419607 | G15: =VLOOKUP('Таблица подбора (2)'!G21,Лист3!$A$2:$B$974,2,FALSE()) -> 419633 | H15: =VLOOKUP('Таблица подбора (2)'!H21,Лист3!$A$2:$B$974,2,FALSE()) -> 419680 | I15: =VLOOKUP('Таблица подбора (2)'!I21,Лист3!$A$2:$B$974,2,FALSE()) -> 419656 | J15: =VLOOKUP('Таблица подбора (2)'!J21,Лист3!$A$2:$B$974,2,FALSE()) -> 419688 | K15: =VLOOKUP('Таблица подбора (2)'!K21,Лист3!$A$2:$B$974,2,FALSE()) -> 419689 | L15: =VLOOKUP('Таблица подбора (2)'!L21,Лист3!$A$2:$B$974,2,FALSE()) -> 419690 | ... P15: =VLOOKUP('Таблица подбора (2)'!P21,Лист3!$A$2:$B$974,2,FALSE()) -> 419714 | R15: 419739 | S15: 419744 | T15: 419739 | U15: 419984 | V15: 419978 | W15: =VLOOKUP('Таблица подбора (2)'!W21,Лист3!$A$2:$B$974,2,FALSE()) -> #N/A | X15: 419728 | Y15: 419739 | Z15: 419864 | AB15: 419245 | AC15: 419232 | AD15: 419231 | AE15: 420045 | AF15: 420056 | AH15: 420056
A16: =CONCATENATE(B16,C16,D16) -> 2200400400 | B16: 2200 | C16: 400 | D16: 400 | E16: =VLOOKUP('Таблица подбора (2)'!E22,Лист3!$A$2:$B$974,2,FALSE()) -> 419591 | F16: =VLOOKUP('Таблица подбора (2)'!F22,Лист3!$A$2:$B$974,2,FALSE()) -> 419608 | G16: =VLOOKUP('Таблица подбора (2)'!G22,Лист3!$A$2:$B$974,2,FALSE()) -> 419639 | H16: =VLOOKUP('Таблица подбора (2)'!H22,Лист3!$A$2:$B$974,2,FALSE()) -> 419685 | I16: =VLOOKUP('Таблица подбора (2)'!I22,Лист3!$A$2:$B$974,2,FALSE()) -> 419662 | J16: =VLOOKUP('Таблица подбора (2)'!J22,Лист3!$A$2:$B$974,2,FALSE()) -> 419688 | K16: =VLOOKUP('Таблица подбора (2)'!K22,Лист3!$A$2:$B$974,2,FALSE()) -> 419689 | L16: =VLOOKUP('Таблица подбора (2)'!L22,Лист3!$A$2:$B$974,2,FALSE()) -> 419690 | ... P16: =VLOOKUP('Таблица подбора (2)'!P22,Лист3!$A$2:$B$974,2,FALSE()) -> 419722 | R16: 419739 | S16: 419744 | T16: 419739 | U16: 419984 | V16: 419978 | W16: =VLOOKUP('Таблица подбора (2)'!W22,Лист3!$A$2:$B$974,2,FALSE()) -> #N/A | X16: 419728 | Y16: 419739 | Z16: 419864 | AB16: 419246 | AC16: 419234 | AD16: 419233 | AE16: 420049 | AF16: 420059 | AH16: 420059
A17: =CONCATENATE(B17,C17,D17) -> 1600400500 | B17: 1600 | C17: 400 | D17: 500 | E17: 419592 | F17: 419605 | G17: 419624 | H17: 419668 | I17: 419645 | J17: 419688 | K17: 419689 | L17: 419690 | M17: 419691 | N17: 419696 | O17: 419697 | P17: 421768 | R17: 419729 | U17: 419984 | V17: 419978 | X17: 419729 | Y17: 419739 | Z17: 419865
A18: =CONCATENATE(B18,C18,D18) -> 1800400500 | B18: 1800 | C18: 400 | D18: 500 | E18: 419592 | F18: 419606 | G18: 419628 | H18: 419674 | I18: 419651 | J18: 419688 | K18: 419689 | L18: 419690 | M18: 419691 | N18: 419696 | O18: 419697 | P18: 419705 | R18: 419729 | U18: 419984 | V18: 419978 | X18: 419729 | Y18: 419739 | Z18: 419865 | AB18: 419244 | AC18: 419230 | AD18: 419229
A19: =CONCATENATE(B19,C19,D19) -> 2000400500 | B19: 2000 | C19: 400 | D19: 500 | E19: 419592 | F19: 419607 | G19: 419633 | H19: 419680 | I19: 419657 | J19: 419688 | K19: 419689 | L19: 419690 | M19: 419691 | N19: 419696 | O19: 419697 | P19: 419714 | R19: 419729 | U19: 419984 | V19: 419978 | X19: 419729 | Y19: 419739 | Z19: 419865 | AB19: 419245 | AC19: 419232 | AD19: 419231
A20: =CONCATENATE(B20,C20,D20) -> 2200400500 | B20: 2200 | C20: 400 | D20: 500 | E20: 419592 | F20: 419608 | G20: 419639 | H20: 419685 | I20: 419663 | J20: 419688 | K20: 419689 | L20: 419690 | M20: 419691 | N20: 419696 | O20: 419697 | P20: 419722 | R20: 419729 | U20: 419984 | V20: 419978 | X20: 419729 | Y20: 419739 | Z20: 419865 | AB20: 419246 | AC20: 419234 | AD20: 419233
A21: =CONCATENATE(B21,C21,D21) -> 1600400600 | B21: 1600 | C21: 400 | D21: 600 | E21: =VLOOKUP('Таблица подбора (2)'!E23,Лист3!$A$2:$B$974,2,FALSE()) -> 419593 | F21: =VLOOKUP('Таблица подбора (2)'!F23,Лист3!$A$2:$B$974,2,FALSE()) -> 419605 | G21: =VLOOKUP('Таблица подбора (2)'!G23,Лист3!$A$2:$B$974,2,FALSE()) -> 419624 | H21: =VLOOKUP('Таблица подбора (2)'!H23,Лист3!$A$2:$B$974,2,FALSE()) -> 419668 | I21: =VLOOKUP('Таблица подбора (2)'!I23,Лист3!$A$2:$B$974,2,FALSE()) -> 419646 | J21: =VLOOKUP('Таблица подбора (2)'!J23,Лист3!$A$2:$B$974,2,FALSE()) -> 419688 | K21: =VLOOKUP('Таблица подбора (2)'!K23,Лист3!$A$2:$B$974,2,FALSE()) -> 419689 | L21: 419690 | M21: 419692 | N21: 419696 | O21: 419698 | P21: =VLOOKUP('Таблица подбора (2)'!P23,Лист3!$A$2:$B$974,2,FALSE()) -> 421768 | R21: 419740 | S21: 419745 | T21: 419740 | U21: 419984 | V21: 419978 | W21: =VLOOKUP('Таблица подбора (2)'!W23,Лист3!$A$2:$B$974,2,FALSE()) -> #N/A | X21: 419730 | Y21: 419739 | Z21: 419866
A22: =CONCATENATE(B22,C22,D22) -> 1800400600 | B22: 1800 | C22: 400 | D22: 600 | E22: =VLOOKUP('Таблица подбора (2)'!E24,Лист3!$A$2:$B$974,2,FALSE()) -> 419593 | F22: =VLOOKUP('Таблица подбора (2)'!F24,Лист3!$A$2:$B$974,2,FALSE()) -> 419606 | G22: =VLOOKUP('Таблица подбора (2)'!G24,Лист3!$A$2:$B$974,2,FALSE()) -> 419628 | H22: =VLOOKUP('Таблица подбора (2)'!H24,Лист3!$A$2:$B$974,2,FALSE()) -> 419674 | I22: =VLOOKUP('Таблица подбора (2)'!I24,Лист3!$A$2:$B$974,2,FALSE()) -> 419652 | J22: =VLOOKUP('Таблица подбора (2)'!J24,Лист3!$A$2:$B$974,2,FALSE()) -> 419688 | K22: =VLOOKUP('Таблица подбора (2)'!K24,Лист3!$A$2:$B$974,2,FALSE()) -> 419689 | L22: =VLOOKUP('Таблица подбора (2)'!L24,Лист3!$A$2:$B$974,2,FALSE()) -> 419690 | M22: =VLOOKUP('Таблица подбора (2)'!M24,Лист3!$A$2:$B$974,2,FALSE()) -> 419692 | N22: 419696 | O22: =VLOOKUP('Таблица подбора (2)'!O24,Лист3!$A$2:$B$974,2,FALSE()) -> 419698 | P22: =VLOOKUP('Таблица подбора (2)'!P24,Лист3!$A$2:$B$974,2,FALSE()) -> 419705 | R22: 419740 | S22: 419745 | T22: 419740 | U22: 419984 | V22: 419978 | W22: =VLOOKUP('Таблица подбора (2)'!W24,Лист3!$A$2:$B$974,2,FALSE()) -> #N/A | X22: 419730 | Y22: 419739 | Z22: 419866 | AB22: 419244 | AC22: 419230 | AD22: 419229 | AE22: 420042 | AF22: 420053 | AH22: 420053
A23: =CONCATENATE(B23,C23,D23) -> 2000400600 | B23: 2000 | C23: 400 | D23: 600 | E23: =VLOOKUP('Таблица подбора (2)'!E25,Лист3!$A$2:$B$974,2,FALSE()) -> 419593 | F23: =VLOOKUP('Таблица подбора (2)'!F25,Лист3!$A$2:$B$974,2,FALSE()) -> 419607 | G23: =VLOOKUP('Таблица подбора (2)'!G25,Лист3!$A$2:$B$974,2,FALSE()) -> 419633 | H23: =VLOOKUP('Таблица подбора (2)'!H25,Лист3!$A$2:$B$974,2,FALSE()) -> 419680 | I23: =VLOOKUP('Таблица подбора (2)'!I25,Лист3!$A$2:$B$974,2,FALSE()) -> 419658 | J23: =VLOOKUP('Таблица подбора (2)'!J25,Лист3!$A$2:$B$974,2,FALSE()) -> 419688 | K23: =VLOOKUP('Таблица подбора (2)'!K25,Лист3!$A$2:$B$974,2,FALSE()) -> 419689 | L23: =VLOOKUP('Таблица подбора (2)'!L25,Лист3!$A$2:$B$974,2,FALSE()) -> 419690 | M23: =VLOOKUP('Таблица подбора (2)'!M25,Лист3!$A$2:$B$974,2,FALSE()) -> 419692 | N23: 419696 | O23: =VLOOKUP('Таблица подбора (2)'!O25,Лист3!$A$2:$B$974,2,FALSE()) -> 419698 | P23: =VLOOKUP('Таблица подбора (2)'!P25,Лист3!$A$2:$B$974,2,FALSE()) -> 419714 | R23: 419740 | S23: 419745 | T23: 419740 | U23: 419984 | V23: 419978 | W23: =VLOOKUP('Таблица подбора (2)'!W25,Лист3!$A$2:$B$974,2,FALSE()) -> #N/A | X23: 419730 | Y23: 419739 | Z23: 419866 | AB23: 419245 | AC23: 419232 | AD23: 419231 | AE23: 420046 | AF23: 420056 | AH23: 420056
A24: =CONCATENATE(B24,C24,D24) -> 2200400600 | B24: 2200 | C24: 400 | D24: 600 | E24: =VLOOKUP('Таблица подбора (2)'!E26,Лист3!$A$2:$B$974,2,FALSE()) -> 419593 | F24: =VLOOKUP('Таблица подбора (2)'!F26,Лист3!$A$2:$B$974,2,FALSE()) -> 419608 | G24: =VLOOKUP('Таблица подбора (2)'!G26,Лист3!$A$2:$B$974,2,FALSE()) -> 419639 | H24: =VLOOKUP('Таблица подбора (2)'!H26,Лист3!$A$2:$B$974,2,FALSE()) -> 419685 | I24: =VLOOKUP('Таблица подбора (2)'!I26,Лист3!$A$2:$B$974,2,FALSE()) -> 419664 | J24: =VLOOKUP('Таблица подбора (2)'!J26,Лист3!$A$2:$B$974,2,FALSE()) -> 419688 | K24: =VLOOKUP('Таблица подбора (2)'!K26,Лист3!$A$2:$B$974,2,FALSE()) -> 419689 | L24: =VLOOKUP('Таблица подбора (2)'!L26,Лист3!$A$2:$B$974,2,FALSE()) -> 419690 | M24: =VLOOKUP('Таблица подбора (2)'!M26,Лист3!$A$2:$B$974,2,FALSE()) -> 419692 | N24: 419696 | O24: =VLOOKUP('Таблица подбора (2)'!O26,Лист3!$A$2:$B$974,2,FALSE()) -> 419698 | P24: =VLOOKUP('Таблица подбора (2)'!P26,Лист3!$A$2:$B$974,2,FALSE()) -> 419722 | R24: 419740 | S24: 419745 | T24: 419740 | U24: 419984 | V24: 419978 | W24: =VLOOKUP('Таблица подбора (2)'!W26,Лист3!$A$2:$B$974,2,FALSE()) -> #N/A | X24: 419730 | Y24: 419739 | Z24: 419866 | AB24: 419246 | AC24: 419234 | AD24: 419233 | AE24: 420050 | AF24: 420059 | AH24: 420059
A25: =CONCATENATE(B25,C25,D25) -> 1600400800 | B25: 1600 | C25: 400 | D25: 800 | E25: =VLOOKUP('Таблица подбора (2)'!E27,Лист3!$A$2:$B$974,2,FALSE()) -> 419594 | F25: =VLOOKUP('Таблица подбора (2)'!F27,Лист3!$A$2:$B$974,2,FALSE()) -> 419605 | G25: =VLOOKUP('Таблица подбора (2)'!G27,Лист3!$A$2:$B$974,2,FALSE()) -> 419624 | H25: =VLOOKUP('Таблица подбора (2)'!H27,Лист3!$A$2:$B$974,2,FALSE()) -> 419668 | I25: =VLOOKUP('Таблица подбора (2)'!I27,Лист3!$A$2:$B$974,2,FALSE()) -> 419647 | J25: =VLOOKUP('Таблица подбора (2)'!J27,Лист3!$A$2:$B$974,2,FALSE()) -> 419688 | K25: =VLOOKUP('Таблица подбора (2)'!K27,Лист3!$A$2:$B$974,2,FALSE()) -> 419689 | L25: 419690 | M25: 419693 | N25: 419696 | O25: 419699 | P25: =VLOOKUP('Таблица подбора (2)'!P27,Лист3!$A$2:$B$974,2,FALSE()) -> 421768 | R25: 419741 | S25: 419746 | T25: 419741 | U25: 419984 | V25: 419978 | W25: =VLOOKUP('Таблица подбора (2)'!W27,Лист3!$A$2:$B$974,2,FALSE()) -> #N/A | X25: 419731 | Y25: 419739 | Z25: 419867
A26: =CONCATENATE(B26,C26,D26) -> 1800400800 | B26: 1800 | C26: 400 | D26: 800 | E26: =VLOOKUP('Таблица подбора (2)'!E28,Лист3!$A$2:$B$974,2,FALSE()) -> 419594 | F26: =VLOOKUP('Таблица подбора (2)'!F28,Лист3!$A$2:$B$974,2,FALSE()) -> 419606 | G26: =VLOOKUP('Таблица подбора (2)'!G28,Лист3!$A$2:$B$974,2,FALSE()) -> 419628 | H26: =VLOOKUP('Таблица подбора (2)'!H28,Лист3!$A$2:$B$974,2,FALSE()) -> 419674 | I26: =VLOOKUP('Таблица подбора (2)'!I28,Лист3!$A$2:$B$974,2,FALSE()) -> 419653 | J26: =VLOOKUP('Таблица подбора (2)'!J28,Лист3!$A$2:$B$974,2,FALSE()) -> 419688 | K26: =VLOOKUP('Таблица подбора (2)'!K28,Лист3!$A$2:$B$974,2,FALSE()) -> 419689 | L26: =VLOOKUP('Таблица подбора (2)'!L28,Лист3!$A$2:$B$974,2,FALSE()) -> 419690 | M26: =VLOOKUP('Таблица подбора (2)'!M28,Лист3!$A$2:$B$974,2,FALSE()) -> 419693 | N26: 419696 | O26: =VLOOKUP('Таблица подбора (2)'!O28,Лист3!$A$2:$B$974,2,FALSE()) -> 419699 | P26: =VLOOKUP('Таблица подбора (2)'!P28,Лист3!$A$2:$B$974,2,FALSE()) -> 419705 | R26: 419741 | S26: 419746 | T26: 419741 | U26: 419984 | V26: 419978 | W26: =VLOOKUP('Таблица подбора (2)'!W28,Лист3!$A$2:$B$974,2,FALSE()) -> #N/A | X26: 419731 | Y26: 419739 | Z26: 419867 | AB26: 419244 | AC26: 419230 | AD26: 419229 | AE26: 420043 | AF26: 420053 | AH26: 420053
A27: =CONCATENATE(B27,C27,D27) -> 2000400800 | B27: 2000 | C27: 400 | D27: 800 | E27: =VLOOKUP('Таблица подбора (2)'!E29,Лист3!$A$2:$B$974,2,FALSE()) -> 419594 | F27: =VLOOKUP('Таблица подбора (2)'!F29,Лист3!$A$2:$B$974,2,FALSE()) -> 419607 | G27: =VLOOKUP('Таблица подбора (2)'!G29,Лист3!$A$2:$B$974,2,FALSE()) -> 419633 | H27: =VLOOKUP('Таблица подбора (2)'!H29,Лист3!$A$2:$B$974,2,FALSE()) -> 419680 | I27: =VLOOKUP('Таблица подбора (2)'!I29,Лист3!$A$2:$B$974,2,FALSE()) -> 419659 | J27: =VLOOKUP('Таблица подбора (2)'!J29,Лист3!$A$2:$B$974,2,FALSE()) -> 419688 | K27: =VLOOKUP('Таблица подбора (2)'!K29,Лист3!$A$2:$B$974,2,FALSE()) -> 419689 | L27: =VLOOKUP('Таблица подбора (2)'!L29,Лист3!$A$2:$B$974,2,FALSE()) -> 419690 | M27: =VLOOKUP('Таблица подбора (2)'!M29,Лист3!$A$2:$B$974,2,FALSE()) -> 419693 | N27: 419696 | O27: =VLOOKUP('Таблица подбора (2)'!O29,Лист3!$A$2:$B$974,2,FALSE()) -> 419699 | P27: =VLOOKUP('Таблица подбора (2)'!P29,Лист3!$A$2:$B$974,2,FALSE()) -> 419714 | R27: 419741 | S27: 419746 | T27: 419741 | U27: 419984 | V27: 419978 | W27: =VLOOKUP('Таблица подбора (2)'!W29,Лист3!$A$2:$B$974,2,FALSE()) -> #N/A | X27: 419731 | Y27: 419739 | Z27: 419867 | AB27: 419245 | AC27: 419232 | AD27: 419231 | AE27: 420047 | AF27: 420056 | AH27: 420056
A28: =CONCATENATE(B28,C28,D28) -> 2200400800 | B28: 2200 | C28: 400 | D28: 800 | E28: =VLOOKUP('Таблица подбора (2)'!E30,Лист3!$A$2:$B$974,2,FALSE()) -> 419594 | F28: =VLOOKUP('Таблица подбора (2)'!F30,Лист3!$A$2:$B$974,2,FALSE()) -> 419608 | G28: =VLOOKUP('Таблица подбора (2)'!G30,Лист3!$A$2:$B$974,2,FALSE()) -> 419639 | H28: =VLOOKUP('Таблица подбора (2)'!H30,Лист3!$A$2:$B$974,2,FALSE()) -> 419685 | I28: =VLOOKUP('Таблица подбора (2)'!I30,Лист3!$A$2:$B$974,2,FALSE()) -> 419665 | J28: =VLOOKUP('Таблица подбора (2)'!J30,Лист3!$A$2:$B$974,2,FALSE()) -> 419688 | K28: =VLOOKUP('Таблица подбора (2)'!K30,Лист3!$A$2:$B$974,2,FALSE()) -> 419689 | L28: =VLOOKUP('Таблица подбора (2)'!L30,Лист3!$A$2:$B$974,2,FALSE()) -> 419690 | M28: =VLOOKUP('Таблица подбора (2)'!M30,Лист3!$A$2:$B$974,2,FALSE()) -> 419693 | N28: 419696 | O28: =VLOOKUP('Таблица подбора (2)'!O30,Лист3!$A$2:$B$974,2,FALSE()) -> 419699 | P28: =VLOOKUP('Таблица подбора (2)'!P30,Лист3!$A$2:$B$974,2,FALSE()) -> 419722 | R28: 419741 | S28: 419746 | T28: 419741 | U28: 419984 | V28: 419978 | W28: =VLOOKUP('Таблица подбора (2)'!W30,Лист3!$A$2:$B$974,2,FALSE()) -> #N/A | X28: 419731 | Y28: 419739 | Z28: 419867 | AB28: 419246 | AC28: 419234 | AD28: 419233 | AE28: 420051 | AF28: 420059 | AH28: 420059
A29: =CONCATENATE(B29,C29,D29) -> 16004001000 | B29: 1600 | C29: 400 | D29: 1000 | E29: =VLOOKUP('Таблица подбора (2)'!E31,Лист3!$A$2:$B$974,2,FALSE()) -> 419590 | F29: =VLOOKUP('Таблица подбора (2)'!F31,Лист3!$A$2:$B$974,2,FALSE()) -> 419605 | G29: =VLOOKUP('Таблица подбора (2)'!G31,Лист3!$A$2:$B$974,2,FALSE()) -> 419624 | H29: =VLOOKUP('Таблица подбора (2)'!H31,Лист3!$A$2:$B$974,2,FALSE()) -> 419668 | I29: 419642 | J29: =VLOOKUP('Таблица подбора (2)'!J31,Лист3!$A$2:$B$974,2,FALSE()) -> 419688 | K29: =VLOOKUP('Таблица подбора (2)'!K31,Лист3!$A$2:$B$974,2,FALSE()) -> 419689 | L29: 419690 | M29: 419694 | N29: 419696 | O29: 419700 | P29: =VLOOKUP('Таблица подбора (2)'!P31,Лист3!$A$2:$B$974,2,FALSE()) -> 421768 | R29: 419742 | S29: 419747 | T29: 419742 | U29: 419984 | V29: 419978 | W29: =VLOOKUP('Таблица подбора (2)'!W31,Лист3!$A$2:$B$974,2,FALSE()) -> #N/A | X29: 419732 | Y29: 419739 | Z29: 419868
A30: =CONCATENATE(B30,C30,D30) -> 18004001000 | B30: 1800 | C30: 400 | D30: 1000 | E30: =VLOOKUP('Таблица подбора (2)'!E32,Лист3!$A$2:$B$974,2,FALSE()) -> 419590 | F30: =VLOOKUP('Таблица подбора (2)'!F32,Лист3!$A$2:$B$974,2,FALSE()) -> 419606 | G30: =VLOOKUP('Таблица подбора (2)'!G32,Лист3!$A$2:$B$974,2,FALSE()) -> 419628 | H30: =VLOOKUP('Таблица подбора (2)'!H32,Лист3!$A$2:$B$974,2,FALSE()) -> 419674 | I30: =VLOOKUP('Таблица подбора (2)'!I32,Лист3!$A$2:$B$974,2,FALSE()) -> 419648 | J30: =VLOOKUP('Таблица подбора (2)'!J32,Лист3!$A$2:$B$974,2,FALSE()) -> 419688 | K30: =VLOOKUP('Таблица подбора (2)'!K32,Лист3!$A$2:$B$974,2,FALSE()) -> 419689 | L30: =VLOOKUP('Таблица подбора (2)'!L32,Лист3!$A$2:$B$974,2,FALSE()) -> 419690 | M30: =VLOOKUP('Таблица подбора (2)'!M32,Лист3!$A$2:$B$974,2,FALSE()) -> 419694 | N30: 419696 | O30: =VLOOKUP('Таблица подбора (2)'!O32,Лист3!$A$2:$B$974,2,FALSE()) -> 419700 | P30: =VLOOKUP('Таблица подбора (2)'!P32,Лист3!$A$2:$B$974,2,FALSE()) -> 419705 | R30: 419742 | S30: 419747 | T30: 419742 | U30: 419984 | V30: 419978 | W30: =VLOOKUP('Таблица подбора (2)'!W32,Лист3!$A$2:$B$974,2,FALSE()) -> #N/A | X30: 419732 | Y30: 419739 | Z30: 419868 | AB30: 419244 | AC30: 419230 | AD30: 419229 | AE30: 420044 | AF30: 420053 | AH30: 420053
A31: =CONCATENATE(B31,C31,D31) -> 20004001000 | B31: 2000 | C31: 400 | D31: 1000 | E31: =VLOOKUP('Таблица подбора (2)'!E33,Лист3!$A$2:$B$974,2,FALSE()) -> 419590 | F31: =VLOOKUP('Таблица подбора (2)'!F33,Лист3!$A$2:$B$974,2,FALSE()) -> 419607 | G31: =VLOOKUP('Таблица подбора (2)'!G33,Лист3!$A$2:$B$974,2,FALSE()) -> 419633 | H31: =VLOOKUP('Таблица подбора (2)'!H33,Лист3!$A$2:$B$974,2,FALSE()) -> 419680 | I31: =VLOOKUP('Таблица подбора (2)'!I33,Лист3!$A$2:$B$974,2,FALSE()) -> 419654 | J31: =VLOOKUP('Таблица подбора (2)'!J33,Лист3!$A$2:$B$974,2,FALSE()) -> 419688 | K31: =VLOOKUP('Таблица подбора (2)'!K33,Лист3!$A$2:$B$974,2,FALSE()) -> 419689 | L31: =VLOOKUP('Таблица подбора (2)'!L33,Лист3!$A$2:$B$974,2,FALSE()) -> 419690 | M31: =VLOOKUP('Таблица подбора (2)'!M33,Лист3!$A$2:$B$974,2,FALSE()) -> 419694 | N31: 419696 | O31: =VLOOKUP('Таблица подбора (2)'!O33,Лист3!$A$2:$B$974,2,FALSE()) -> 419700 | P31: =VLOOKUP('Таблица подбора (2)'!P33,Лист3!$A$2:$B$974,2,FALSE()) -> 419714 | R31: 419742 | S31: 419747 | T31: 419742 | U31: 419984 | V31: 419978 | W31: =VLOOKUP('Таблица подбора (2)'!W33,Лист3!$A$2:$B$974,2,FALSE()) -> #N/A | X31: 419732 | Y31: 419739 | Z31: 419868 | AB31: 419245 | AC31: 419232 | AD31: 419231 | AE31: 420048 | AF31: 420056 | AH31: 420056
A32: =CONCATENATE(B32,C32,D32) -> 22004001000 | B32: 2200 | C32: 400 | D32: 1000 | E32: =VLOOKUP('Таблица подбора (2)'!E34,Лист3!$A$2:$B$974,2,FALSE()) -> 419590 | F32: =VLOOKUP('Таблица подбора (2)'!F34,Лист3!$A$2:$B$974,2,FALSE()) -> 419608 | G32: =VLOOKUP('Таблица подбора (2)'!G34,Лист3!$A$2:$B$974,2,FALSE()) -> 419639 | H32: =VLOOKUP('Таблица подбора (2)'!H34,Лист3!$A$2:$B$974,2,FALSE()) -> 419685 | I32: =VLOOKUP('Таблица подбора (2)'!I34,Лист3!$A$2:$B$974,2,FALSE()) -> 419660 | J32: =VLOOKUP('Таблица подбора (2)'!J34,Лист3!$A$2:$B$974,2,FALSE()) -> 419688 | K32: =VLOOKUP('Таблица подбора (2)'!K34,Лист3!$A$2:$B$974,2,FALSE()) -> 419689 | L32: =VLOOKUP('Таблица подбора (2)'!L34,Лист3!$A$2:$B$974,2,FALSE()) -> 419690 | M32: =VLOOKUP('Таблица подбора (2)'!M34,Лист3!$A$2:$B$974,2,FALSE()) -> 419694 | N32: 419696 | O32: =VLOOKUP('Таблица подбора (2)'!O34,Лист3!$A$2:$B$974,2,FALSE()) -> 419700 | P32: =VLOOKUP('Таблица подбора (2)'!P34,Лист3!$A$2:$B$974,2,FALSE()) -> 419722 | R32: 419742 | S32: 419747 | T32: 419742 | U32: 419984 | V32: 419978 | W32: =VLOOKUP('Таблица подбора (2)'!W34,Лист3!$A$2:$B$974,2,FALSE()) -> #N/A | X32: 419732 | Y32: 419739 | Z32: 419868 | AB32: 419246 | AC32: 419234 | AD32: 419233 | AE32: 420052 | AF32: 420059 | AH32: 420059
A33: =CONCATENATE(B33,C33,D33) -> 1600600400 | B33: 1600 | C33: 600 | D33: 400 | E33: =VLOOKUP('Таблица подбора (2)'!E35,Лист3!$A$2:$B$974,2,FALSE()) -> 419596 | F33: =VLOOKUP('Таблица подбора (2)'!F35,Лист3!$A$2:$B$974,2,FALSE()) -> 419605 | G33: =VLOOKUP('Таблица подбора (2)'!G35,Лист3!$A$2:$B$974,2,FALSE()) -> 419625 | H33: =VLOOKUP('Таблица подбора (2)'!H35,Лист3!$A$2:$B$974,2,FALSE()) -> 419669 | I33: =VLOOKUP('Таблица подбора (2)'!I35,Лист3!$A$2:$B$974,2,FALSE()) -> 419644 | J33: =VLOOKUP('Таблица подбора (2)'!J35,Лист3!$A$2:$B$974,2,FALSE()) -> 419688 | K33: =VLOOKUP('Таблица подбора (2)'!K35,Лист3!$A$2:$B$974,2,FALSE()) -> 419689 | L33: 419692 | M33: =VLOOKUP('Таблица подбора (2)'!M35,Лист3!$A$2:$B$974,2,FALSE()) -> 419690 | N33: 419698 | O33: =VLOOKUP('Таблица подбора (2)'!O35,Лист3!$A$2:$B$974,2,FALSE()) -> 419696 | P33: =VLOOKUP('Таблица подбора (2)'!P35,Лист3!$A$2:$B$974,2,FALSE()) -> 421769 | Q33: 419159 | R33: 419739 | S33: 419744 | T33: 419739 | U33: 419985 | V33: 419979 | W33: =VLOOKUP('Таблица подбора (2)'!W35,Лист3!$A$2:$B$974,2,FALSE()) -> #N/A | X33: 419728 | Y33: 419740 | Z33: 419864 | AA33: 419159
A34: =CONCATENATE(B34,C34,D34) -> 1800600400 | B34: 1800 | C34: 600 | D34: 400 | E34: =VLOOKUP('Таблица подбора (2)'!E36,Лист3!$A$2:$B$974,2,FALSE()) -> 419596 | F34: =VLOOKUP('Таблица подбора (2)'!F36,Лист3!$A$2:$B$974,2,FALSE()) -> 419606 | G34: =VLOOKUP('Таблица подбора (2)'!G36,Лист3!$A$2:$B$974,2,FALSE()) -> 419629 | H34: =VLOOKUP('Таблица подбора (2)'!H36,Лист3!$A$2:$B$974,2,FALSE()) -> 419675 | I34: =VLOOKUP('Таблица подбора (2)'!I36,Лист3!$A$2:$B$974,2,FALSE()) -> 419650 | J34: =VLOOKUP('Таблица подбора (2)'!J36,Лист3!$A$2:$B$974,2,FALSE()) -> 419688 | K34: =VLOOKUP('Таблица подбора (2)'!K36,Лист3!$A$2:$B$974,2,FALSE()) -> 419689 | L34: =VLOOKUP('Таблица подбора (2)'!L36,Лист3!$A$2:$B$974,2,FALSE()) -> 419692 | M34: =VLOOKUP('Таблица подбора (2)'!M36,Лист3!$A$2:$B$974,2,FALSE()) -> 419690 | N34: 419698 | O34: =VLOOKUP('Таблица подбора (2)'!O36,Лист3!$A$2:$B$974,2,FALSE()) -> 419696 | P34: =VLOOKUP('Таблица подбора (2)'!P36,Лист3!$A$2:$B$974,2,FALSE()) -> 419707 | Q34: 419159 | R34: 419739 | S34: 419744 | T34: 419739 | U34: 419985 | V34: 419979 | W34: =VLOOKUP('Таблица подбора (2)'!W36,Лист3!$A$2:$B$974,2,FALSE()) -> #N/A | X34: 419728 | Y34: 419740 | Z34: 419864 | AA34: 419159 | AB34: 419244 | AC34: 419230 | AD34: 419229 | AE34: 420041 | AF34: 420053 | AG34: 420054 | AH34: 420054 | AI34: 420053
